BEGIN:VCALENDAR
VERSION:2.0
PRODID:-//Missouri Humanities - ECPv6.15.20//NONSGML v1.0//EN
CALSCALE:GREGORIAN
METHOD:PUBLISH
X-WR-CALNAME:Missouri Humanities
X-ORIGINAL-URL:https://mohumanities.org
X-WR-CALDESC:Events for Missouri Humanities
REFRESH-INTERVAL;VALUE=DURATION:PT1H
X-Robots-Tag:noindex
X-PUBLISHED-TTL:PT1H
BEGIN:VTIMEZONE
TZID:America/Chicago
BEGIN:DAYLIGHT
TZOFFSETFROM:-0600
TZOFFSETTO:-0500
TZNAME:CDT
DTSTART:20250309T080000
END:DAYLIGHT
BEGIN:STANDARD
TZOFFSETFROM:-0500
TZOFFSETTO:-0600
TZNAME:CST
DTSTART:20251102T070000
END:STANDARD
BEGIN:DAYLIGHT
TZOFFSETFROM:-0600
TZOFFSETTO:-0500
TZNAME:CDT
DTSTART:20260308T080000
END:DAYLIGHT
BEGIN:STANDARD
TZOFFSETFROM:-0500
TZOFFSETTO:-0600
TZNAME:CST
DTSTART:20261101T070000
END:STANDARD
BEGIN:DAYLIGHT
TZOFFSETFROM:-0600
TZOFFSETTO:-0500
TZNAME:CDT
DTSTART:20270314T080000
END:DAYLIGHT
BEGIN:STANDARD
TZOFFSETFROM:-0500
TZOFFSETTO:-0600
TZNAME:CST
DTSTART:20271107T070000
END:STANDARD
END:VTIMEZONE
BEGIN:VEVENT
DTSTART;VALUE=DATE:20260710
DTEND;VALUE=DATE:20260712
DTSTAMP:20260425T141232
CREATED:20260423T172111Z
LAST-MODIFIED:20260423T172111Z
UID:10003551-1783641600-1783814399@mohumanities.org
SUMMARY:MO-TELL's Annual Liars Contest
DESCRIPTION:MOTELL\, Missouri Storytelling organization\, will be holding their annual Liars Contest July 10&11. Friday night we will open with a free storytelling concert with nationally renowned storytellers and local live music. Saturday will begin at 9:30 with a free workshop on storytelling. The contest will begin at 2:00. Come hear the whoppers and see who wins bragging rights for Missouri’s biggest liar.
URL:https://mohumanities.org/event/mo-tells-annual-liars-contest/
LOCATION:Joplin Avenue Coffee Company\, 506 S. Joplin Ave.\, Joplin\, 64801
CATEGORIES:Around Our Community
END:VEVENT
END:VCALENDAR