BEGIN:VCALENDAR
VERSION:2.0
PRODID:-//Missouri Humanities - ECPv6.15.20//NONSGML v1.0//EN
CALSCALE:GREGORIAN
METHOD:PUBLISH
X-ORIGINAL-URL:https://mohumanities.org
X-WR-CALDESC:Events for Missouri Humanities
REFRESH-INTERVAL;VALUE=DURATION:PT1H
X-Robots-Tag:noindex
X-PUBLISHED-TTL:PT1H
BEGIN:VTIMEZONE
TZID:America/Chicago
BEGIN:DAYLIGHT
TZOFFSETFROM:-0600
TZOFFSETTO:-0500
TZNAME:CDT
DTSTART:20240310T080000
END:DAYLIGHT
BEGIN:STANDARD
TZOFFSETFROM:-0500
TZOFFSETTO:-0600
TZNAME:CST
DTSTART:20241103T070000
END:STANDARD
BEGIN:DAYLIGHT
TZOFFSETFROM:-0600
TZOFFSETTO:-0500
TZNAME:CDT
DTSTART:20250309T080000
END:DAYLIGHT
BEGIN:STANDARD
TZOFFSETFROM:-0500
TZOFFSETTO:-0600
TZNAME:CST
DTSTART:20251102T070000
END:STANDARD
BEGIN:DAYLIGHT
TZOFFSETFROM:-0600
TZOFFSETTO:-0500
TZNAME:CDT
DTSTART:20260308T080000
END:DAYLIGHT
BEGIN:STANDARD
TZOFFSETFROM:-0500
TZOFFSETTO:-0600
TZNAME:CST
DTSTART:20261101T070000
END:STANDARD
END:VTIMEZONE
BEGIN:VEVENT
DTSTART;TZID=America/Chicago:20251117T110000
DTEND;TZID=America/Chicago:20251117T130000
DTSTAMP:20260424T151631
CREATED:20251110T192033Z
LAST-MODIFIED:20251110T192033Z
UID:10002763-1763377200-1763384400@mohumanities.org
SUMMARY:Oral History Best Practices
DESCRIPTION:The Kansas City Monuments Coalition will host Dr. Sandra Enriquez\, Professor of History at University of Missouri – Kansas City and oral history specialist\, for a practical workshop focused on best practices in oral history research and preservation. Drawing from years of experience conducting community-based oral history projects\, Dr. Enriquez will guide participants through an overview of the oral history process\, from planning and ethical considerations to interviewing techniques\, transcription\, archiving\, and dissemination. This is a free event open to the public. Lunch and refreshments will be provided.
URL:https://mohumanities.org/event/oral-history-best-practices/
LOCATION:Kauffman Conference Center\, 4801 Rockhill Rd\, Kansas City\, M\, 64108\, United States
CATEGORIES:Around Our Community
ATTACH;FMTTYPE=image/jpeg:https://mohumanities.org/wp-content/uploads/2025/11/OralHistoryWorkshop_Flyer_QR.jpg
ORGANIZER;CN="Kansas City Monuments Coalition":MAILTO:kcmc@umkc.edu
END:VEVENT
END:VCALENDAR