BEGIN:VCALENDAR
VERSION:2.0
PRODID:-//Missouri Humanities - ECPv6.15.20//NONSGML v1.0//EN
CALSCALE:GREGORIAN
METHOD:PUBLISH
X-ORIGINAL-URL:https://mohumanities.org
X-WR-CALDESC:Events for Missouri Humanities
REFRESH-INTERVAL;VALUE=DURATION:PT1H
X-Robots-Tag:noindex
X-PUBLISHED-TTL:PT1H
BEGIN:VTIMEZONE
TZID:America/Chicago
BEGIN:DAYLIGHT
TZOFFSETFROM:-0600
TZOFFSETTO:-0500
TZNAME:CDT
DTSTART:20250309T080000
END:DAYLIGHT
BEGIN:STANDARD
TZOFFSETFROM:-0500
TZOFFSETTO:-0600
TZNAME:CST
DTSTART:20251102T070000
END:STANDARD
BEGIN:DAYLIGHT
TZOFFSETFROM:-0600
TZOFFSETTO:-0500
TZNAME:CDT
DTSTART:20260308T080000
END:DAYLIGHT
BEGIN:STANDARD
TZOFFSETFROM:-0500
TZOFFSETTO:-0600
TZNAME:CST
DTSTART:20261101T070000
END:STANDARD
BEGIN:DAYLIGHT
TZOFFSETFROM:-0600
TZOFFSETTO:-0500
TZNAME:CDT
DTSTART:20270314T080000
END:DAYLIGHT
BEGIN:STANDARD
TZOFFSETFROM:-0500
TZOFFSETTO:-0600
TZNAME:CST
DTSTART:20271107T070000
END:STANDARD
END:VTIMEZONE
BEGIN:VEVENT
DTSTART;TZID=America/Chicago:20260728T090000
DTEND;TZID=America/Chicago:20260824T170000
DTSTAMP:20260419T234053
CREATED:20260317T172930Z
LAST-MODIFIED:20260317T172930Z
UID:10003322-1785229200-1787590800@mohumanities.org
SUMMARY:Echoes of Blackness
DESCRIPTION:New Short Term Exhibit from April 1-28\, 2026: Echoes of Blackness by Dawn Tree\nDawn Tree is a abstract surrealist artist\, journalist\, and author. Founder of Underground Tree Studios\, she creates vibrant works on wood and textiles\, blending heritage with social justice to bridge history and activism.
URL:https://mohumanities.org/event/echoes-of-blackness/2026-07-28/
LOCATION:Black Archives of Mid-America\, 1722 E. 17th Terr.\,\, Kansas City\, MO\, 64108
CATEGORIES:Around Our Community
ORGANIZER;CN="Black Archives of Mid-America":MAILTO:info@blackarchives.org
GEO:39.0923324;-94.5611934
X-APPLE-STRUCTURED-LOCATION;VALUE=URI;X-ADDRESS=Black Archives of Mid-America 1722 E. 17th Terr. Kansas City MO 64108;X-APPLE-RADIUS=500;X-TITLE=1722 E. 17th Terr.\,:geo:-94.5611934,39.0923324
END:VEVENT
BEGIN:VEVENT
DTSTART;TZID=America/Chicago:20260729T090000
DTEND;TZID=America/Chicago:20260825T170000
DTSTAMP:20260419T234053
CREATED:20260317T172930Z
LAST-MODIFIED:20260317T172930Z
UID:10003323-1785315600-1787677200@mohumanities.org
SUMMARY:Echoes of Blackness
DESCRIPTION:New Short Term Exhibit from April 1-28\, 2026: Echoes of Blackness by Dawn Tree\nDawn Tree is a abstract surrealist artist\, journalist\, and author. Founder of Underground Tree Studios\, she creates vibrant works on wood and textiles\, blending heritage with social justice to bridge history and activism.
URL:https://mohumanities.org/event/echoes-of-blackness/2026-07-29/
LOCATION:Black Archives of Mid-America\, 1722 E. 17th Terr.\,\, Kansas City\, MO\, 64108
CATEGORIES:Around Our Community
ORGANIZER;CN="Black Archives of Mid-America":MAILTO:info@blackarchives.org
GEO:39.0923324;-94.5611934
X-APPLE-STRUCTURED-LOCATION;VALUE=URI;X-ADDRESS=Black Archives of Mid-America 1722 E. 17th Terr. Kansas City MO 64108;X-APPLE-RADIUS=500;X-TITLE=1722 E. 17th Terr.\,:geo:-94.5611934,39.0923324
END:VEVENT
BEGIN:VEVENT
DTSTART;TZID=America/Chicago:20260730T090000
DTEND;TZID=America/Chicago:20260826T170000
DTSTAMP:20260419T234053
CREATED:20260317T172930Z
LAST-MODIFIED:20260317T172930Z
UID:10003324-1785402000-1787763600@mohumanities.org
SUMMARY:Echoes of Blackness
DESCRIPTION:New Short Term Exhibit from April 1-28\, 2026: Echoes of Blackness by Dawn Tree\nDawn Tree is a abstract surrealist artist\, journalist\, and author. Founder of Underground Tree Studios\, she creates vibrant works on wood and textiles\, blending heritage with social justice to bridge history and activism.
URL:https://mohumanities.org/event/echoes-of-blackness/2026-07-30/
LOCATION:Black Archives of Mid-America\, 1722 E. 17th Terr.\,\, Kansas City\, MO\, 64108
CATEGORIES:Around Our Community
ORGANIZER;CN="Black Archives of Mid-America":MAILTO:info@blackarchives.org
GEO:39.0923324;-94.5611934
X-APPLE-STRUCTURED-LOCATION;VALUE=URI;X-ADDRESS=Black Archives of Mid-America 1722 E. 17th Terr. Kansas City MO 64108;X-APPLE-RADIUS=500;X-TITLE=1722 E. 17th Terr.\,:geo:-94.5611934,39.0923324
END:VEVENT
BEGIN:VEVENT
DTSTART;TZID=America/Chicago:20260731T090000
DTEND;TZID=America/Chicago:20260827T170000
DTSTAMP:20260419T234053
CREATED:20260317T172930Z
LAST-MODIFIED:20260317T172930Z
UID:10003325-1785488400-1787850000@mohumanities.org
SUMMARY:Echoes of Blackness
DESCRIPTION:New Short Term Exhibit from April 1-28\, 2026: Echoes of Blackness by Dawn Tree\nDawn Tree is a abstract surrealist artist\, journalist\, and author. Founder of Underground Tree Studios\, she creates vibrant works on wood and textiles\, blending heritage with social justice to bridge history and activism.
URL:https://mohumanities.org/event/echoes-of-blackness/2026-07-31/
LOCATION:Black Archives of Mid-America\, 1722 E. 17th Terr.\,\, Kansas City\, MO\, 64108
CATEGORIES:Around Our Community
ORGANIZER;CN="Black Archives of Mid-America":MAILTO:info@blackarchives.org
GEO:39.0923324;-94.5611934
X-APPLE-STRUCTURED-LOCATION;VALUE=URI;X-ADDRESS=Black Archives of Mid-America 1722 E. 17th Terr. Kansas City MO 64108;X-APPLE-RADIUS=500;X-TITLE=1722 E. 17th Terr.\,:geo:-94.5611934,39.0923324
END:VEVENT
BEGIN:VEVENT
DTSTART;TZID=America/Chicago:20260803T090000
DTEND;TZID=America/Chicago:20260830T170000
DTSTAMP:20260419T234053
CREATED:20260317T172930Z
LAST-MODIFIED:20260317T172930Z
UID:10003326-1785747600-1788109200@mohumanities.org
SUMMARY:Echoes of Blackness
DESCRIPTION:New Short Term Exhibit from April 1-28\, 2026: Echoes of Blackness by Dawn Tree\nDawn Tree is a abstract surrealist artist\, journalist\, and author. Founder of Underground Tree Studios\, she creates vibrant works on wood and textiles\, blending heritage with social justice to bridge history and activism.
URL:https://mohumanities.org/event/echoes-of-blackness/2026-08-03/
LOCATION:Black Archives of Mid-America\, 1722 E. 17th Terr.\,\, Kansas City\, MO\, 64108
CATEGORIES:Around Our Community
ORGANIZER;CN="Black Archives of Mid-America":MAILTO:info@blackarchives.org
GEO:39.0923324;-94.5611934
X-APPLE-STRUCTURED-LOCATION;VALUE=URI;X-ADDRESS=Black Archives of Mid-America 1722 E. 17th Terr. Kansas City MO 64108;X-APPLE-RADIUS=500;X-TITLE=1722 E. 17th Terr.\,:geo:-94.5611934,39.0923324
END:VEVENT
BEGIN:VEVENT
DTSTART;TZID=America/Chicago:20260804T090000
DTEND;TZID=America/Chicago:20260831T170000
DTSTAMP:20260419T234053
CREATED:20260317T172930Z
LAST-MODIFIED:20260317T172930Z
UID:10003327-1785834000-1788195600@mohumanities.org
SUMMARY:Echoes of Blackness
DESCRIPTION:New Short Term Exhibit from April 1-28\, 2026: Echoes of Blackness by Dawn Tree\nDawn Tree is a abstract surrealist artist\, journalist\, and author. Founder of Underground Tree Studios\, she creates vibrant works on wood and textiles\, blending heritage with social justice to bridge history and activism.
URL:https://mohumanities.org/event/echoes-of-blackness/2026-08-04/
LOCATION:Black Archives of Mid-America\, 1722 E. 17th Terr.\,\, Kansas City\, MO\, 64108
CATEGORIES:Around Our Community
ORGANIZER;CN="Black Archives of Mid-America":MAILTO:info@blackarchives.org
GEO:39.0923324;-94.5611934
X-APPLE-STRUCTURED-LOCATION;VALUE=URI;X-ADDRESS=Black Archives of Mid-America 1722 E. 17th Terr. Kansas City MO 64108;X-APPLE-RADIUS=500;X-TITLE=1722 E. 17th Terr.\,:geo:-94.5611934,39.0923324
END:VEVENT
BEGIN:VEVENT
DTSTART;TZID=America/Chicago:20260805T090000
DTEND;TZID=America/Chicago:20260901T170000
DTSTAMP:20260419T234053
CREATED:20260317T172930Z
LAST-MODIFIED:20260317T172930Z
UID:10003328-1785920400-1788282000@mohumanities.org
SUMMARY:Echoes of Blackness
DESCRIPTION:New Short Term Exhibit from April 1-28\, 2026: Echoes of Blackness by Dawn Tree\nDawn Tree is a abstract surrealist artist\, journalist\, and author. Founder of Underground Tree Studios\, she creates vibrant works on wood and textiles\, blending heritage with social justice to bridge history and activism.
URL:https://mohumanities.org/event/echoes-of-blackness/2026-08-05/
LOCATION:Black Archives of Mid-America\, 1722 E. 17th Terr.\,\, Kansas City\, MO\, 64108
CATEGORIES:Around Our Community
ORGANIZER;CN="Black Archives of Mid-America":MAILTO:info@blackarchives.org
GEO:39.0923324;-94.5611934
X-APPLE-STRUCTURED-LOCATION;VALUE=URI;X-ADDRESS=Black Archives of Mid-America 1722 E. 17th Terr. Kansas City MO 64108;X-APPLE-RADIUS=500;X-TITLE=1722 E. 17th Terr.\,:geo:-94.5611934,39.0923324
END:VEVENT
BEGIN:VEVENT
DTSTART;TZID=America/Chicago:20260806T090000
DTEND;TZID=America/Chicago:20260902T170000
DTSTAMP:20260419T234053
CREATED:20260317T172930Z
LAST-MODIFIED:20260317T172930Z
UID:10003329-1786006800-1788368400@mohumanities.org
SUMMARY:Echoes of Blackness
DESCRIPTION:New Short Term Exhibit from April 1-28\, 2026: Echoes of Blackness by Dawn Tree\nDawn Tree is a abstract surrealist artist\, journalist\, and author. Founder of Underground Tree Studios\, she creates vibrant works on wood and textiles\, blending heritage with social justice to bridge history and activism.
URL:https://mohumanities.org/event/echoes-of-blackness/2026-08-06/
LOCATION:Black Archives of Mid-America\, 1722 E. 17th Terr.\,\, Kansas City\, MO\, 64108
CATEGORIES:Around Our Community
ORGANIZER;CN="Black Archives of Mid-America":MAILTO:info@blackarchives.org
GEO:39.0923324;-94.5611934
X-APPLE-STRUCTURED-LOCATION;VALUE=URI;X-ADDRESS=Black Archives of Mid-America 1722 E. 17th Terr. Kansas City MO 64108;X-APPLE-RADIUS=500;X-TITLE=1722 E. 17th Terr.\,:geo:-94.5611934,39.0923324
END:VEVENT
BEGIN:VEVENT
DTSTART;TZID=America/Chicago:20260807T090000
DTEND;TZID=America/Chicago:20260903T170000
DTSTAMP:20260419T234053
CREATED:20260317T172930Z
LAST-MODIFIED:20260317T172930Z
UID:10003330-1786093200-1788454800@mohumanities.org
SUMMARY:Echoes of Blackness
DESCRIPTION:New Short Term Exhibit from April 1-28\, 2026: Echoes of Blackness by Dawn Tree\nDawn Tree is a abstract surrealist artist\, journalist\, and author. Founder of Underground Tree Studios\, she creates vibrant works on wood and textiles\, blending heritage with social justice to bridge history and activism.
URL:https://mohumanities.org/event/echoes-of-blackness/2026-08-07/
LOCATION:Black Archives of Mid-America\, 1722 E. 17th Terr.\,\, Kansas City\, MO\, 64108
CATEGORIES:Around Our Community
ORGANIZER;CN="Black Archives of Mid-America":MAILTO:info@blackarchives.org
GEO:39.0923324;-94.5611934
X-APPLE-STRUCTURED-LOCATION;VALUE=URI;X-ADDRESS=Black Archives of Mid-America 1722 E. 17th Terr. Kansas City MO 64108;X-APPLE-RADIUS=500;X-TITLE=1722 E. 17th Terr.\,:geo:-94.5611934,39.0923324
END:VEVENT
BEGIN:VEVENT
DTSTART;TZID=America/Chicago:20260810T090000
DTEND;TZID=America/Chicago:20260906T170000
DTSTAMP:20260419T234053
CREATED:20260317T172930Z
LAST-MODIFIED:20260317T172930Z
UID:10003331-1786352400-1788714000@mohumanities.org
SUMMARY:Echoes of Blackness
DESCRIPTION:New Short Term Exhibit from April 1-28\, 2026: Echoes of Blackness by Dawn Tree\nDawn Tree is a abstract surrealist artist\, journalist\, and author. Founder of Underground Tree Studios\, she creates vibrant works on wood and textiles\, blending heritage with social justice to bridge history and activism.
URL:https://mohumanities.org/event/echoes-of-blackness/2026-08-10/
LOCATION:Black Archives of Mid-America\, 1722 E. 17th Terr.\,\, Kansas City\, MO\, 64108
CATEGORIES:Around Our Community
ORGANIZER;CN="Black Archives of Mid-America":MAILTO:info@blackarchives.org
GEO:39.0923324;-94.5611934
X-APPLE-STRUCTURED-LOCATION;VALUE=URI;X-ADDRESS=Black Archives of Mid-America 1722 E. 17th Terr. Kansas City MO 64108;X-APPLE-RADIUS=500;X-TITLE=1722 E. 17th Terr.\,:geo:-94.5611934,39.0923324
END:VEVENT
BEGIN:VEVENT
DTSTART;TZID=America/Chicago:20260811T090000
DTEND;TZID=America/Chicago:20260907T170000
DTSTAMP:20260419T234053
CREATED:20260317T172930Z
LAST-MODIFIED:20260317T172930Z
UID:10003332-1786438800-1788800400@mohumanities.org
SUMMARY:Echoes of Blackness
DESCRIPTION:New Short Term Exhibit from April 1-28\, 2026: Echoes of Blackness by Dawn Tree\nDawn Tree is a abstract surrealist artist\, journalist\, and author. Founder of Underground Tree Studios\, she creates vibrant works on wood and textiles\, blending heritage with social justice to bridge history and activism.
URL:https://mohumanities.org/event/echoes-of-blackness/2026-08-11/
LOCATION:Black Archives of Mid-America\, 1722 E. 17th Terr.\,\, Kansas City\, MO\, 64108
CATEGORIES:Around Our Community
ORGANIZER;CN="Black Archives of Mid-America":MAILTO:info@blackarchives.org
GEO:39.0923324;-94.5611934
X-APPLE-STRUCTURED-LOCATION;VALUE=URI;X-ADDRESS=Black Archives of Mid-America 1722 E. 17th Terr. Kansas City MO 64108;X-APPLE-RADIUS=500;X-TITLE=1722 E. 17th Terr.\,:geo:-94.5611934,39.0923324
END:VEVENT
BEGIN:VEVENT
DTSTART;TZID=America/Chicago:20260812T090000
DTEND;TZID=America/Chicago:20260908T170000
DTSTAMP:20260419T234053
CREATED:20260317T172930Z
LAST-MODIFIED:20260317T172930Z
UID:10003333-1786525200-1788886800@mohumanities.org
SUMMARY:Echoes of Blackness
DESCRIPTION:New Short Term Exhibit from April 1-28\, 2026: Echoes of Blackness by Dawn Tree\nDawn Tree is a abstract surrealist artist\, journalist\, and author. Founder of Underground Tree Studios\, she creates vibrant works on wood and textiles\, blending heritage with social justice to bridge history and activism.
URL:https://mohumanities.org/event/echoes-of-blackness/2026-08-12/
LOCATION:Black Archives of Mid-America\, 1722 E. 17th Terr.\,\, Kansas City\, MO\, 64108
CATEGORIES:Around Our Community
ORGANIZER;CN="Black Archives of Mid-America":MAILTO:info@blackarchives.org
GEO:39.0923324;-94.5611934
X-APPLE-STRUCTURED-LOCATION;VALUE=URI;X-ADDRESS=Black Archives of Mid-America 1722 E. 17th Terr. Kansas City MO 64108;X-APPLE-RADIUS=500;X-TITLE=1722 E. 17th Terr.\,:geo:-94.5611934,39.0923324
END:VEVENT
BEGIN:VEVENT
DTSTART;TZID=America/Chicago:20260813T090000
DTEND;TZID=America/Chicago:20260909T170000
DTSTAMP:20260419T234053
CREATED:20260317T172930Z
LAST-MODIFIED:20260317T172930Z
UID:10003334-1786611600-1788973200@mohumanities.org
SUMMARY:Echoes of Blackness
DESCRIPTION:New Short Term Exhibit from April 1-28\, 2026: Echoes of Blackness by Dawn Tree\nDawn Tree is a abstract surrealist artist\, journalist\, and author. Founder of Underground Tree Studios\, she creates vibrant works on wood and textiles\, blending heritage with social justice to bridge history and activism.
URL:https://mohumanities.org/event/echoes-of-blackness/2026-08-13/
LOCATION:Black Archives of Mid-America\, 1722 E. 17th Terr.\,\, Kansas City\, MO\, 64108
CATEGORIES:Around Our Community
ORGANIZER;CN="Black Archives of Mid-America":MAILTO:info@blackarchives.org
GEO:39.0923324;-94.5611934
X-APPLE-STRUCTURED-LOCATION;VALUE=URI;X-ADDRESS=Black Archives of Mid-America 1722 E. 17th Terr. Kansas City MO 64108;X-APPLE-RADIUS=500;X-TITLE=1722 E. 17th Terr.\,:geo:-94.5611934,39.0923324
END:VEVENT
BEGIN:VEVENT
DTSTART;TZID=America/Chicago:20260814T090000
DTEND;TZID=America/Chicago:20260910T170000
DTSTAMP:20260419T234053
CREATED:20260317T172930Z
LAST-MODIFIED:20260317T172930Z
UID:10003335-1786698000-1789059600@mohumanities.org
SUMMARY:Echoes of Blackness
DESCRIPTION:New Short Term Exhibit from April 1-28\, 2026: Echoes of Blackness by Dawn Tree\nDawn Tree is a abstract surrealist artist\, journalist\, and author. Founder of Underground Tree Studios\, she creates vibrant works on wood and textiles\, blending heritage with social justice to bridge history and activism.
URL:https://mohumanities.org/event/echoes-of-blackness/2026-08-14/
LOCATION:Black Archives of Mid-America\, 1722 E. 17th Terr.\,\, Kansas City\, MO\, 64108
CATEGORIES:Around Our Community
ORGANIZER;CN="Black Archives of Mid-America":MAILTO:info@blackarchives.org
GEO:39.0923324;-94.5611934
X-APPLE-STRUCTURED-LOCATION;VALUE=URI;X-ADDRESS=Black Archives of Mid-America 1722 E. 17th Terr. Kansas City MO 64108;X-APPLE-RADIUS=500;X-TITLE=1722 E. 17th Terr.\,:geo:-94.5611934,39.0923324
END:VEVENT
BEGIN:VEVENT
DTSTART;TZID=America/Chicago:20260817T090000
DTEND;TZID=America/Chicago:20260913T170000
DTSTAMP:20260419T234053
CREATED:20260317T172930Z
LAST-MODIFIED:20260317T172930Z
UID:10003336-1786957200-1789318800@mohumanities.org
SUMMARY:Echoes of Blackness
DESCRIPTION:New Short Term Exhibit from April 1-28\, 2026: Echoes of Blackness by Dawn Tree\nDawn Tree is a abstract surrealist artist\, journalist\, and author. Founder of Underground Tree Studios\, she creates vibrant works on wood and textiles\, blending heritage with social justice to bridge history and activism.
URL:https://mohumanities.org/event/echoes-of-blackness/2026-08-17/
LOCATION:Black Archives of Mid-America\, 1722 E. 17th Terr.\,\, Kansas City\, MO\, 64108
CATEGORIES:Around Our Community
ORGANIZER;CN="Black Archives of Mid-America":MAILTO:info@blackarchives.org
GEO:39.0923324;-94.5611934
X-APPLE-STRUCTURED-LOCATION;VALUE=URI;X-ADDRESS=Black Archives of Mid-America 1722 E. 17th Terr. Kansas City MO 64108;X-APPLE-RADIUS=500;X-TITLE=1722 E. 17th Terr.\,:geo:-94.5611934,39.0923324
END:VEVENT
BEGIN:VEVENT
DTSTART;TZID=America/Chicago:20260818T090000
DTEND;TZID=America/Chicago:20260914T170000
DTSTAMP:20260419T234053
CREATED:20260317T172930Z
LAST-MODIFIED:20260317T172930Z
UID:10003337-1787043600-1789405200@mohumanities.org
SUMMARY:Echoes of Blackness
DESCRIPTION:New Short Term Exhibit from April 1-28\, 2026: Echoes of Blackness by Dawn Tree\nDawn Tree is a abstract surrealist artist\, journalist\, and author. Founder of Underground Tree Studios\, she creates vibrant works on wood and textiles\, blending heritage with social justice to bridge history and activism.
URL:https://mohumanities.org/event/echoes-of-blackness/2026-08-18/
LOCATION:Black Archives of Mid-America\, 1722 E. 17th Terr.\,\, Kansas City\, MO\, 64108
CATEGORIES:Around Our Community
ORGANIZER;CN="Black Archives of Mid-America":MAILTO:info@blackarchives.org
GEO:39.0923324;-94.5611934
X-APPLE-STRUCTURED-LOCATION;VALUE=URI;X-ADDRESS=Black Archives of Mid-America 1722 E. 17th Terr. Kansas City MO 64108;X-APPLE-RADIUS=500;X-TITLE=1722 E. 17th Terr.\,:geo:-94.5611934,39.0923324
END:VEVENT
BEGIN:VEVENT
DTSTART;TZID=America/Chicago:20260819T090000
DTEND;TZID=America/Chicago:20260915T170000
DTSTAMP:20260419T234053
CREATED:20260317T172930Z
LAST-MODIFIED:20260317T172930Z
UID:10003338-1787130000-1789491600@mohumanities.org
SUMMARY:Echoes of Blackness
DESCRIPTION:New Short Term Exhibit from April 1-28\, 2026: Echoes of Blackness by Dawn Tree\nDawn Tree is a abstract surrealist artist\, journalist\, and author. Founder of Underground Tree Studios\, she creates vibrant works on wood and textiles\, blending heritage with social justice to bridge history and activism.
URL:https://mohumanities.org/event/echoes-of-blackness/2026-08-19/
LOCATION:Black Archives of Mid-America\, 1722 E. 17th Terr.\,\, Kansas City\, MO\, 64108
CATEGORIES:Around Our Community
ORGANIZER;CN="Black Archives of Mid-America":MAILTO:info@blackarchives.org
GEO:39.0923324;-94.5611934
X-APPLE-STRUCTURED-LOCATION;VALUE=URI;X-ADDRESS=Black Archives of Mid-America 1722 E. 17th Terr. Kansas City MO 64108;X-APPLE-RADIUS=500;X-TITLE=1722 E. 17th Terr.\,:geo:-94.5611934,39.0923324
END:VEVENT
BEGIN:VEVENT
DTSTART;TZID=America/Chicago:20260820T090000
DTEND;TZID=America/Chicago:20260916T170000
DTSTAMP:20260419T234053
CREATED:20260317T172930Z
LAST-MODIFIED:20260317T172930Z
UID:10003339-1787216400-1789578000@mohumanities.org
SUMMARY:Echoes of Blackness
DESCRIPTION:New Short Term Exhibit from April 1-28\, 2026: Echoes of Blackness by Dawn Tree\nDawn Tree is a abstract surrealist artist\, journalist\, and author. Founder of Underground Tree Studios\, she creates vibrant works on wood and textiles\, blending heritage with social justice to bridge history and activism.
URL:https://mohumanities.org/event/echoes-of-blackness/2026-08-20/
LOCATION:Black Archives of Mid-America\, 1722 E. 17th Terr.\,\, Kansas City\, MO\, 64108
CATEGORIES:Around Our Community
ORGANIZER;CN="Black Archives of Mid-America":MAILTO:info@blackarchives.org
GEO:39.0923324;-94.5611934
X-APPLE-STRUCTURED-LOCATION;VALUE=URI;X-ADDRESS=Black Archives of Mid-America 1722 E. 17th Terr. Kansas City MO 64108;X-APPLE-RADIUS=500;X-TITLE=1722 E. 17th Terr.\,:geo:-94.5611934,39.0923324
END:VEVENT
BEGIN:VEVENT
DTSTART;TZID=America/Chicago:20260821T090000
DTEND;TZID=America/Chicago:20260917T170000
DTSTAMP:20260419T234053
CREATED:20260317T172930Z
LAST-MODIFIED:20260317T172930Z
UID:10003340-1787302800-1789664400@mohumanities.org
SUMMARY:Echoes of Blackness
DESCRIPTION:New Short Term Exhibit from April 1-28\, 2026: Echoes of Blackness by Dawn Tree\nDawn Tree is a abstract surrealist artist\, journalist\, and author. Founder of Underground Tree Studios\, she creates vibrant works on wood and textiles\, blending heritage with social justice to bridge history and activism.
URL:https://mohumanities.org/event/echoes-of-blackness/2026-08-21/
LOCATION:Black Archives of Mid-America\, 1722 E. 17th Terr.\,\, Kansas City\, MO\, 64108
CATEGORIES:Around Our Community
ORGANIZER;CN="Black Archives of Mid-America":MAILTO:info@blackarchives.org
GEO:39.0923324;-94.5611934
X-APPLE-STRUCTURED-LOCATION;VALUE=URI;X-ADDRESS=Black Archives of Mid-America 1722 E. 17th Terr. Kansas City MO 64108;X-APPLE-RADIUS=500;X-TITLE=1722 E. 17th Terr.\,:geo:-94.5611934,39.0923324
END:VEVENT
BEGIN:VEVENT
DTSTART;TZID=America/Chicago:20260824T090000
DTEND;TZID=America/Chicago:20260920T170000
DTSTAMP:20260419T234053
CREATED:20260317T172930Z
LAST-MODIFIED:20260317T172930Z
UID:10003341-1787562000-1789923600@mohumanities.org
SUMMARY:Echoes of Blackness
DESCRIPTION:New Short Term Exhibit from April 1-28\, 2026: Echoes of Blackness by Dawn Tree\nDawn Tree is a abstract surrealist artist\, journalist\, and author. Founder of Underground Tree Studios\, she creates vibrant works on wood and textiles\, blending heritage with social justice to bridge history and activism.
URL:https://mohumanities.org/event/echoes-of-blackness/2026-08-24/
LOCATION:Black Archives of Mid-America\, 1722 E. 17th Terr.\,\, Kansas City\, MO\, 64108
CATEGORIES:Around Our Community
ORGANIZER;CN="Black Archives of Mid-America":MAILTO:info@blackarchives.org
GEO:39.0923324;-94.5611934
X-APPLE-STRUCTURED-LOCATION;VALUE=URI;X-ADDRESS=Black Archives of Mid-America 1722 E. 17th Terr. Kansas City MO 64108;X-APPLE-RADIUS=500;X-TITLE=1722 E. 17th Terr.\,:geo:-94.5611934,39.0923324
END:VEVENT
BEGIN:VEVENT
DTSTART;TZID=America/Chicago:20260825T090000
DTEND;TZID=America/Chicago:20260921T170000
DTSTAMP:20260419T234053
CREATED:20260317T172930Z
LAST-MODIFIED:20260317T172930Z
UID:10003342-1787648400-1790010000@mohumanities.org
SUMMARY:Echoes of Blackness
DESCRIPTION:New Short Term Exhibit from April 1-28\, 2026: Echoes of Blackness by Dawn Tree\nDawn Tree is a abstract surrealist artist\, journalist\, and author. Founder of Underground Tree Studios\, she creates vibrant works on wood and textiles\, blending heritage with social justice to bridge history and activism.
URL:https://mohumanities.org/event/echoes-of-blackness/2026-08-25/
LOCATION:Black Archives of Mid-America\, 1722 E. 17th Terr.\,\, Kansas City\, MO\, 64108
CATEGORIES:Around Our Community
ORGANIZER;CN="Black Archives of Mid-America":MAILTO:info@blackarchives.org
GEO:39.0923324;-94.5611934
X-APPLE-STRUCTURED-LOCATION;VALUE=URI;X-ADDRESS=Black Archives of Mid-America 1722 E. 17th Terr. Kansas City MO 64108;X-APPLE-RADIUS=500;X-TITLE=1722 E. 17th Terr.\,:geo:-94.5611934,39.0923324
END:VEVENT
BEGIN:VEVENT
DTSTART;TZID=America/Chicago:20260826T090000
DTEND;TZID=America/Chicago:20260922T170000
DTSTAMP:20260419T234053
CREATED:20260317T172930Z
LAST-MODIFIED:20260317T172930Z
UID:10003343-1787734800-1790096400@mohumanities.org
SUMMARY:Echoes of Blackness
DESCRIPTION:New Short Term Exhibit from April 1-28\, 2026: Echoes of Blackness by Dawn Tree\nDawn Tree is a abstract surrealist artist\, journalist\, and author. Founder of Underground Tree Studios\, she creates vibrant works on wood and textiles\, blending heritage with social justice to bridge history and activism.
URL:https://mohumanities.org/event/echoes-of-blackness/2026-08-26/
LOCATION:Black Archives of Mid-America\, 1722 E. 17th Terr.\,\, Kansas City\, MO\, 64108
CATEGORIES:Around Our Community
ORGANIZER;CN="Black Archives of Mid-America":MAILTO:info@blackarchives.org
GEO:39.0923324;-94.5611934
X-APPLE-STRUCTURED-LOCATION;VALUE=URI;X-ADDRESS=Black Archives of Mid-America 1722 E. 17th Terr. Kansas City MO 64108;X-APPLE-RADIUS=500;X-TITLE=1722 E. 17th Terr.\,:geo:-94.5611934,39.0923324
END:VEVENT
BEGIN:VEVENT
DTSTART;TZID=America/Chicago:20260827T090000
DTEND;TZID=America/Chicago:20260923T170000
DTSTAMP:20260419T234053
CREATED:20260317T172930Z
LAST-MODIFIED:20260317T172930Z
UID:10003344-1787821200-1790182800@mohumanities.org
SUMMARY:Echoes of Blackness
DESCRIPTION:New Short Term Exhibit from April 1-28\, 2026: Echoes of Blackness by Dawn Tree\nDawn Tree is a abstract surrealist artist\, journalist\, and author. Founder of Underground Tree Studios\, she creates vibrant works on wood and textiles\, blending heritage with social justice to bridge history and activism.
URL:https://mohumanities.org/event/echoes-of-blackness/2026-08-27/
LOCATION:Black Archives of Mid-America\, 1722 E. 17th Terr.\,\, Kansas City\, MO\, 64108
CATEGORIES:Around Our Community
ORGANIZER;CN="Black Archives of Mid-America":MAILTO:info@blackarchives.org
GEO:39.0923324;-94.5611934
X-APPLE-STRUCTURED-LOCATION;VALUE=URI;X-ADDRESS=Black Archives of Mid-America 1722 E. 17th Terr. Kansas City MO 64108;X-APPLE-RADIUS=500;X-TITLE=1722 E. 17th Terr.\,:geo:-94.5611934,39.0923324
END:VEVENT
BEGIN:VEVENT
DTSTART;TZID=America/Chicago:20260828T090000
DTEND;TZID=America/Chicago:20260924T170000
DTSTAMP:20260419T234053
CREATED:20260317T172930Z
LAST-MODIFIED:20260317T172930Z
UID:10003345-1787907600-1790269200@mohumanities.org
SUMMARY:Echoes of Blackness
DESCRIPTION:New Short Term Exhibit from April 1-28\, 2026: Echoes of Blackness by Dawn Tree\nDawn Tree is a abstract surrealist artist\, journalist\, and author. Founder of Underground Tree Studios\, she creates vibrant works on wood and textiles\, blending heritage with social justice to bridge history and activism.
URL:https://mohumanities.org/event/echoes-of-blackness/2026-08-28/
LOCATION:Black Archives of Mid-America\, 1722 E. 17th Terr.\,\, Kansas City\, MO\, 64108
CATEGORIES:Around Our Community
ORGANIZER;CN="Black Archives of Mid-America":MAILTO:info@blackarchives.org
GEO:39.0923324;-94.5611934
X-APPLE-STRUCTURED-LOCATION;VALUE=URI;X-ADDRESS=Black Archives of Mid-America 1722 E. 17th Terr. Kansas City MO 64108;X-APPLE-RADIUS=500;X-TITLE=1722 E. 17th Terr.\,:geo:-94.5611934,39.0923324
END:VEVENT
END:VCALENDAR