BEGIN:VCALENDAR
VERSION:2.0
PRODID:-//Missouri Humanities - ECPv6.15.20//NONSGML v1.0//EN
CALSCALE:GREGORIAN
METHOD:PUBLISH
X-ORIGINAL-URL:https://mohumanities.org
X-WR-CALDESC:Events for Missouri Humanities
REFRESH-INTERVAL;VALUE=DURATION:PT1H
X-Robots-Tag:noindex
X-PUBLISHED-TTL:PT1H
BEGIN:VTIMEZONE
TZID:America/Chicago
BEGIN:DAYLIGHT
TZOFFSETFROM:-0600
TZOFFSETTO:-0500
TZNAME:CDT
DTSTART:20260308T080000
END:DAYLIGHT
BEGIN:STANDARD
TZOFFSETFROM:-0500
TZOFFSETTO:-0600
TZNAME:CST
DTSTART:20261101T070000
END:STANDARD
BEGIN:DAYLIGHT
TZOFFSETFROM:-0600
TZOFFSETTO:-0500
TZNAME:CDT
DTSTART:20270314T080000
END:DAYLIGHT
BEGIN:STANDARD
TZOFFSETFROM:-0500
TZOFFSETTO:-0600
TZNAME:CST
DTSTART:20271107T070000
END:STANDARD
BEGIN:DAYLIGHT
TZOFFSETFROM:-0600
TZOFFSETTO:-0500
TZNAME:CDT
DTSTART:20280312T080000
END:DAYLIGHT
BEGIN:STANDARD
TZOFFSETFROM:-0500
TZOFFSETTO:-0600
TZNAME:CST
DTSTART:20281105T070000
END:STANDARD
END:VTIMEZONE
BEGIN:VEVENT
DTSTART;TZID=America/Chicago:20270501T080000
DTEND;TZID=America/Chicago:20270501T153000
DTSTAMP:20260425T063532
CREATED:20260413T161847Z
LAST-MODIFIED:20260413T161847Z
UID:10003533-1809158400-1809185400@mohumanities.org
SUMMARY:Stone by Stone: Community Cemetery Preservation Workshops
DESCRIPTION:The Jasper County Cemetery Preservation Society (JCCPS) is excited to host the inaugural Stone by Stone: Community Cemetery Preservation Workshop at Webb City Cemetery on Saturday\, May 2\, 2026.\nThis FREE community event is designed to 1) promote respectful stewardship of historic and active-burial cemeteries and 2) support the mission to protect and preserve the resting places of those who laid the foundations of our communities.\nThe “Stone by Stone” event workshops will feature preservation specialist Kurt Jordan\, the KC Cemetery Man\, and will include instruction on proper headstone cleaning\, monument stabilization demonstrations\, review of safety protocols\, and much more!\nDate: Saturday\, May 2\, 2026 \nTime: 8:00 AM – Registration\n8:30 AM – Opening Remarks\n8:45 AM – Demonstrations Begin \nLocation: Webb City Cemetery\n1811 South Oronogo Street\, Webb City\, Missouri \nA special feature of the day will include JCCPS’s annual Flower Sale. Visitors are encouraged to pick up their Memorial Day decorations for a donation which supports cemetery preservation efforts. We’re happy to help you build bouquets. \nThe Jasper County Cemetery Preservation Society’s facebook page is the best place for community members to see the developing schedule of events and engage with the planners. Several announcements about additional demonstrations and workshops will be finalized in the coming weeks. FREE tickets are available on the event page – please let us know you are coming. \nJCCPS President Rikki Smith can be reached at 417-629-4914 for more information about the organization or event sponsorships.
URL:https://mohumanities.org/event/stone-by-stone-community-cemetery-preservation-workshops-2/
LOCATION:Webb City Cemetery\, 1811 South Oronogo Street\, Webb City\, Missouri\, 1811 South Oronogo Street\,\, Webb City\, MO\, 64870\, United States
CATEGORIES:Around Our Community
ATTACH;FMTTYPE=image/jpeg:https://mohumanities.org/wp-content/uploads/2026/04/WC-Cemetery-Cover.jpg
ORGANIZER;CN="JCCPS":MAILTO:rikkismith@joplinschools.org
END:VEVENT
BEGIN:VEVENT
DTSTART;TZID=America/Chicago:20270509T100000
DTEND;TZID=America/Chicago:20270509T160000
DTSTAMP:20260425T063532
CREATED:20250127T172121Z
LAST-MODIFIED:20250221T175639Z
UID:10002171-1809856800-1809878400@mohumanities.org
SUMMARY:Second Sunday- Free Days at the Museum
DESCRIPTION:Bring the whole family to Free Days at the Museum. Occurring on every second Sunday of the month\, Free Days provide greater access to The National Museum of Toys and Miniatures’ vast and awe-inspiring collections for visitors near and far. \nAll attendees can explore the Museum at no charge.
URL:https://mohumanities.org/event/second-sunday-free-days-at-the-museum/2027-05-09/
LOCATION:The National Museum of Toys and Miniatures\, 5235 Oak Street\, Kansas City\, MO 64112\, Kansas City\, M\, 64112\, United States
CATEGORIES:Around Our Community
ATTACH;FMTTYPE=image/png:https://mohumanities.org/wp-content/uploads/2025/01/event-featured-second-sunday-free-days-at-the-museum-1731947823-856x600-1.png
ORGANIZER;CN="The National Museum of Toys and Miniatures":MAILTO:info@toyandminiaturemuseum.org
END:VEVENT
END:VCALENDAR