BEGIN:VCALENDAR
VERSION:2.0
PRODID:-//Missouri Humanities - ECPv6.15.20//NONSGML v1.0//EN
CALSCALE:GREGORIAN
METHOD:PUBLISH
X-WR-CALNAME:Missouri Humanities
X-ORIGINAL-URL:https://mohumanities.org
X-WR-CALDESC:Events for Missouri Humanities
REFRESH-INTERVAL;VALUE=DURATION:PT1H
X-Robots-Tag:noindex
X-PUBLISHED-TTL:PT1H
BEGIN:VTIMEZONE
TZID:America/Chicago
BEGIN:DAYLIGHT
TZOFFSETFROM:-0600
TZOFFSETTO:-0500
TZNAME:CDT
DTSTART:20250309T080000
END:DAYLIGHT
BEGIN:STANDARD
TZOFFSETFROM:-0500
TZOFFSETTO:-0600
TZNAME:CST
DTSTART:20251102T070000
END:STANDARD
BEGIN:DAYLIGHT
TZOFFSETFROM:-0600
TZOFFSETTO:-0500
TZNAME:CDT
DTSTART:20260308T080000
END:DAYLIGHT
BEGIN:STANDARD
TZOFFSETFROM:-0500
TZOFFSETTO:-0600
TZNAME:CST
DTSTART:20261101T070000
END:STANDARD
BEGIN:DAYLIGHT
TZOFFSETFROM:-0600
TZOFFSETTO:-0500
TZNAME:CDT
DTSTART:20270314T080000
END:DAYLIGHT
BEGIN:STANDARD
TZOFFSETFROM:-0500
TZOFFSETTO:-0600
TZNAME:CST
DTSTART:20271107T070000
END:STANDARD
END:VTIMEZONE
BEGIN:VEVENT
DTSTART;TZID=America/Chicago:20260210T183000
DTEND;TZID=America/Chicago:20260210T193000
DTSTAMP:20260420T061743
CREATED:20260109T162703Z
LAST-MODIFIED:20260109T162703Z
UID:10002797-1770748200-1770751800@mohumanities.org
SUMMARY:Lecture\,"Missouri in 1861: The Rise and Fall of John and Jessie Fremont
DESCRIPTION:Gregory Wolk\, author of a new work of nonfiction published by the Missouri Historical Society Press\, describes the eventful 100 days in 1861 that western explorer John C. Fremont commanded the Western Department of the US Army from headquarters in St. Louis. An in-depth discussion of important military campaigns of the period is coupled with political intrigue when Fremont’s wife – the daughter of Missouri Senator Thomas Hart Benton – joins her husband’s fight against the powerful Francis Blair family of Washington and St. Louis in order to advance the cause of emancipation. In 1861\, President Abraham Lincoln resists the call for emancipation\, fearing that Missouri and Kentucky may join the Confederacy.
URL:https://mohumanities.org/event/lecturemissouri-in-1861-the-rise-and-fall-of-john-and-jessie-fremont/
LOCATION:The Orris theater\, 265 Merchant Street\, Ste. Genevieve\, 63670
CATEGORIES:Around Our Community
ATTACH;FMTTYPE=image/jpeg:https://mohumanities.org/wp-content/uploads/2026/01/image-for-calendar-rise-and-fall.jpg
ORGANIZER;CN="Sons of Union veterans":MAILTO:muellerrj13@yahoo.com
END:VEVENT
BEGIN:VEVENT
DTSTART;TZID=America/Chicago:20260211T180000
DTEND;TZID=America/Chicago:20260211T190000
DTSTAMP:20260420T061743
CREATED:20251113T181222Z
LAST-MODIFIED:20251113T181222Z
UID:10002764-1770832800-1770836400@mohumanities.org
SUMMARY:Unseen St. Louis
DESCRIPTION:When historians visit the archive\, they often find weird\, surprising\, and fun material that they rarely get to share with others…but that ends here! This event shares the stories of a selection of images and objects from various St. Louis archives that reveal an unknown side of St. Louis history. The presentation is fun\, upbeat\, and conversational spanning from the nineteenth century to today\, from newspapers and magazines to photography and phonograph records.
URL:https://mohumanities.org/event/unseen-st-louis/
LOCATION:Ste Genevieve Museum Learning Center\, 360 Market St\, Ste. Genevieve\, 63670
CATEGORIES:Around Our Community
ATTACH;FMTTYPE=image/jpeg:https://mohumanities.org/wp-content/uploads/2025/11/Historical-Image.jpg
ORGANIZER;CN="Missouri Humanities":MAILTO:mailmohumanities@gmail.com
END:VEVENT
BEGIN:VEVENT
DTSTART;TZID=America/Chicago:20260212T120000
DTEND;TZID=America/Chicago:20260212T130000
DTSTAMP:20260420T061743
CREATED:20260128T201123Z
LAST-MODIFIED:20260128T201123Z
UID:10002813-1770897600-1770901200@mohumanities.org
SUMMARY:Sweet Obsessions: Chocolate and candy history in Missouri
DESCRIPTION:An overview of candy history and the celebrated confectioners who made created and sold candy in Missouri.
URL:https://mohumanities.org/event/sweet-obsessions-chocolate-and-candy-history-in-missouri/
LOCATION:First Capital Lions Club Building\, 520 N Benton\, St. Charles\, 63301
CATEGORIES:Around Our Community
ATTACH;FMTTYPE=image/jpeg:https://mohumanities.org/wp-content/uploads/2026/01/OIP.pwlIfhTS7sXzrbLnN26ZbwAAAA.jpeg
ORGANIZER;CN="Rotary Club of Saint Charles":MAILTO:chrishoffman_851@msn.com
END:VEVENT
BEGIN:VEVENT
DTSTART;TZID=America/Chicago:20260212T180000
DTEND;TZID=America/Chicago:20260212T190000
DTSTAMP:20260420T061743
CREATED:20260204T180319Z
LAST-MODIFIED:20260204T180319Z
UID:10002819-1770919200-1770922800@mohumanities.org
SUMMARY:Civil Rights Night: The Impact of Racial Laws from Jim Crow to the Holocaust
DESCRIPTION:Join the St. Louis Kaplan Feldman Holocaust Museum for Civil Rights Night: The Impact of Racial Laws from Jim Crow and the Holocaust featuring historian Dr. Dan J. Puckett\, Professor of History at Troy University and Chair of the Alabama Holocaust Commission. Dr. Puckett will explore racial laws in both American history and the Holocaust. He will be joined in conversation by Reverend Rodrick Burton\, President at St. Louis Airport Interfaith Chaplaincy and member of the Museum’s Board of Directors. \nThis event offers a thought-provoking look at how the histories of racial oppression in the American history and Nazi genocide relate\, inviting reflection on civil rights\, justice\, and historical memory.
URL:https://mohumanities.org/event/civil-rights-night-the-impact-of-racial-laws-from-jim-crow-to-the-holocaust/
LOCATION:St. Louis Kaplan Feldman Holocaust Museum\, 36 Millstone Campus Drive\, St. Louis\, 63146
CATEGORIES:Around Our Community
ORGANIZER;CN="St. Louis Kaplan Feldman Holocaust Museum":MAILTO:kjones@stlholocaustmuseum.org
END:VEVENT
BEGIN:VEVENT
DTSTART;TZID=America/Chicago:20260214T100000
DTEND;TZID=America/Chicago:20260214T230000
DTSTAMP:20260420T061743
CREATED:20260128T200151Z
LAST-MODIFIED:20260128T200151Z
UID:10002811-1771063200-1771110000@mohumanities.org
SUMMARY:The Courtship of Ulysses and Julia Grant
DESCRIPTION:Come learn about the love story of Ulysses and Julia on February 14th. Park Guide Sky Castilleja will present and discuss their courtship and young relationship.\nThe program is free. Call 314-842-1867 ext. 230 for reservations.
URL:https://mohumanities.org/event/the-courtship-of-ulysses-and-julia-grant/
LOCATION:Ulysses S. Grant National Historic Site\, 7400 Grant Rd\, St. Louis\, MO\, 63123\, United States
CATEGORIES:Around Our Community
GEO:38.5513274;-90.3521476
X-APPLE-STRUCTURED-LOCATION;VALUE=URI;X-ADDRESS=Ulysses S. Grant National Historic Site 7400 Grant Rd St. Louis MO 63123 United States;X-APPLE-RADIUS=500;X-TITLE=7400 Grant Rd:geo:-90.3521476,38.5513274
END:VEVENT
BEGIN:VEVENT
DTSTART;TZID=America/Chicago:20260217T180000
DTEND;TZID=America/Chicago:20260217T200000
DTSTAMP:20260420T061743
CREATED:20260218T183005Z
LAST-MODIFIED:20260218T183005Z
UID:10002820-1771351200-1771358400@mohumanities.org
SUMMARY:Missouri in the Revolution
DESCRIPTION:National Society Daughters of the American Revolution\, NSDAR\, the American Battlefield Trust\, the Jane Randolph Jefferson Chapter\, NSDAR\, The Missouri State Archives\, the Christopher Casey Chapter\, SAR\, and the Cole County America 250th Committee have partnered to bring a free\, nationwide traveling exhibition\, “The American Revolution Experience\,” to Jefferson City from February 17 – March 5. Members of the Cole County America 250th Committee and the Christopher Casey Chapter\, SAR\, will present a program on George Rogers Clark and the Missouri in the Revolution to kick things off.
URL:https://mohumanities.org/event/missouri-in-the-revolution/
LOCATION:Missouri State Archives\, 600 W. Main St.\, Jefferson City\, 65101
ATTACH;FMTTYPE=image/png:https://mohumanities.org/wp-content/uploads/2026/02/American-Battlefield-Trust.png
ORGANIZER;CN="Cole County 250th Anniversary Committee":MAILTO:cliffolsen1776@gmail.com
GEO:38.5837862;-92.1780428
X-APPLE-STRUCTURED-LOCATION;VALUE=URI;X-ADDRESS=Missouri State Archives 600 W. Main St. Jefferson City 65101;X-APPLE-RADIUS=500;X-TITLE=600 W. Main St.:geo:-92.1780428,38.5837862
END:VEVENT
END:VCALENDAR