BEGIN:VCALENDAR
VERSION:2.0
PRODID:-//Missouri Humanities - ECPv6.15.20//NONSGML v1.0//EN
CALSCALE:GREGORIAN
METHOD:PUBLISH
X-WR-CALNAME:Missouri Humanities
X-ORIGINAL-URL:https://mohumanities.org
X-WR-CALDESC:Events for Missouri Humanities
REFRESH-INTERVAL;VALUE=DURATION:PT1H
X-Robots-Tag:noindex
X-PUBLISHED-TTL:PT1H
BEGIN:VTIMEZONE
TZID:America/Chicago
BEGIN:DAYLIGHT
TZOFFSETFROM:-0600
TZOFFSETTO:-0500
TZNAME:CDT
DTSTART:20250309T080000
END:DAYLIGHT
BEGIN:STANDARD
TZOFFSETFROM:-0500
TZOFFSETTO:-0600
TZNAME:CST
DTSTART:20251102T070000
END:STANDARD
BEGIN:DAYLIGHT
TZOFFSETFROM:-0600
TZOFFSETTO:-0500
TZNAME:CDT
DTSTART:20260308T080000
END:DAYLIGHT
BEGIN:STANDARD
TZOFFSETFROM:-0500
TZOFFSETTO:-0600
TZNAME:CST
DTSTART:20261101T070000
END:STANDARD
BEGIN:DAYLIGHT
TZOFFSETFROM:-0600
TZOFFSETTO:-0500
TZNAME:CDT
DTSTART:20270314T080000
END:DAYLIGHT
BEGIN:STANDARD
TZOFFSETFROM:-0500
TZOFFSETTO:-0600
TZNAME:CST
DTSTART:20271107T070000
END:STANDARD
END:VTIMEZONE
BEGIN:VEVENT
DTSTART;TZID=America/Chicago:20260130T193000
DTEND;TZID=America/Chicago:20260130T210000
DTSTAMP:20260420T012218
CREATED:20260109T145616Z
LAST-MODIFIED:20260109T145616Z
UID:10002793-1769801400-1769806800@mohumanities.org
SUMMARY:Lindenwood University's Winter Dance Concert
DESCRIPTION:This year’s Winter Dance Concert highlights the creative voices of our sophomore and junior choreographers. Each pair has crafted original work and set it on their peers\, resulting in thirteen unique pieces that move through humor\, heartbreak\, imagination\, and joy. The program offers an intimate look at the artistry emerging within our program and invites audiences to experience a wide range of emotional and creative perspectives. Join us for three evenings in our three-sided black box theater\, where you’ll be immersed in the action and seated up close to the performers as these young artists share the work they have built together.
URL:https://mohumanities.org/event/lindenwood-universitys-winter-dance-concert/2026-01-30/
LOCATION:The J. Scheidegger Center for the Arts\, 2300 W Clay St\, St Charles\, MO\, 63301\, United States
ORGANIZER;CN="Dance%3A":MAILTO:TZweier@lindenwood.edu
END:VEVENT
BEGIN:VEVENT
DTSTART;TZID=America/Chicago:20260131T130000
DTEND;TZID=America/Chicago:20260131T140000
DTSTAMP:20260420T012218
CREATED:20251212T152418Z
LAST-MODIFIED:20251212T152418Z
UID:10002778-1769864400-1769868000@mohumanities.org
SUMMARY:Author Talk: Black St. Louis
DESCRIPTION:Black St. Louis explores the rich and inspiring history of African Americans in St. Louis from the city’s founding as a French fur trading post during the Spanish colonial era to\nthe new millennium. Author NiNi Harris highlights great figures who showed leadership\, incredible innovation\, and courage despite the injustices they faced. \nThe program is free. Call 314-842-1867 ext. 230 for reservations.
URL:https://mohumanities.org/event/author-talk-black-st-louis/
LOCATION:Ulysses S. Grant National Historic Site\, 7400 Grant Rd\, St. Louis\, MO\, 63123\, United States
CATEGORIES:Around Our Community
ATTACH;FMTTYPE=image/jpeg:https://mohumanities.org/wp-content/uploads/2025/12/book-cover.jpg
GEO:38.5513274;-90.3521476
X-APPLE-STRUCTURED-LOCATION;VALUE=URI;X-ADDRESS=Ulysses S. Grant National Historic Site 7400 Grant Rd St. Louis MO 63123 United States;X-APPLE-RADIUS=500;X-TITLE=7400 Grant Rd:geo:-90.3521476,38.5513274
END:VEVENT
BEGIN:VEVENT
DTSTART;TZID=America/Chicago:20260131T193000
DTEND;TZID=America/Chicago:20260131T210000
DTSTAMP:20260420T012218
CREATED:20260109T145616Z
LAST-MODIFIED:20260109T145616Z
UID:10002794-1769887800-1769893200@mohumanities.org
SUMMARY:Lindenwood University's Winter Dance Concert
DESCRIPTION:This year’s Winter Dance Concert highlights the creative voices of our sophomore and junior choreographers. Each pair has crafted original work and set it on their peers\, resulting in thirteen unique pieces that move through humor\, heartbreak\, imagination\, and joy. The program offers an intimate look at the artistry emerging within our program and invites audiences to experience a wide range of emotional and creative perspectives. Join us for three evenings in our three-sided black box theater\, where you’ll be immersed in the action and seated up close to the performers as these young artists share the work they have built together.
URL:https://mohumanities.org/event/lindenwood-universitys-winter-dance-concert/2026-01-31/
LOCATION:The J. Scheidegger Center for the Arts\, 2300 W Clay St\, St Charles\, MO\, 63301\, United States
ORGANIZER;CN="Dance%3A":MAILTO:TZweier@lindenwood.edu
END:VEVENT
BEGIN:VEVENT
DTSTART;TZID=America/Chicago:20260201T000000
DTEND;TZID=America/Chicago:20260201T233000
DTSTAMP:20260420T012218
CREATED:20260218T181113Z
LAST-MODIFIED:20260218T181113Z
UID:10002824-1769904000-1769988600@mohumanities.org
SUMMARY:12 Months of Giving
DESCRIPTION:At Foster Wallace Personal Injury Lawyers\, giving back matters. Through our 12 Months of Giving initiative\, we’re donating $3\,000 each month in 2026 to local nonprofits making a difference. We invite you to nominate a local nonprofit meaningful to you using the form on our event page. Monthly recipients will be announced on our website and social media channels.
URL:https://mohumanities.org/event/12-months-of-giving/
LOCATION:Foster Wallace Personal Injury Lawyers\, 4700 Belleview Ave Suite 304\, Kansas City\, 64112
CATEGORIES:Around Our Community
ATTACH;FMTTYPE=image/jpeg:https://mohumanities.org/wp-content/uploads/2026/02/12months.jpg
ORGANIZER;CN="Foster Wallace Personal Injury Lawyers":MAILTO:legaldirectorylinks+fosterwallaceeventsKansasCity@gmail.com
END:VEVENT
BEGIN:VEVENT
DTSTART;TZID=America/Chicago:20260205T173000
DTEND;TZID=America/Chicago:20260205T183000
DTSTAMP:20260420T012218
CREATED:20260112T195139Z
LAST-MODIFIED:20260112T195139Z
UID:10002798-1770312600-1770316200@mohumanities.org
SUMMARY:History of Chocolate and Candy Making in Missouri
DESCRIPTION:An overview of the products and producers of the confections that have made Missouri a culinary destination.
URL:https://mohumanities.org/event/history-of-chocolate-and-candy-making-in-missouri/
CATEGORIES:Around Our Community
ORGANIZER;CN="Crawford County Library Dist.":MAILTO:mailto:cclddirector@crawfordcountylibrarydistrict.org
END:VEVENT
BEGIN:VEVENT
DTSTART;TZID=America/Chicago:20260205T180000
DTEND;TZID=America/Chicago:20260205T200000
DTSTAMP:20260420T012218
CREATED:20260121T154522Z
LAST-MODIFIED:20260121T154522Z
UID:10002808-1770314400-1770321600@mohumanities.org
SUMMARY:America's 250th: Celebrating Black History Month
DESCRIPTION:Celebrate Black History Month with the release of a local history book about Black soldiers in the Civil War from Cole County. The Cole County America 250th Committee hosts a program including author Michelle Brooks\, portrayals of President Abraham Lincoln and Lincoln University’s first president Richard Baxter Foster\, and Bob Priddy as emcee. Come early to view displays about local Black history.
URL:https://mohumanities.org/event/americas-250th-celebrating-black-history-month/
LOCATION:Lincoln University\, 812 East Dunklin St.\, Martin Luther King\, Jr. Hall\, Room 106\, Jefferson City\, 65201
CATEGORIES:Around Our Community
ORGANIZER;CN="Cole County 250th Anniversary Committee":MAILTO:cliffolsen1776@gmail.com
GEO:38.5652459;-92.1677045
X-APPLE-STRUCTURED-LOCATION;VALUE=URI;X-ADDRESS=Lincoln University 812 East Dunklin St. Martin Luther King Jr. Hall Room 106 Jefferson City 65201;X-APPLE-RADIUS=500;X-TITLE=812 East Dunklin St.\, Martin Luther King\, Jr. Hall\, Room 106:geo:-92.1677045,38.5652459
END:VEVENT
END:VCALENDAR