BEGIN:VCALENDAR
VERSION:2.0
PRODID:-//Missouri Humanities - ECPv6.15.20//NONSGML v1.0//EN
CALSCALE:GREGORIAN
METHOD:PUBLISH
X-WR-CALNAME:Missouri Humanities
X-ORIGINAL-URL:https://mohumanities.org
X-WR-CALDESC:Events for Missouri Humanities
REFRESH-INTERVAL;VALUE=DURATION:PT1H
X-Robots-Tag:noindex
X-PUBLISHED-TTL:PT1H
BEGIN:VTIMEZONE
TZID:America/Chicago
BEGIN:DAYLIGHT
TZOFFSETFROM:-0600
TZOFFSETTO:-0500
TZNAME:CDT
DTSTART:20250309T080000
END:DAYLIGHT
BEGIN:STANDARD
TZOFFSETFROM:-0500
TZOFFSETTO:-0600
TZNAME:CST
DTSTART:20251102T070000
END:STANDARD
BEGIN:DAYLIGHT
TZOFFSETFROM:-0600
TZOFFSETTO:-0500
TZNAME:CDT
DTSTART:20260308T080000
END:DAYLIGHT
BEGIN:STANDARD
TZOFFSETFROM:-0500
TZOFFSETTO:-0600
TZNAME:CST
DTSTART:20261101T070000
END:STANDARD
BEGIN:DAYLIGHT
TZOFFSETFROM:-0600
TZOFFSETTO:-0500
TZNAME:CDT
DTSTART:20270314T080000
END:DAYLIGHT
BEGIN:STANDARD
TZOFFSETFROM:-0500
TZOFFSETTO:-0600
TZNAME:CST
DTSTART:20271107T070000
END:STANDARD
BEGIN:DAYLIGHT
TZOFFSETFROM:-0600
TZOFFSETTO:-0500
TZNAME:CDT
DTSTART:20280312T080000
END:DAYLIGHT
BEGIN:STANDARD
TZOFFSETFROM:-0500
TZOFFSETTO:-0600
TZNAME:CST
DTSTART:20281105T070000
END:STANDARD
END:VTIMEZONE
BEGIN:VEVENT
DTSTART;VALUE=DATE:20260606
DTEND;VALUE=DATE:20260607
DTSTAMP:20260425T082150
CREATED:20260115T173728Z
LAST-MODIFIED:20260115T173728Z
UID:10002803-1780704000-1780790399@mohumanities.org
SUMMARY:First Saturdays at Keystone: Arts\, Culture & Creative Entrepreneurship
DESCRIPTION:First Saturdays at Keystone: Arts\, Culture & Creative Entrepreneurship
URL:https://mohumanities.org/event/first-saturdays-at-keystone-arts-culture-creative-entrepreneurship/2026-06-06/
LOCATION:Keystone CoLAB\, 800 E 18th St\, Kansas City\, 64108
ORGANIZER;CN="18th and Vine Arts Festival Foundation":MAILTO:info@18thandvineartsfest.org
END:VEVENT
BEGIN:VEVENT
DTSTART;TZID=America/Chicago:20260606T080000
DTEND;TZID=America/Chicago:20260606T170000
DTSTAMP:20260425T082150
CREATED:20260406T172942Z
LAST-MODIFIED:20260406T172942Z
UID:10003531-1780732800-1780765200@mohumanities.org
SUMMARY:Art On The Side - Liberty
DESCRIPTION:A Celebration of Creativity! Join us in historic downtown Liberty\, Missouri\, for the annual Art on the Side Liberty Art Festival\, a vibrant showcase of art\, craftsmanship\, and entertainment! This year’s festival will feature over 80 talented artists and artisan makers displaying their stunning creations. From fine art to handcrafted goods\, there will be something for everyone to admire\, purchase\, and enjoy. The event will take place in the parking lots and on Main Street\, right next to The Artisan Market at 118 N Main Street\, Liberty\, MO\, transforming the area into a lively hub of artistic expression. The festival runs from 8:00 AM to 5:00 PM\, packed with activities for all ages! Here’s what you can look forward to: Fine Artists & Artisan Marketplace: Explore an array of artwork and handcrafted items created by local and regional artists and makers. Paintings\, glass\, jewelry\, textiles\, ceramics\, and more await you. Food Trucks: Treat yourself to delicious eats from a variety of food vendors offering local favorites. Children’s Activities: Bring the kids for chalk art\, face painting\, and other fun activities designed to spark their creativity.
URL:https://mohumanities.org/event/art-on-the-side-liberty/
LOCATION:M
CATEGORIES:Around Our Community
ATTACH;FMTTYPE=image/jpeg:https://mohumanities.org/wp-content/uploads/2026/04/art-on-the-side-logo.jpg
ORGANIZER;CN="The Artisan Market":MAILTO:shawn@libertyartisanmarket.com
END:VEVENT
BEGIN:VEVENT
DTSTART;TZID=America/Chicago:20260613T113000
DTEND;TZID=America/Chicago:20260613T210000
DTSTAMP:20260425T082150
CREATED:20260406T154031Z
LAST-MODIFIED:20260406T154031Z
UID:10003528-1781350200-1781384400@mohumanities.org
SUMMARY:2026 French Heritage Festival
DESCRIPTION:The Ste. Genevieve French Heritage Festival is a cultural celebration of treasured traditions\, skills\, cuisines\, stories and musical talents of the French Creole Corridor in and around Ste. Genevieve. Held annually on the second Saturday in June\, the French Heritage Festival features musical performances\, storytelling\, living history skill demonstrations\, games and frontier folk dancing in a family friendly event set among the amazing and rare 18th century architecture of the Ste. Genevieve historic district.
URL:https://mohumanities.org/event/2026-french-heritage-festival/
LOCATION:Lion’s Club Park\, 155 Market Street\, Ste. Genevieve\, 63670
CATEGORIES:Around Our Community
ORGANIZER;CN="Foundation for Restoration of Ste. Genevieve":MAILTO:ffrsg67@gmail.com
END:VEVENT
BEGIN:VEVENT
DTSTART;TZID=America/Chicago:20260614T100000
DTEND;TZID=America/Chicago:20260614T160000
DTSTAMP:20260425T082150
CREATED:20250127T172121Z
LAST-MODIFIED:20250221T175639Z
UID:10002160-1781431200-1781452800@mohumanities.org
SUMMARY:Second Sunday- Free Days at the Museum
DESCRIPTION:Bring the whole family to Free Days at the Museum. Occurring on every second Sunday of the month\, Free Days provide greater access to The National Museum of Toys and Miniatures’ vast and awe-inspiring collections for visitors near and far. \nAll attendees can explore the Museum at no charge.
URL:https://mohumanities.org/event/second-sunday-free-days-at-the-museum/2026-06-14/
LOCATION:The National Museum of Toys and Miniatures\, 5235 Oak Street\, Kansas City\, MO 64112\, Kansas City\, M\, 64112\, United States
CATEGORIES:Around Our Community
ATTACH;FMTTYPE=image/png:https://mohumanities.org/wp-content/uploads/2025/01/event-featured-second-sunday-free-days-at-the-museum-1731947823-856x600-1.png
ORGANIZER;CN="The National Museum of Toys and Miniatures":MAILTO:info@toyandminiaturemuseum.org
END:VEVENT
BEGIN:VEVENT
DTSTART;TZID=America/Chicago:20260630T180000
DTEND;TZID=America/Chicago:20260630T210000
DTSTAMP:20260425T082150
CREATED:20260423T172311Z
LAST-MODIFIED:20260423T172422Z
UID:10003553-1782842400-1782853200@mohumanities.org
SUMMARY:Keynote Event: Denise Kiernan
DESCRIPTION:Join Missouri Humanities in St. Louis this summer for a fireside chat with bestselling author Denise Kiernan! \nKiernan is the author of The Girls of Atomic City and The Last Castle. She will be discussing her upcoming book\, Obstinate Daughters\, about the writers\, renegades\, enslaved women\, soldiers\, and community leaders who ignited the fight for America’s independence. \nThis program is supported by the Kinder Institute on Constitutional Democracy\, The State Historical Society of Missouri\, and Anders CPA.\nJune 30th\, 2026 │ The Grandel Theatre\, St. Louis\, MO \nPurchase tickets at https://www.metrotix.com/events/detail/denise-kiernan
URL:https://mohumanities.org/event/keynote-event-denise-kiernan/
LOCATION:The Grandel Theatre\, 3610 Grandel Square\, St. Louis\, 63103
CATEGORIES:MOHumanities
ATTACH;FMTTYPE=image/png:https://mohumanities.org/wp-content/uploads/2026/04/Save-the-Date-INSTA-768x960-1.png
ORGANIZER;CN="Missouri Humanities":MAILTO:mailmohumanities@gmail.com
END:VEVENT
BEGIN:VEVENT
DTSTART;VALUE=DATE:20260704
DTEND;VALUE=DATE:20260705
DTSTAMP:20260425T082150
CREATED:20260115T173728Z
LAST-MODIFIED:20260115T173728Z
UID:10002804-1783123200-1783209599@mohumanities.org
SUMMARY:First Saturdays at Keystone: Arts\, Culture & Creative Entrepreneurship
DESCRIPTION:First Saturdays at Keystone: Arts\, Culture & Creative Entrepreneurship
URL:https://mohumanities.org/event/first-saturdays-at-keystone-arts-culture-creative-entrepreneurship/2026-07-04/
LOCATION:Keystone CoLAB\, 800 E 18th St\, Kansas City\, 64108
ORGANIZER;CN="18th and Vine Arts Festival Foundation":MAILTO:info@18thandvineartsfest.org
END:VEVENT
BEGIN:VEVENT
DTSTART;VALUE=DATE:20260710
DTEND;VALUE=DATE:20260712
DTSTAMP:20260425T082150
CREATED:20260423T172111Z
LAST-MODIFIED:20260423T172111Z
UID:10003551-1783641600-1783814399@mohumanities.org
SUMMARY:MO-TELL's Annual Liars Contest
DESCRIPTION:MOTELL\, Missouri Storytelling organization\, will be holding their annual Liars Contest July 10&11. Friday night we will open with a free storytelling concert with nationally renowned storytellers and local live music. Saturday will begin at 9:30 with a free workshop on storytelling. The contest will begin at 2:00. Come hear the whoppers and see who wins bragging rights for Missouri’s biggest liar.
URL:https://mohumanities.org/event/mo-tells-annual-liars-contest/
LOCATION:Joplin Avenue Coffee Company\, 506 S. Joplin Ave.\, Joplin\, 64801
CATEGORIES:Around Our Community
END:VEVENT
BEGIN:VEVENT
DTSTART;TZID=America/Chicago:20260712T100000
DTEND;TZID=America/Chicago:20260712T160000
DTSTAMP:20260425T082150
CREATED:20250127T172121Z
LAST-MODIFIED:20250221T175639Z
UID:10002161-1783850400-1783872000@mohumanities.org
SUMMARY:Second Sunday- Free Days at the Museum
DESCRIPTION:Bring the whole family to Free Days at the Museum. Occurring on every second Sunday of the month\, Free Days provide greater access to The National Museum of Toys and Miniatures’ vast and awe-inspiring collections for visitors near and far. \nAll attendees can explore the Museum at no charge.
URL:https://mohumanities.org/event/second-sunday-free-days-at-the-museum/2026-07-12/
LOCATION:The National Museum of Toys and Miniatures\, 5235 Oak Street\, Kansas City\, MO 64112\, Kansas City\, M\, 64112\, United States
CATEGORIES:Around Our Community
ATTACH;FMTTYPE=image/png:https://mohumanities.org/wp-content/uploads/2025/01/event-featured-second-sunday-free-days-at-the-museum-1731947823-856x600-1.png
ORGANIZER;CN="The National Museum of Toys and Miniatures":MAILTO:info@toyandminiaturemuseum.org
END:VEVENT
BEGIN:VEVENT
DTSTART;TZID=America/Chicago:20260718T130000
DTEND;TZID=America/Chicago:20260718T140000
DTSTAMP:20260425T082150
CREATED:20260105T182635Z
LAST-MODIFIED:20260105T182635Z
UID:10002785-1784379600-1784383200@mohumanities.org
SUMMARY:Author Talk: Guerillas in Civil War Missouri
DESCRIPTION:The Field House Museum is pleased to welcome author and historian James Erwin!\nJames Erwin will speak on his book Guerillas in Civil War Missouri at the Field House Museum\, Saturday\, July 18th at 1:00pm. As a border state\, and one with deeply divided political sentiments\, the Civil War was uniquely intimate in Missouri. Besides the 26 large battles fought in the state\, Missouri was the setting for countless skirmishes. Citizens and soldiers alike took part in or fell victim to the guerrilla warfare that became a characteristic of Missouri’s Civil War struggle. James Erwin will walk listeners through the key people\, places\, and engagements of Missouri’s guerilla war. \nThis program is free with limited availability in person and on Zoom. Reservations must be made in advance on our website\, by calling the Museum at 314-421-4689\, or by emailing info@fieldhousemuseum.org. \nAbout the Speaker:\nJim Erwin practiced law in St. Louis for 38 years. He is the author or co-author of eight books on various local history subjects\, including the Civil War in Missouri\, steamboat disasters\, and 200 years of notorious crimes in Missouri. His latest book (with his wife Vicki) is Ulysses and Julia Grant’s Missouri Love Story\, published by the History Press in 2025.
URL:https://mohumanities.org/event/author-talk-guerillas-in-civil-war-missouri/
LOCATION:Field House Museum\, 634 S Broadway\, Saint Louis\, MO\, 63102\, United States
CATEGORIES:Around Our Community
ORGANIZER;CN="Field House Museum":MAILTO:info@fieldhousemuseum.org
GEO:38.6199886;-90.1919613
X-APPLE-STRUCTURED-LOCATION;VALUE=URI;X-ADDRESS=Field House Museum 634 S Broadway Saint Louis MO 63102 United States;X-APPLE-RADIUS=500;X-TITLE=634 S Broadway:geo:-90.1919613,38.6199886
END:VEVENT
BEGIN:VEVENT
DTSTART;TZID=America/Chicago:20260809T100000
DTEND;TZID=America/Chicago:20260809T160000
DTSTAMP:20260425T082150
CREATED:20250127T172121Z
LAST-MODIFIED:20250221T175639Z
UID:10002162-1786269600-1786291200@mohumanities.org
SUMMARY:Second Sunday- Free Days at the Museum
DESCRIPTION:Bring the whole family to Free Days at the Museum. Occurring on every second Sunday of the month\, Free Days provide greater access to The National Museum of Toys and Miniatures’ vast and awe-inspiring collections for visitors near and far. \nAll attendees can explore the Museum at no charge.
URL:https://mohumanities.org/event/second-sunday-free-days-at-the-museum/2026-08-09/
LOCATION:The National Museum of Toys and Miniatures\, 5235 Oak Street\, Kansas City\, MO 64112\, Kansas City\, M\, 64112\, United States
CATEGORIES:Around Our Community
ATTACH;FMTTYPE=image/png:https://mohumanities.org/wp-content/uploads/2025/01/event-featured-second-sunday-free-days-at-the-museum-1731947823-856x600-1.png
ORGANIZER;CN="The National Museum of Toys and Miniatures":MAILTO:info@toyandminiaturemuseum.org
END:VEVENT
BEGIN:VEVENT
DTSTART;TZID=America/Chicago:20260819T180000
DTEND;TZID=America/Chicago:20260819T190000
DTSTAMP:20260425T082150
CREATED:20260406T153626Z
LAST-MODIFIED:20260406T153626Z
UID:10003524-1787162400-1787166000@mohumanities.org
SUMMARY:Women in the Archive
DESCRIPTION:Dive into the untold stories of remarkable women through short vignettes centered around meaningful objects. Participants are invited to bring their own piece of women’s history\, whether a family heirloom or personal memento\, and join the discussion on preserving and recovering the often overlooked narratives of women’s lives.
URL:https://mohumanities.org/event/women-in-the-archive/
LOCATION:Jefferson County Library – Northwest Branch\, 5680 Missouri PP\, High Ridge\, 63049
CATEGORIES:Around Our Community
ATTACH;FMTTYPE=image/jpeg:https://mohumanities.org/wp-content/uploads/2026/03/Historical-Image.jpg
ORGANIZER;CN="Missouri Humanities":MAILTO:mailmohumanities@gmail.com
END:VEVENT
BEGIN:VEVENT
DTSTART;TZID=America/Chicago:20260822T130000
DTEND;TZID=America/Chicago:20260822T140000
DTSTAMP:20260425T082150
CREATED:20260204T180451Z
LAST-MODIFIED:20260204T180451Z
UID:10002818-1787403600-1787407200@mohumanities.org
SUMMARY:Author Talk: The War for Missouri: 1861-1862
DESCRIPTION:The Field House Museum is pleased to welcome author and historian Joseph McCoskrie.\nAuthor of War for Missouri: 1861-1862 Joseph McCoskrie will walk guests through the history detailed in his book . McCoskrie will reveal the first years of the Civil War in Missouri\, a particularly bitter theatre of the American Civil War.\nJoin us at the Field House Museum Saturday\, August 22nd at 1:00 pm to learn about the important people\, places and events of the Civil War in our state!\nThis program is free with limited availability in person and on Zoom. Reservations must be made in advance on our website\, by calling the Museum at 314-421-4689\, or by emailing info@fieldhousemuseum.org. \nAbout the Speaker:\nJoseph McCoskrie is a long time Kansas City\, Missouri resident currently living in Fulton\, Missouri. He is a graduate of the Virginia Military Institute and is a retired Lieutenant Colonel in the United States Army. McCoskrie taught Leadership & Military History for the University of Missouri’s Army ROTC\, and has been a Churchill Fellow and tour guide at the National Churchill Museum in Fulton for the past 13 years. McCoskrie’s books include The Civil War Missouri Compendium: Almost Unabridged and War for Missouri: 1861-1862.
URL:https://mohumanities.org/event/author-talk-the-war-for-missouri-1861-1862/
LOCATION:Field House Museum\, 634 S Broadway\, Saint Louis\, MO\, 63102\, United States
ORGANIZER;CN="Field House Museum":MAILTO:info@fieldhousemuseum.org
GEO:38.6199886;-90.1919613
X-APPLE-STRUCTURED-LOCATION;VALUE=URI;X-ADDRESS=Field House Museum 634 S Broadway Saint Louis MO 63102 United States;X-APPLE-RADIUS=500;X-TITLE=634 S Broadway:geo:-90.1919613,38.6199886
END:VEVENT
BEGIN:VEVENT
DTSTART;TZID=America/Chicago:20260905T130000
DTEND;TZID=America/Chicago:20260905T140000
DTSTAMP:20260425T082150
CREATED:20260105T182510Z
LAST-MODIFIED:20260105T182510Z
UID:10002788-1788613200-1788616800@mohumanities.org
SUMMARY:Speaker Series: Poetry with Laureate Justin Hamm
DESCRIPTION:The Field House Museum is pleased to welcome Missouri Poet Laureate\, Justin Hamm\, for a special live performance.\nJustin Hamm\, named Poet Laureate in 2025\, will bring his modern verse to the birthplace and boyhood home of the “Children’s Poet\,” Eugene Field. Join us at the Field House Museum to enjoy an afternoon of poetry honoring the form Eugene Field held dear.\nThis program is free with limited availability in person and on Zoom. Reservations must be made in advance on our website\, by calling the Museum at 314-421-4689\, or by emailing info@fieldhousemuseum.org. \nAbout the Speaker:\nJustin Hamm is the current Missouri Poet Laureate (2025-2027). He is the author of five books of poetry—O Death\, Drinking Guinness With the Dead: Poems 2007–2021\, The Inheritance\, American Ephemeral\, and Lessons in Ruin—as well as the creator of Poet Baseball Cards and founding editor of the museum of americana. Justin was chosen as a 2024 and 2022 Woody Guthrie Poet\, a 2020 Missouri Arts Council Featured Artist\, a finalist for the 2018 River Styx International Poetry Prize\, and the winner of the 2014 Stanley Hanks Memorial Poetry Prize.\nHis poems\, stories\, collages\, and reviews have appeared in Nimrod International Journal\, The Midwest Quarterly\, Sugar House Review\, Verse Daily\, Southern Indiana Review\, the New Poetry from the Midwest anthology series\, and many other publications. In 2022 he delivered a performance entitled “The American Midwest: a Story in Poems” at TEDx Oshkosh\, and in 2019 his poem “Goodbye\, Sancho Panza” was studied by approximately 50\,000 students worldwide as part of the World Scholar’s Cup curriculum.
URL:https://mohumanities.org/event/speaker-series-poetry-with-laureate-justin-hamm/
LOCATION:Field House Museum\, 634 S Broadway\, Saint Louis\, MO\, 63102\, United States
CATEGORIES:Around Our Community
ORGANIZER;CN="Field House Museum":MAILTO:info@fieldhousemuseum.org
GEO:38.6199886;-90.1919613
X-APPLE-STRUCTURED-LOCATION;VALUE=URI;X-ADDRESS=Field House Museum 634 S Broadway Saint Louis MO 63102 United States;X-APPLE-RADIUS=500;X-TITLE=634 S Broadway:geo:-90.1919613,38.6199886
END:VEVENT
BEGIN:VEVENT
DTSTART;TZID=America/Chicago:20260913T100000
DTEND;TZID=America/Chicago:20260913T160000
DTSTAMP:20260425T082151
CREATED:20250127T172121Z
LAST-MODIFIED:20250221T175639Z
UID:10002163-1789293600-1789315200@mohumanities.org
SUMMARY:Second Sunday- Free Days at the Museum
DESCRIPTION:Bring the whole family to Free Days at the Museum. Occurring on every second Sunday of the month\, Free Days provide greater access to The National Museum of Toys and Miniatures’ vast and awe-inspiring collections for visitors near and far. \nAll attendees can explore the Museum at no charge.
URL:https://mohumanities.org/event/second-sunday-free-days-at-the-museum/2026-09-13/
LOCATION:The National Museum of Toys and Miniatures\, 5235 Oak Street\, Kansas City\, MO 64112\, Kansas City\, M\, 64112\, United States
CATEGORIES:Around Our Community
ATTACH;FMTTYPE=image/png:https://mohumanities.org/wp-content/uploads/2025/01/event-featured-second-sunday-free-days-at-the-museum-1731947823-856x600-1.png
ORGANIZER;CN="The National Museum of Toys and Miniatures":MAILTO:info@toyandminiaturemuseum.org
END:VEVENT
BEGIN:VEVENT
DTSTART;TZID=America/Chicago:20261011T100000
DTEND;TZID=America/Chicago:20261011T160000
DTSTAMP:20260425T082151
CREATED:20250127T172121Z
LAST-MODIFIED:20250221T175639Z
UID:10002164-1791712800-1791734400@mohumanities.org
SUMMARY:Second Sunday- Free Days at the Museum
DESCRIPTION:Bring the whole family to Free Days at the Museum. Occurring on every second Sunday of the month\, Free Days provide greater access to The National Museum of Toys and Miniatures’ vast and awe-inspiring collections for visitors near and far. \nAll attendees can explore the Museum at no charge.
URL:https://mohumanities.org/event/second-sunday-free-days-at-the-museum/2026-10-11/
LOCATION:The National Museum of Toys and Miniatures\, 5235 Oak Street\, Kansas City\, MO 64112\, Kansas City\, M\, 64112\, United States
CATEGORIES:Around Our Community
ATTACH;FMTTYPE=image/png:https://mohumanities.org/wp-content/uploads/2025/01/event-featured-second-sunday-free-days-at-the-museum-1731947823-856x600-1.png
ORGANIZER;CN="The National Museum of Toys and Miniatures":MAILTO:info@toyandminiaturemuseum.org
END:VEVENT
BEGIN:VEVENT
DTSTART;TZID=America/Chicago:20261108T100000
DTEND;TZID=America/Chicago:20261108T160000
DTSTAMP:20260425T082151
CREATED:20250127T172121Z
LAST-MODIFIED:20250221T175639Z
UID:10002165-1794132000-1794153600@mohumanities.org
SUMMARY:Second Sunday- Free Days at the Museum
DESCRIPTION:Bring the whole family to Free Days at the Museum. Occurring on every second Sunday of the month\, Free Days provide greater access to The National Museum of Toys and Miniatures’ vast and awe-inspiring collections for visitors near and far. \nAll attendees can explore the Museum at no charge.
URL:https://mohumanities.org/event/second-sunday-free-days-at-the-museum/2026-11-08/
LOCATION:The National Museum of Toys and Miniatures\, 5235 Oak Street\, Kansas City\, MO 64112\, Kansas City\, M\, 64112\, United States
CATEGORIES:Around Our Community
ATTACH;FMTTYPE=image/png:https://mohumanities.org/wp-content/uploads/2025/01/event-featured-second-sunday-free-days-at-the-museum-1731947823-856x600-1.png
ORGANIZER;CN="The National Museum of Toys and Miniatures":MAILTO:info@toyandminiaturemuseum.org
END:VEVENT
BEGIN:VEVENT
DTSTART;TZID=America/Chicago:20261213T100000
DTEND;TZID=America/Chicago:20261213T160000
DTSTAMP:20260425T082151
CREATED:20250127T172121Z
LAST-MODIFIED:20250221T175639Z
UID:10002166-1797156000-1797177600@mohumanities.org
SUMMARY:Second Sunday- Free Days at the Museum
DESCRIPTION:Bring the whole family to Free Days at the Museum. Occurring on every second Sunday of the month\, Free Days provide greater access to The National Museum of Toys and Miniatures’ vast and awe-inspiring collections for visitors near and far. \nAll attendees can explore the Museum at no charge.
URL:https://mohumanities.org/event/second-sunday-free-days-at-the-museum/2026-12-13/
LOCATION:The National Museum of Toys and Miniatures\, 5235 Oak Street\, Kansas City\, MO 64112\, Kansas City\, M\, 64112\, United States
CATEGORIES:Around Our Community
ATTACH;FMTTYPE=image/png:https://mohumanities.org/wp-content/uploads/2025/01/event-featured-second-sunday-free-days-at-the-museum-1731947823-856x600-1.png
ORGANIZER;CN="The National Museum of Toys and Miniatures":MAILTO:info@toyandminiaturemuseum.org
END:VEVENT
BEGIN:VEVENT
DTSTART;TZID=America/Chicago:20270110T100000
DTEND;TZID=America/Chicago:20270110T160000
DTSTAMP:20260425T082151
CREATED:20250127T172121Z
LAST-MODIFIED:20250221T175639Z
UID:10002167-1799575200-1799596800@mohumanities.org
SUMMARY:Second Sunday- Free Days at the Museum
DESCRIPTION:Bring the whole family to Free Days at the Museum. Occurring on every second Sunday of the month\, Free Days provide greater access to The National Museum of Toys and Miniatures’ vast and awe-inspiring collections for visitors near and far. \nAll attendees can explore the Museum at no charge.
URL:https://mohumanities.org/event/second-sunday-free-days-at-the-museum/2027-01-10/
LOCATION:The National Museum of Toys and Miniatures\, 5235 Oak Street\, Kansas City\, MO 64112\, Kansas City\, M\, 64112\, United States
CATEGORIES:Around Our Community
ATTACH;FMTTYPE=image/png:https://mohumanities.org/wp-content/uploads/2025/01/event-featured-second-sunday-free-days-at-the-museum-1731947823-856x600-1.png
ORGANIZER;CN="The National Museum of Toys and Miniatures":MAILTO:info@toyandminiaturemuseum.org
END:VEVENT
BEGIN:VEVENT
DTSTART;TZID=America/Chicago:20270214T100000
DTEND;TZID=America/Chicago:20270214T160000
DTSTAMP:20260425T082151
CREATED:20250127T172121Z
LAST-MODIFIED:20250221T175639Z
UID:10002168-1802599200-1802620800@mohumanities.org
SUMMARY:Second Sunday- Free Days at the Museum
DESCRIPTION:Bring the whole family to Free Days at the Museum. Occurring on every second Sunday of the month\, Free Days provide greater access to The National Museum of Toys and Miniatures’ vast and awe-inspiring collections for visitors near and far. \nAll attendees can explore the Museum at no charge.
URL:https://mohumanities.org/event/second-sunday-free-days-at-the-museum/2027-02-14/
LOCATION:The National Museum of Toys and Miniatures\, 5235 Oak Street\, Kansas City\, MO 64112\, Kansas City\, M\, 64112\, United States
CATEGORIES:Around Our Community
ATTACH;FMTTYPE=image/png:https://mohumanities.org/wp-content/uploads/2025/01/event-featured-second-sunday-free-days-at-the-museum-1731947823-856x600-1.png
ORGANIZER;CN="The National Museum of Toys and Miniatures":MAILTO:info@toyandminiaturemuseum.org
END:VEVENT
END:VCALENDAR