BEGIN:VCALENDAR
VERSION:2.0
PRODID:-//Missouri Humanities - ECPv6.15.20//NONSGML v1.0//EN
CALSCALE:GREGORIAN
METHOD:PUBLISH
X-WR-CALNAME:Missouri Humanities
X-ORIGINAL-URL:https://mohumanities.org
X-WR-CALDESC:Events for Missouri Humanities
REFRESH-INTERVAL;VALUE=DURATION:PT1H
X-Robots-Tag:noindex
X-PUBLISHED-TTL:PT1H
BEGIN:VTIMEZONE
TZID:America/Chicago
BEGIN:DAYLIGHT
TZOFFSETFROM:-0600
TZOFFSETTO:-0500
TZNAME:CDT
DTSTART:20260308T080000
END:DAYLIGHT
BEGIN:STANDARD
TZOFFSETFROM:-0500
TZOFFSETTO:-0600
TZNAME:CST
DTSTART:20261101T070000
END:STANDARD
BEGIN:DAYLIGHT
TZOFFSETFROM:-0600
TZOFFSETTO:-0500
TZNAME:CDT
DTSTART:20270314T080000
END:DAYLIGHT
BEGIN:STANDARD
TZOFFSETFROM:-0500
TZOFFSETTO:-0600
TZNAME:CST
DTSTART:20271107T070000
END:STANDARD
BEGIN:DAYLIGHT
TZOFFSETFROM:-0600
TZOFFSETTO:-0500
TZNAME:CDT
DTSTART:20280312T080000
END:DAYLIGHT
BEGIN:STANDARD
TZOFFSETFROM:-0500
TZOFFSETTO:-0600
TZNAME:CST
DTSTART:20281105T070000
END:STANDARD
END:VTIMEZONE
BEGIN:VEVENT
DTSTART;TZID=America/Chicago:20270202T090000
DTEND;TZID=America/Chicago:20270301T170000
DTSTAMP:20260422T174312
CREATED:20260317T172930Z
LAST-MODIFIED:20260317T172930Z
UID:10003457-1801558800-1803920400@mohumanities.org
SUMMARY:Echoes of Blackness
DESCRIPTION:New Short Term Exhibit from April 1-28\, 2026: Echoes of Blackness by Dawn Tree\nDawn Tree is a abstract surrealist artist\, journalist\, and author. Founder of Underground Tree Studios\, she creates vibrant works on wood and textiles\, blending heritage with social justice to bridge history and activism.
URL:https://mohumanities.org/event/echoes-of-blackness/2027-02-02/
LOCATION:Black Archives of Mid-America\, 1722 E. 17th Terr.\,\, Kansas City\, MO\, 64108
CATEGORIES:Around Our Community
ORGANIZER;CN="Black Archives of Mid-America":MAILTO:info@blackarchives.org
GEO:39.0923324;-94.5611934
X-APPLE-STRUCTURED-LOCATION;VALUE=URI;X-ADDRESS=Black Archives of Mid-America 1722 E. 17th Terr. Kansas City MO 64108;X-APPLE-RADIUS=500;X-TITLE=1722 E. 17th Terr.\,:geo:-94.5611934,39.0923324
END:VEVENT
BEGIN:VEVENT
DTSTART;TZID=America/Chicago:20270203T090000
DTEND;TZID=America/Chicago:20270302T170000
DTSTAMP:20260422T174312
CREATED:20260317T172930Z
LAST-MODIFIED:20260317T172930Z
UID:10003458-1801645200-1804006800@mohumanities.org
SUMMARY:Echoes of Blackness
DESCRIPTION:New Short Term Exhibit from April 1-28\, 2026: Echoes of Blackness by Dawn Tree\nDawn Tree is a abstract surrealist artist\, journalist\, and author. Founder of Underground Tree Studios\, she creates vibrant works on wood and textiles\, blending heritage with social justice to bridge history and activism.
URL:https://mohumanities.org/event/echoes-of-blackness/2027-02-03/
LOCATION:Black Archives of Mid-America\, 1722 E. 17th Terr.\,\, Kansas City\, MO\, 64108
CATEGORIES:Around Our Community
ORGANIZER;CN="Black Archives of Mid-America":MAILTO:info@blackarchives.org
GEO:39.0923324;-94.5611934
X-APPLE-STRUCTURED-LOCATION;VALUE=URI;X-ADDRESS=Black Archives of Mid-America 1722 E. 17th Terr. Kansas City MO 64108;X-APPLE-RADIUS=500;X-TITLE=1722 E. 17th Terr.\,:geo:-94.5611934,39.0923324
END:VEVENT
BEGIN:VEVENT
DTSTART;TZID=America/Chicago:20270204T090000
DTEND;TZID=America/Chicago:20270303T170000
DTSTAMP:20260422T174312
CREATED:20260317T172930Z
LAST-MODIFIED:20260317T172930Z
UID:10003459-1801731600-1804093200@mohumanities.org
SUMMARY:Echoes of Blackness
DESCRIPTION:New Short Term Exhibit from April 1-28\, 2026: Echoes of Blackness by Dawn Tree\nDawn Tree is a abstract surrealist artist\, journalist\, and author. Founder of Underground Tree Studios\, she creates vibrant works on wood and textiles\, blending heritage with social justice to bridge history and activism.
URL:https://mohumanities.org/event/echoes-of-blackness/2027-02-04/
LOCATION:Black Archives of Mid-America\, 1722 E. 17th Terr.\,\, Kansas City\, MO\, 64108
CATEGORIES:Around Our Community
ORGANIZER;CN="Black Archives of Mid-America":MAILTO:info@blackarchives.org
GEO:39.0923324;-94.5611934
X-APPLE-STRUCTURED-LOCATION;VALUE=URI;X-ADDRESS=Black Archives of Mid-America 1722 E. 17th Terr. Kansas City MO 64108;X-APPLE-RADIUS=500;X-TITLE=1722 E. 17th Terr.\,:geo:-94.5611934,39.0923324
END:VEVENT
BEGIN:VEVENT
DTSTART;TZID=America/Chicago:20270205T090000
DTEND;TZID=America/Chicago:20270304T170000
DTSTAMP:20260422T174312
CREATED:20260317T172930Z
LAST-MODIFIED:20260317T172930Z
UID:10003460-1801818000-1804179600@mohumanities.org
SUMMARY:Echoes of Blackness
DESCRIPTION:New Short Term Exhibit from April 1-28\, 2026: Echoes of Blackness by Dawn Tree\nDawn Tree is a abstract surrealist artist\, journalist\, and author. Founder of Underground Tree Studios\, she creates vibrant works on wood and textiles\, blending heritage with social justice to bridge history and activism.
URL:https://mohumanities.org/event/echoes-of-blackness/2027-02-05/
LOCATION:Black Archives of Mid-America\, 1722 E. 17th Terr.\,\, Kansas City\, MO\, 64108
CATEGORIES:Around Our Community
ORGANIZER;CN="Black Archives of Mid-America":MAILTO:info@blackarchives.org
GEO:39.0923324;-94.5611934
X-APPLE-STRUCTURED-LOCATION;VALUE=URI;X-ADDRESS=Black Archives of Mid-America 1722 E. 17th Terr. Kansas City MO 64108;X-APPLE-RADIUS=500;X-TITLE=1722 E. 17th Terr.\,:geo:-94.5611934,39.0923324
END:VEVENT
BEGIN:VEVENT
DTSTART;TZID=America/Chicago:20270208T090000
DTEND;TZID=America/Chicago:20270307T170000
DTSTAMP:20260422T174312
CREATED:20260317T172930Z
LAST-MODIFIED:20260317T172930Z
UID:10003461-1802077200-1804438800@mohumanities.org
SUMMARY:Echoes of Blackness
DESCRIPTION:New Short Term Exhibit from April 1-28\, 2026: Echoes of Blackness by Dawn Tree\nDawn Tree is a abstract surrealist artist\, journalist\, and author. Founder of Underground Tree Studios\, she creates vibrant works on wood and textiles\, blending heritage with social justice to bridge history and activism.
URL:https://mohumanities.org/event/echoes-of-blackness/2027-02-08/
LOCATION:Black Archives of Mid-America\, 1722 E. 17th Terr.\,\, Kansas City\, MO\, 64108
CATEGORIES:Around Our Community
ORGANIZER;CN="Black Archives of Mid-America":MAILTO:info@blackarchives.org
GEO:39.0923324;-94.5611934
X-APPLE-STRUCTURED-LOCATION;VALUE=URI;X-ADDRESS=Black Archives of Mid-America 1722 E. 17th Terr. Kansas City MO 64108;X-APPLE-RADIUS=500;X-TITLE=1722 E. 17th Terr.\,:geo:-94.5611934,39.0923324
END:VEVENT
BEGIN:VEVENT
DTSTART;TZID=America/Chicago:20270209T090000
DTEND;TZID=America/Chicago:20270308T170000
DTSTAMP:20260422T174312
CREATED:20260317T172930Z
LAST-MODIFIED:20260317T172930Z
UID:10003462-1802163600-1804525200@mohumanities.org
SUMMARY:Echoes of Blackness
DESCRIPTION:New Short Term Exhibit from April 1-28\, 2026: Echoes of Blackness by Dawn Tree\nDawn Tree is a abstract surrealist artist\, journalist\, and author. Founder of Underground Tree Studios\, she creates vibrant works on wood and textiles\, blending heritage with social justice to bridge history and activism.
URL:https://mohumanities.org/event/echoes-of-blackness/2027-02-09/
LOCATION:Black Archives of Mid-America\, 1722 E. 17th Terr.\,\, Kansas City\, MO\, 64108
CATEGORIES:Around Our Community
ORGANIZER;CN="Black Archives of Mid-America":MAILTO:info@blackarchives.org
GEO:39.0923324;-94.5611934
X-APPLE-STRUCTURED-LOCATION;VALUE=URI;X-ADDRESS=Black Archives of Mid-America 1722 E. 17th Terr. Kansas City MO 64108;X-APPLE-RADIUS=500;X-TITLE=1722 E. 17th Terr.\,:geo:-94.5611934,39.0923324
END:VEVENT
BEGIN:VEVENT
DTSTART;TZID=America/Chicago:20270210T090000
DTEND;TZID=America/Chicago:20270309T170000
DTSTAMP:20260422T174312
CREATED:20260317T172930Z
LAST-MODIFIED:20260317T172930Z
UID:10003463-1802250000-1804611600@mohumanities.org
SUMMARY:Echoes of Blackness
DESCRIPTION:New Short Term Exhibit from April 1-28\, 2026: Echoes of Blackness by Dawn Tree\nDawn Tree is a abstract surrealist artist\, journalist\, and author. Founder of Underground Tree Studios\, she creates vibrant works on wood and textiles\, blending heritage with social justice to bridge history and activism.
URL:https://mohumanities.org/event/echoes-of-blackness/2027-02-10/
LOCATION:Black Archives of Mid-America\, 1722 E. 17th Terr.\,\, Kansas City\, MO\, 64108
CATEGORIES:Around Our Community
ORGANIZER;CN="Black Archives of Mid-America":MAILTO:info@blackarchives.org
GEO:39.0923324;-94.5611934
X-APPLE-STRUCTURED-LOCATION;VALUE=URI;X-ADDRESS=Black Archives of Mid-America 1722 E. 17th Terr. Kansas City MO 64108;X-APPLE-RADIUS=500;X-TITLE=1722 E. 17th Terr.\,:geo:-94.5611934,39.0923324
END:VEVENT
BEGIN:VEVENT
DTSTART;TZID=America/Chicago:20270211T090000
DTEND;TZID=America/Chicago:20270310T170000
DTSTAMP:20260422T174312
CREATED:20260317T172930Z
LAST-MODIFIED:20260317T172930Z
UID:10003464-1802336400-1804698000@mohumanities.org
SUMMARY:Echoes of Blackness
DESCRIPTION:New Short Term Exhibit from April 1-28\, 2026: Echoes of Blackness by Dawn Tree\nDawn Tree is a abstract surrealist artist\, journalist\, and author. Founder of Underground Tree Studios\, she creates vibrant works on wood and textiles\, blending heritage with social justice to bridge history and activism.
URL:https://mohumanities.org/event/echoes-of-blackness/2027-02-11/
LOCATION:Black Archives of Mid-America\, 1722 E. 17th Terr.\,\, Kansas City\, MO\, 64108
CATEGORIES:Around Our Community
ORGANIZER;CN="Black Archives of Mid-America":MAILTO:info@blackarchives.org
GEO:39.0923324;-94.5611934
X-APPLE-STRUCTURED-LOCATION;VALUE=URI;X-ADDRESS=Black Archives of Mid-America 1722 E. 17th Terr. Kansas City MO 64108;X-APPLE-RADIUS=500;X-TITLE=1722 E. 17th Terr.\,:geo:-94.5611934,39.0923324
END:VEVENT
BEGIN:VEVENT
DTSTART;TZID=America/Chicago:20270212T090000
DTEND;TZID=America/Chicago:20270311T170000
DTSTAMP:20260422T174312
CREATED:20260317T172930Z
LAST-MODIFIED:20260317T172930Z
UID:10003465-1802422800-1804784400@mohumanities.org
SUMMARY:Echoes of Blackness
DESCRIPTION:New Short Term Exhibit from April 1-28\, 2026: Echoes of Blackness by Dawn Tree\nDawn Tree is a abstract surrealist artist\, journalist\, and author. Founder of Underground Tree Studios\, she creates vibrant works on wood and textiles\, blending heritage with social justice to bridge history and activism.
URL:https://mohumanities.org/event/echoes-of-blackness/2027-02-12/
LOCATION:Black Archives of Mid-America\, 1722 E. 17th Terr.\,\, Kansas City\, MO\, 64108
CATEGORIES:Around Our Community
ORGANIZER;CN="Black Archives of Mid-America":MAILTO:info@blackarchives.org
GEO:39.0923324;-94.5611934
X-APPLE-STRUCTURED-LOCATION;VALUE=URI;X-ADDRESS=Black Archives of Mid-America 1722 E. 17th Terr. Kansas City MO 64108;X-APPLE-RADIUS=500;X-TITLE=1722 E. 17th Terr.\,:geo:-94.5611934,39.0923324
END:VEVENT
BEGIN:VEVENT
DTSTART;TZID=America/Chicago:20270215T090000
DTEND;TZID=America/Chicago:20270314T180000
DTSTAMP:20260422T174312
CREATED:20260317T172930Z
LAST-MODIFIED:20260317T172930Z
UID:10003466-1802682000-1805047200@mohumanities.org
SUMMARY:Echoes of Blackness
DESCRIPTION:New Short Term Exhibit from April 1-28\, 2026: Echoes of Blackness by Dawn Tree\nDawn Tree is a abstract surrealist artist\, journalist\, and author. Founder of Underground Tree Studios\, she creates vibrant works on wood and textiles\, blending heritage with social justice to bridge history and activism.
URL:https://mohumanities.org/event/echoes-of-blackness/2027-02-15/
LOCATION:Black Archives of Mid-America\, 1722 E. 17th Terr.\,\, Kansas City\, MO\, 64108
CATEGORIES:Around Our Community
ORGANIZER;CN="Black Archives of Mid-America":MAILTO:info@blackarchives.org
GEO:39.0923324;-94.5611934
X-APPLE-STRUCTURED-LOCATION;VALUE=URI;X-ADDRESS=Black Archives of Mid-America 1722 E. 17th Terr. Kansas City MO 64108;X-APPLE-RADIUS=500;X-TITLE=1722 E. 17th Terr.\,:geo:-94.5611934,39.0923324
END:VEVENT
BEGIN:VEVENT
DTSTART;TZID=America/Chicago:20270216T090000
DTEND;TZID=America/Chicago:20270315T180000
DTSTAMP:20260422T174312
CREATED:20260317T172930Z
LAST-MODIFIED:20260317T172930Z
UID:10003467-1802768400-1805133600@mohumanities.org
SUMMARY:Echoes of Blackness
DESCRIPTION:New Short Term Exhibit from April 1-28\, 2026: Echoes of Blackness by Dawn Tree\nDawn Tree is a abstract surrealist artist\, journalist\, and author. Founder of Underground Tree Studios\, she creates vibrant works on wood and textiles\, blending heritage with social justice to bridge history and activism.
URL:https://mohumanities.org/event/echoes-of-blackness/2027-02-16/
LOCATION:Black Archives of Mid-America\, 1722 E. 17th Terr.\,\, Kansas City\, MO\, 64108
CATEGORIES:Around Our Community
ORGANIZER;CN="Black Archives of Mid-America":MAILTO:info@blackarchives.org
GEO:39.0923324;-94.5611934
X-APPLE-STRUCTURED-LOCATION;VALUE=URI;X-ADDRESS=Black Archives of Mid-America 1722 E. 17th Terr. Kansas City MO 64108;X-APPLE-RADIUS=500;X-TITLE=1722 E. 17th Terr.\,:geo:-94.5611934,39.0923324
END:VEVENT
BEGIN:VEVENT
DTSTART;TZID=America/Chicago:20270217T090000
DTEND;TZID=America/Chicago:20270316T180000
DTSTAMP:20260422T174312
CREATED:20260317T172930Z
LAST-MODIFIED:20260317T172930Z
UID:10003468-1802854800-1805220000@mohumanities.org
SUMMARY:Echoes of Blackness
DESCRIPTION:New Short Term Exhibit from April 1-28\, 2026: Echoes of Blackness by Dawn Tree\nDawn Tree is a abstract surrealist artist\, journalist\, and author. Founder of Underground Tree Studios\, she creates vibrant works on wood and textiles\, blending heritage with social justice to bridge history and activism.
URL:https://mohumanities.org/event/echoes-of-blackness/2027-02-17/
LOCATION:Black Archives of Mid-America\, 1722 E. 17th Terr.\,\, Kansas City\, MO\, 64108
CATEGORIES:Around Our Community
ORGANIZER;CN="Black Archives of Mid-America":MAILTO:info@blackarchives.org
GEO:39.0923324;-94.5611934
X-APPLE-STRUCTURED-LOCATION;VALUE=URI;X-ADDRESS=Black Archives of Mid-America 1722 E. 17th Terr. Kansas City MO 64108;X-APPLE-RADIUS=500;X-TITLE=1722 E. 17th Terr.\,:geo:-94.5611934,39.0923324
END:VEVENT
BEGIN:VEVENT
DTSTART;TZID=America/Chicago:20270218T090000
DTEND;TZID=America/Chicago:20270317T180000
DTSTAMP:20260422T174312
CREATED:20260317T172930Z
LAST-MODIFIED:20260317T172930Z
UID:10003469-1802941200-1805306400@mohumanities.org
SUMMARY:Echoes of Blackness
DESCRIPTION:New Short Term Exhibit from April 1-28\, 2026: Echoes of Blackness by Dawn Tree\nDawn Tree is a abstract surrealist artist\, journalist\, and author. Founder of Underground Tree Studios\, she creates vibrant works on wood and textiles\, blending heritage with social justice to bridge history and activism.
URL:https://mohumanities.org/event/echoes-of-blackness/2027-02-18/
LOCATION:Black Archives of Mid-America\, 1722 E. 17th Terr.\,\, Kansas City\, MO\, 64108
CATEGORIES:Around Our Community
ORGANIZER;CN="Black Archives of Mid-America":MAILTO:info@blackarchives.org
GEO:39.0923324;-94.5611934
X-APPLE-STRUCTURED-LOCATION;VALUE=URI;X-ADDRESS=Black Archives of Mid-America 1722 E. 17th Terr. Kansas City MO 64108;X-APPLE-RADIUS=500;X-TITLE=1722 E. 17th Terr.\,:geo:-94.5611934,39.0923324
END:VEVENT
BEGIN:VEVENT
DTSTART;TZID=America/Chicago:20270219T090000
DTEND;TZID=America/Chicago:20270318T180000
DTSTAMP:20260422T174312
CREATED:20260317T172930Z
LAST-MODIFIED:20260317T172930Z
UID:10003470-1803027600-1805392800@mohumanities.org
SUMMARY:Echoes of Blackness
DESCRIPTION:New Short Term Exhibit from April 1-28\, 2026: Echoes of Blackness by Dawn Tree\nDawn Tree is a abstract surrealist artist\, journalist\, and author. Founder of Underground Tree Studios\, she creates vibrant works on wood and textiles\, blending heritage with social justice to bridge history and activism.
URL:https://mohumanities.org/event/echoes-of-blackness/2027-02-19/
LOCATION:Black Archives of Mid-America\, 1722 E. 17th Terr.\,\, Kansas City\, MO\, 64108
CATEGORIES:Around Our Community
ORGANIZER;CN="Black Archives of Mid-America":MAILTO:info@blackarchives.org
GEO:39.0923324;-94.5611934
X-APPLE-STRUCTURED-LOCATION;VALUE=URI;X-ADDRESS=Black Archives of Mid-America 1722 E. 17th Terr. Kansas City MO 64108;X-APPLE-RADIUS=500;X-TITLE=1722 E. 17th Terr.\,:geo:-94.5611934,39.0923324
END:VEVENT
BEGIN:VEVENT
DTSTART;TZID=America/Chicago:20270222T090000
DTEND;TZID=America/Chicago:20270321T180000
DTSTAMP:20260422T174312
CREATED:20260317T172930Z
LAST-MODIFIED:20260317T172930Z
UID:10003471-1803286800-1805652000@mohumanities.org
SUMMARY:Echoes of Blackness
DESCRIPTION:New Short Term Exhibit from April 1-28\, 2026: Echoes of Blackness by Dawn Tree\nDawn Tree is a abstract surrealist artist\, journalist\, and author. Founder of Underground Tree Studios\, she creates vibrant works on wood and textiles\, blending heritage with social justice to bridge history and activism.
URL:https://mohumanities.org/event/echoes-of-blackness/2027-02-22/
LOCATION:Black Archives of Mid-America\, 1722 E. 17th Terr.\,\, Kansas City\, MO\, 64108
CATEGORIES:Around Our Community
ORGANIZER;CN="Black Archives of Mid-America":MAILTO:info@blackarchives.org
GEO:39.0923324;-94.5611934
X-APPLE-STRUCTURED-LOCATION;VALUE=URI;X-ADDRESS=Black Archives of Mid-America 1722 E. 17th Terr. Kansas City MO 64108;X-APPLE-RADIUS=500;X-TITLE=1722 E. 17th Terr.\,:geo:-94.5611934,39.0923324
END:VEVENT
BEGIN:VEVENT
DTSTART;TZID=America/Chicago:20270223T090000
DTEND;TZID=America/Chicago:20270322T180000
DTSTAMP:20260422T174312
CREATED:20260317T172930Z
LAST-MODIFIED:20260317T172930Z
UID:10003472-1803373200-1805738400@mohumanities.org
SUMMARY:Echoes of Blackness
DESCRIPTION:New Short Term Exhibit from April 1-28\, 2026: Echoes of Blackness by Dawn Tree\nDawn Tree is a abstract surrealist artist\, journalist\, and author. Founder of Underground Tree Studios\, she creates vibrant works on wood and textiles\, blending heritage with social justice to bridge history and activism.
URL:https://mohumanities.org/event/echoes-of-blackness/2027-02-23/
LOCATION:Black Archives of Mid-America\, 1722 E. 17th Terr.\,\, Kansas City\, MO\, 64108
CATEGORIES:Around Our Community
ORGANIZER;CN="Black Archives of Mid-America":MAILTO:info@blackarchives.org
GEO:39.0923324;-94.5611934
X-APPLE-STRUCTURED-LOCATION;VALUE=URI;X-ADDRESS=Black Archives of Mid-America 1722 E. 17th Terr. Kansas City MO 64108;X-APPLE-RADIUS=500;X-TITLE=1722 E. 17th Terr.\,:geo:-94.5611934,39.0923324
END:VEVENT
BEGIN:VEVENT
DTSTART;TZID=America/Chicago:20270224T090000
DTEND;TZID=America/Chicago:20270323T180000
DTSTAMP:20260422T174312
CREATED:20260317T172930Z
LAST-MODIFIED:20260317T172930Z
UID:10003473-1803459600-1805824800@mohumanities.org
SUMMARY:Echoes of Blackness
DESCRIPTION:New Short Term Exhibit from April 1-28\, 2026: Echoes of Blackness by Dawn Tree\nDawn Tree is a abstract surrealist artist\, journalist\, and author. Founder of Underground Tree Studios\, she creates vibrant works on wood and textiles\, blending heritage with social justice to bridge history and activism.
URL:https://mohumanities.org/event/echoes-of-blackness/2027-02-24/
LOCATION:Black Archives of Mid-America\, 1722 E. 17th Terr.\,\, Kansas City\, MO\, 64108
CATEGORIES:Around Our Community
ORGANIZER;CN="Black Archives of Mid-America":MAILTO:info@blackarchives.org
GEO:39.0923324;-94.5611934
X-APPLE-STRUCTURED-LOCATION;VALUE=URI;X-ADDRESS=Black Archives of Mid-America 1722 E. 17th Terr. Kansas City MO 64108;X-APPLE-RADIUS=500;X-TITLE=1722 E. 17th Terr.\,:geo:-94.5611934,39.0923324
END:VEVENT
BEGIN:VEVENT
DTSTART;TZID=America/Chicago:20270225T090000
DTEND;TZID=America/Chicago:20270324T180000
DTSTAMP:20260422T174312
CREATED:20260317T172930Z
LAST-MODIFIED:20260317T172930Z
UID:10003474-1803546000-1805911200@mohumanities.org
SUMMARY:Echoes of Blackness
DESCRIPTION:New Short Term Exhibit from April 1-28\, 2026: Echoes of Blackness by Dawn Tree\nDawn Tree is a abstract surrealist artist\, journalist\, and author. Founder of Underground Tree Studios\, she creates vibrant works on wood and textiles\, blending heritage with social justice to bridge history and activism.
URL:https://mohumanities.org/event/echoes-of-blackness/2027-02-25/
LOCATION:Black Archives of Mid-America\, 1722 E. 17th Terr.\,\, Kansas City\, MO\, 64108
CATEGORIES:Around Our Community
ORGANIZER;CN="Black Archives of Mid-America":MAILTO:info@blackarchives.org
GEO:39.0923324;-94.5611934
X-APPLE-STRUCTURED-LOCATION;VALUE=URI;X-ADDRESS=Black Archives of Mid-America 1722 E. 17th Terr. Kansas City MO 64108;X-APPLE-RADIUS=500;X-TITLE=1722 E. 17th Terr.\,:geo:-94.5611934,39.0923324
END:VEVENT
BEGIN:VEVENT
DTSTART;TZID=America/Chicago:20270226T090000
DTEND;TZID=America/Chicago:20270325T180000
DTSTAMP:20260422T174312
CREATED:20260317T172930Z
LAST-MODIFIED:20260317T172930Z
UID:10003475-1803632400-1805997600@mohumanities.org
SUMMARY:Echoes of Blackness
DESCRIPTION:New Short Term Exhibit from April 1-28\, 2026: Echoes of Blackness by Dawn Tree\nDawn Tree is a abstract surrealist artist\, journalist\, and author. Founder of Underground Tree Studios\, she creates vibrant works on wood and textiles\, blending heritage with social justice to bridge history and activism.
URL:https://mohumanities.org/event/echoes-of-blackness/2027-02-26/
LOCATION:Black Archives of Mid-America\, 1722 E. 17th Terr.\,\, Kansas City\, MO\, 64108
CATEGORIES:Around Our Community
ORGANIZER;CN="Black Archives of Mid-America":MAILTO:info@blackarchives.org
GEO:39.0923324;-94.5611934
X-APPLE-STRUCTURED-LOCATION;VALUE=URI;X-ADDRESS=Black Archives of Mid-America 1722 E. 17th Terr. Kansas City MO 64108;X-APPLE-RADIUS=500;X-TITLE=1722 E. 17th Terr.\,:geo:-94.5611934,39.0923324
END:VEVENT
BEGIN:VEVENT
DTSTART;TZID=America/Chicago:20270301T090000
DTEND;TZID=America/Chicago:20270328T180000
DTSTAMP:20260422T174312
CREATED:20260317T172930Z
LAST-MODIFIED:20260317T172930Z
UID:10003476-1803891600-1806256800@mohumanities.org
SUMMARY:Echoes of Blackness
DESCRIPTION:New Short Term Exhibit from April 1-28\, 2026: Echoes of Blackness by Dawn Tree\nDawn Tree is a abstract surrealist artist\, journalist\, and author. Founder of Underground Tree Studios\, she creates vibrant works on wood and textiles\, blending heritage with social justice to bridge history and activism.
URL:https://mohumanities.org/event/echoes-of-blackness/2027-03-01/
LOCATION:Black Archives of Mid-America\, 1722 E. 17th Terr.\,\, Kansas City\, MO\, 64108
CATEGORIES:Around Our Community
ORGANIZER;CN="Black Archives of Mid-America":MAILTO:info@blackarchives.org
GEO:39.0923324;-94.5611934
X-APPLE-STRUCTURED-LOCATION;VALUE=URI;X-ADDRESS=Black Archives of Mid-America 1722 E. 17th Terr. Kansas City MO 64108;X-APPLE-RADIUS=500;X-TITLE=1722 E. 17th Terr.\,:geo:-94.5611934,39.0923324
END:VEVENT
BEGIN:VEVENT
DTSTART;TZID=America/Chicago:20270302T090000
DTEND;TZID=America/Chicago:20270329T180000
DTSTAMP:20260422T174312
CREATED:20260317T172930Z
LAST-MODIFIED:20260317T172930Z
UID:10003477-1803978000-1806343200@mohumanities.org
SUMMARY:Echoes of Blackness
DESCRIPTION:New Short Term Exhibit from April 1-28\, 2026: Echoes of Blackness by Dawn Tree\nDawn Tree is a abstract surrealist artist\, journalist\, and author. Founder of Underground Tree Studios\, she creates vibrant works on wood and textiles\, blending heritage with social justice to bridge history and activism.
URL:https://mohumanities.org/event/echoes-of-blackness/2027-03-02/
LOCATION:Black Archives of Mid-America\, 1722 E. 17th Terr.\,\, Kansas City\, MO\, 64108
CATEGORIES:Around Our Community
ORGANIZER;CN="Black Archives of Mid-America":MAILTO:info@blackarchives.org
GEO:39.0923324;-94.5611934
X-APPLE-STRUCTURED-LOCATION;VALUE=URI;X-ADDRESS=Black Archives of Mid-America 1722 E. 17th Terr. Kansas City MO 64108;X-APPLE-RADIUS=500;X-TITLE=1722 E. 17th Terr.\,:geo:-94.5611934,39.0923324
END:VEVENT
BEGIN:VEVENT
DTSTART;TZID=America/Chicago:20270303T090000
DTEND;TZID=America/Chicago:20270330T180000
DTSTAMP:20260422T174312
CREATED:20260317T172930Z
LAST-MODIFIED:20260317T172930Z
UID:10003478-1804064400-1806429600@mohumanities.org
SUMMARY:Echoes of Blackness
DESCRIPTION:New Short Term Exhibit from April 1-28\, 2026: Echoes of Blackness by Dawn Tree\nDawn Tree is a abstract surrealist artist\, journalist\, and author. Founder of Underground Tree Studios\, she creates vibrant works on wood and textiles\, blending heritage with social justice to bridge history and activism.
URL:https://mohumanities.org/event/echoes-of-blackness/2027-03-03/
LOCATION:Black Archives of Mid-America\, 1722 E. 17th Terr.\,\, Kansas City\, MO\, 64108
CATEGORIES:Around Our Community
ORGANIZER;CN="Black Archives of Mid-America":MAILTO:info@blackarchives.org
GEO:39.0923324;-94.5611934
X-APPLE-STRUCTURED-LOCATION;VALUE=URI;X-ADDRESS=Black Archives of Mid-America 1722 E. 17th Terr. Kansas City MO 64108;X-APPLE-RADIUS=500;X-TITLE=1722 E. 17th Terr.\,:geo:-94.5611934,39.0923324
END:VEVENT
BEGIN:VEVENT
DTSTART;TZID=America/Chicago:20270304T090000
DTEND;TZID=America/Chicago:20270331T180000
DTSTAMP:20260422T174312
CREATED:20260317T172930Z
LAST-MODIFIED:20260317T172930Z
UID:10003479-1804150800-1806516000@mohumanities.org
SUMMARY:Echoes of Blackness
DESCRIPTION:New Short Term Exhibit from April 1-28\, 2026: Echoes of Blackness by Dawn Tree\nDawn Tree is a abstract surrealist artist\, journalist\, and author. Founder of Underground Tree Studios\, she creates vibrant works on wood and textiles\, blending heritage with social justice to bridge history and activism.
URL:https://mohumanities.org/event/echoes-of-blackness/2027-03-04/
LOCATION:Black Archives of Mid-America\, 1722 E. 17th Terr.\,\, Kansas City\, MO\, 64108
CATEGORIES:Around Our Community
ORGANIZER;CN="Black Archives of Mid-America":MAILTO:info@blackarchives.org
GEO:39.0923324;-94.5611934
X-APPLE-STRUCTURED-LOCATION;VALUE=URI;X-ADDRESS=Black Archives of Mid-America 1722 E. 17th Terr. Kansas City MO 64108;X-APPLE-RADIUS=500;X-TITLE=1722 E. 17th Terr.\,:geo:-94.5611934,39.0923324
END:VEVENT
BEGIN:VEVENT
DTSTART;TZID=America/Chicago:20270305T090000
DTEND;TZID=America/Chicago:20270401T180000
DTSTAMP:20260422T174312
CREATED:20260317T172930Z
LAST-MODIFIED:20260317T172930Z
UID:10003480-1804237200-1806602400@mohumanities.org
SUMMARY:Echoes of Blackness
DESCRIPTION:New Short Term Exhibit from April 1-28\, 2026: Echoes of Blackness by Dawn Tree\nDawn Tree is a abstract surrealist artist\, journalist\, and author. Founder of Underground Tree Studios\, she creates vibrant works on wood and textiles\, blending heritage with social justice to bridge history and activism.
URL:https://mohumanities.org/event/echoes-of-blackness/2027-03-05/
LOCATION:Black Archives of Mid-America\, 1722 E. 17th Terr.\,\, Kansas City\, MO\, 64108
CATEGORIES:Around Our Community
ORGANIZER;CN="Black Archives of Mid-America":MAILTO:info@blackarchives.org
GEO:39.0923324;-94.5611934
X-APPLE-STRUCTURED-LOCATION;VALUE=URI;X-ADDRESS=Black Archives of Mid-America 1722 E. 17th Terr. Kansas City MO 64108;X-APPLE-RADIUS=500;X-TITLE=1722 E. 17th Terr.\,:geo:-94.5611934,39.0923324
END:VEVENT
END:VCALENDAR