BEGIN:VCALENDAR
VERSION:2.0
PRODID:-//Missouri Humanities - ECPv6.15.20//NONSGML v1.0//EN
CALSCALE:GREGORIAN
METHOD:PUBLISH
X-ORIGINAL-URL:https://mohumanities.org
X-WR-CALDESC:Events for Missouri Humanities
REFRESH-INTERVAL;VALUE=DURATION:PT1H
X-Robots-Tag:noindex
X-PUBLISHED-TTL:PT1H
BEGIN:VTIMEZONE
TZID:America/Chicago
BEGIN:DAYLIGHT
TZOFFSETFROM:-0600
TZOFFSETTO:-0500
TZNAME:CDT
DTSTART:20240310T080000
END:DAYLIGHT
BEGIN:STANDARD
TZOFFSETFROM:-0500
TZOFFSETTO:-0600
TZNAME:CST
DTSTART:20241103T070000
END:STANDARD
BEGIN:DAYLIGHT
TZOFFSETFROM:-0600
TZOFFSETTO:-0500
TZNAME:CDT
DTSTART:20250309T080000
END:DAYLIGHT
BEGIN:STANDARD
TZOFFSETFROM:-0500
TZOFFSETTO:-0600
TZNAME:CST
DTSTART:20251102T070000
END:STANDARD
BEGIN:DAYLIGHT
TZOFFSETFROM:-0600
TZOFFSETTO:-0500
TZNAME:CDT
DTSTART:20260308T080000
END:DAYLIGHT
BEGIN:STANDARD
TZOFFSETFROM:-0500
TZOFFSETTO:-0600
TZNAME:CST
DTSTART:20261101T070000
END:STANDARD
BEGIN:DAYLIGHT
TZOFFSETFROM:-0600
TZOFFSETTO:-0500
TZNAME:CDT
DTSTART:20270314T080000
END:DAYLIGHT
BEGIN:STANDARD
TZOFFSETFROM:-0500
TZOFFSETTO:-0600
TZNAME:CST
DTSTART:20271107T070000
END:STANDARD
END:VTIMEZONE
BEGIN:VEVENT
DTSTART;TZID=America/Chicago:20251108T100000
DTEND;TZID=America/Chicago:20260419T180000
DTSTAMP:20260419T175329
CREATED:20251021T210312Z
LAST-MODIFIED:20251021T210312Z
UID:10002752-1762596000-1776621600@mohumanities.org
SUMMARY:Titanic: An Immersive Voyage
DESCRIPTION:Step aboard the world’s most captivating maritime legend — Titanic: An Immersive Voyage — opening NOV 8 at Union Station Kansas City. \nThis breathtaking new exhibition brings the Titanic’s untold stories\, unforgettable moments\, and tragic final voyage vividly to life like never before. Produced by Exhibition Hub and presented locally by Hawthorn Bank\, this all-new experience is making its U.S. debut right here in Kansas City. \nWalk the ship’s opulent corridors\, explore dramatic room recreations\, and relive the fateful night through powerful storytelling and immersive environments. \nYour journey includes: \nOver 200 authentic artifacts from Titanic and her sister ships\nThe chance to sit in a lifeboat as the final moments unfold\nAn optional Virtual Reality dive to explore Titanic’s resting place 2.5 miles below the surface\nMultilingual audio guides for a personalized experience\nA thoughtfully curated gift shop with exclusive Titanic merchandise\nWhether you’re a history enthusiast or simply curious about this monumental event\, this exhibition invites you to feel the story—its grandeur\, its heartbreak\, and the human stories within it.
URL:https://mohumanities.org/event/titanic-an-immersive-voyage/
LOCATION:Union Station Kansas City\, 30 West Pershing Road\, Kansas City\, MO\, 64108\, United States
CATEGORIES:Around Our Community
END:VEVENT
BEGIN:VEVENT
DTSTART;TZID=America/Chicago:20260106T090000
DTEND;TZID=America/Chicago:20260129T170000
DTSTAMP:20260419T175329
CREATED:20260105T182336Z
LAST-MODIFIED:20260105T182336Z
UID:10002789-1767690000-1769706000@mohumanities.org
SUMMARY:Out of the Box
DESCRIPTION:A new short-term exhibition in January 2026 featuring items recently donated to the Black Archives.
URL:https://mohumanities.org/event/out-of-the-box/
LOCATION:Black Archives of Mid-America\, 1722 E. 17th Terr.\,\, Kansas City\, MO\, 64108
CATEGORIES:Around Our Community
ATTACH;FMTTYPE=image/jpeg:https://mohumanities.org/wp-content/uploads/2025/12/1.jpg
ORGANIZER;CN="Black Archives of Mid-America":MAILTO:info@blackarchives.org
GEO:39.0923324;-94.5611934
X-APPLE-STRUCTURED-LOCATION;VALUE=URI;X-ADDRESS=Black Archives of Mid-America 1722 E. 17th Terr. Kansas City MO 64108;X-APPLE-RADIUS=500;X-TITLE=1722 E. 17th Terr.\,:geo:-94.5611934,39.0923324
END:VEVENT
BEGIN:VEVENT
DTSTART;TZID=America/Chicago:20260107T140000
DTEND;TZID=America/Chicago:20260107T150000
DTSTAMP:20260419T175329
CREATED:20260105T182822Z
LAST-MODIFIED:20260105T182822Z
UID:10002783-1767794400-1767798000@mohumanities.org
SUMMARY:Understanding the US History Sector Webinar
DESCRIPTION:America’s history sector is vast\, unique\, and vital. Using AASLH’s National Census of History Organizations as a primary foundation\, attendees to this webinar will learn the ins and outs of the U.S. history sector—its parameters\, key characteristics\, and top pain points—as well as insights into audience trends. Attendees will gain information to help strengthen their institutions and make the case for importance of the history community to varied stakeholders.
URL:https://mohumanities.org/event/understanding-the-us-history-sector-webinar/
CATEGORIES:Around Our Community
ATTACH;FMTTYPE=image/png:https://mohumanities.org/wp-content/uploads/2025/12/Core-Issues-1.png
END:VEVENT
BEGIN:VEVENT
DTSTART;TZID=America/Chicago:20260110T100000
DTEND;TZID=America/Chicago:20260110T110000
DTSTAMP:20260419T175329
CREATED:20251208T154117Z
LAST-MODIFIED:20251208T154117Z
UID:10002775-1768039200-1768042800@mohumanities.org
SUMMARY:Author Talk: John Frémont's 100 Days
DESCRIPTION:Author Greg Wolk’s newest book\, John Frémont’s 100 Days in Civil War Missouri\, covers U.S. Grant’s activities during his own wartime days in the state\, which overlapped to a considerable extent with Fremont’s tenure. \nThe book tracks Grant’s progress from Quincy\, Illinois to Belmont\, Missouri\, and his relationship to Frémont – the man who put him on the road to success.\nThe program is free. For reservations\, please call (314) 842-1867 ext. 230.
URL:https://mohumanities.org/event/author-talk-john-fremonts-100-days/
LOCATION:Ulysses S. Grant National Historic Site\, 7400 Grant Rd\, St. Louis\, MO\, 63123\, United States
CATEGORIES:Around Our Community
GEO:38.5513274;-90.3521476
X-APPLE-STRUCTURED-LOCATION;VALUE=URI;X-ADDRESS=Ulysses S. Grant National Historic Site 7400 Grant Rd St. Louis MO 63123 United States;X-APPLE-RADIUS=500;X-TITLE=7400 Grant Rd:geo:-90.3521476,38.5513274
END:VEVENT
BEGIN:VEVENT
DTSTART;TZID=America/Chicago:20260110T100000
DTEND;TZID=America/Chicago:20260110T110000
DTSTAMP:20260419T175329
CREATED:20251211T193435Z
LAST-MODIFIED:20251211T193435Z
UID:10002777-1768039200-1768042800@mohumanities.org
SUMMARY:History Talk: Entertaining at the White House -  Presidential China
DESCRIPTION:Presidents and their First Ladies often have new sets of china produced for their official entertaining\, such as State Dinners. These events are an important part of diplomacy and the table setting conveys not only an atmosphere of elegance and hospitality\, but also national pride. Julie Northrip\, former interpretive program manager at the park\, will show and discuss some of the china used during presidential administrations. \nThe program is free. Call 314-842-1867 ext. 230 for reservations.
URL:https://mohumanities.org/event/history-talk-entertaining-at-the-white-house-presidential-china/
LOCATION:Ulysses S. Grant National Historic Site\, 7400 Grant Rd\, St. Louis\, MO\, 63123\, United States
CATEGORIES:Around Our Community
ATTACH;FMTTYPE=image/jpeg:https://mohumanities.org/wp-content/uploads/2025/12/Compote-Cake-Stand-and-Dinner-Plate-Grant-Service-WH-Historical-Association.jpg
GEO:38.5513274;-90.3521476
X-APPLE-STRUCTURED-LOCATION;VALUE=URI;X-ADDRESS=Ulysses S. Grant National Historic Site 7400 Grant Rd St. Louis MO 63123 United States;X-APPLE-RADIUS=500;X-TITLE=7400 Grant Rd:geo:-90.3521476,38.5513274
END:VEVENT
BEGIN:VEVENT
DTSTART;TZID=America/Chicago:20260111T100000
DTEND;TZID=America/Chicago:20260111T160000
DTSTAMP:20260419T175329
CREATED:20250127T172121Z
LAST-MODIFIED:20250221T175639Z
UID:10002155-1768125600-1768147200@mohumanities.org
SUMMARY:Second Sunday- Free Days at the Museum
DESCRIPTION:Bring the whole family to Free Days at the Museum. Occurring on every second Sunday of the month\, Free Days provide greater access to The National Museum of Toys and Miniatures’ vast and awe-inspiring collections for visitors near and far. \nAll attendees can explore the Museum at no charge.
URL:https://mohumanities.org/event/second-sunday-free-days-at-the-museum/2026-01-11/
LOCATION:The National Museum of Toys and Miniatures\, 5235 Oak Street\, Kansas City\, MO 64112\, Kansas City\, M\, 64112\, United States
CATEGORIES:Around Our Community
ATTACH;FMTTYPE=image/png:https://mohumanities.org/wp-content/uploads/2025/01/event-featured-second-sunday-free-days-at-the-museum-1731947823-856x600-1.png
ORGANIZER;CN="The National Museum of Toys and Miniatures":MAILTO:info@toyandminiaturemuseum.org
END:VEVENT
BEGIN:VEVENT
DTSTART;TZID=America/Chicago:20260122T180000
DTEND;TZID=America/Chicago:20260122T210000
DTSTAMP:20260419T175329
CREATED:20251203T173139Z
LAST-MODIFIED:20251203T173139Z
UID:10002770-1769104800-1769115600@mohumanities.org
SUMMARY:Silver Saddle Fan Club ft. Fiddlin' Sam and the Bolo Band
DESCRIPTION:Dust off your dancin’ boots for the Silver Saddle Fan Club! For the third-annual Fan Club event\, The Sheldon’s Ballroom will be transformed into a western swing dance hall with dinner\, dance lessons\, and live music. The party opens with a pre-ordered meal by Stellar Hog. You can feast on beef brisket and pulled pork\, or the vegetarian option\, braised tofu. Christian Frommelt\, award-winning social dance instructor\, will swing the crowd into action with western styles like two-step and waltz. Then enjoy the moves you learned with live music by Fiddlin’ Sam and the Bolo Band\, the St. Louis Western Swing supergroup that plays legendary tunes of Bob Wills\, Milton Brown\, and more.
URL:https://mohumanities.org/event/silver-saddle-fan-club-ft-fiddlin-sam-and-the-bolo-band/
LOCATION:The Sheldon\, 3648 Washington Boulevard\, St. Louis\, 63108
CATEGORIES:Around Our Community
END:VEVENT
BEGIN:VEVENT
DTSTART;TZID=America/Chicago:20260124T130000
DTEND;TZID=America/Chicago:20260124T140000
DTSTAMP:20260419T175329
CREATED:20260109T145723Z
LAST-MODIFIED:20260109T145723Z
UID:10002780-1769259600-1769263200@mohumanities.org
SUMMARY:Speaker Series: The History of the Weatherbird and St. Louis Cartooning
DESCRIPTION:Join us for a lively and engaging look at one of St. Louis’s most iconic characters!\nOn January 24\, 2026\, at 1 p.m.\, longtime St. Louis Post-Dispatch cartoonist Dan Martin will present The History of the Weatherbird and St. Louis Cartooning.\nMartin will trace the evolution of the beloved Weatherbird\, America’s longest-running continuously published cartoon figure\, while spotlighting the rich legacy of St. Louis cartoonists who helped shape the world of comics. From Chic Young and George McManus to Lee Falk and the incomparable Mike Peters\, Martin will introduce audiences to a remarkable cast of creators whose work reached far beyond the Gateway City.\nEntertaining\, insightful\, and full of fascinating stories\, this program is perfect for fans of comics\, local history\, and\, of course\, the Bird himself.\nThis program is free with limited availability in person and on Zoom. Reservations must be made in advance on our website\, by calling the Museum at 314-421-4689\, or by emailing info@fieldhousemuseum.org.
URL:https://mohumanities.org/event/speaker-series-the-history-of-the-weatherbird-and-st-louis-cartooning/
LOCATION:Field House Museum\, 634 S Broadway\, Saint Louis\, MO\, 63102\, United States
CATEGORIES:Around Our Community
ORGANIZER;CN="Field House Museum":MAILTO:info@fieldhousemuseum.org
GEO:38.6199886;-90.1919613
X-APPLE-STRUCTURED-LOCATION;VALUE=URI;X-ADDRESS=Field House Museum 634 S Broadway Saint Louis MO 63102 United States;X-APPLE-RADIUS=500;X-TITLE=634 S Broadway:geo:-90.1919613,38.6199886
END:VEVENT
BEGIN:VEVENT
DTSTART;TZID=America/Chicago:20260131T130000
DTEND;TZID=America/Chicago:20260131T140000
DTSTAMP:20260419T175329
CREATED:20251212T152418Z
LAST-MODIFIED:20251212T152418Z
UID:10002778-1769864400-1769868000@mohumanities.org
SUMMARY:Author Talk: Black St. Louis
DESCRIPTION:Black St. Louis explores the rich and inspiring history of African Americans in St. Louis from the city’s founding as a French fur trading post during the Spanish colonial era to\nthe new millennium. Author NiNi Harris highlights great figures who showed leadership\, incredible innovation\, and courage despite the injustices they faced. \nThe program is free. Call 314-842-1867 ext. 230 for reservations.
URL:https://mohumanities.org/event/author-talk-black-st-louis/
LOCATION:Ulysses S. Grant National Historic Site\, 7400 Grant Rd\, St. Louis\, MO\, 63123\, United States
CATEGORIES:Around Our Community
ATTACH;FMTTYPE=image/jpeg:https://mohumanities.org/wp-content/uploads/2025/12/book-cover.jpg
GEO:38.5513274;-90.3521476
X-APPLE-STRUCTURED-LOCATION;VALUE=URI;X-ADDRESS=Ulysses S. Grant National Historic Site 7400 Grant Rd St. Louis MO 63123 United States;X-APPLE-RADIUS=500;X-TITLE=7400 Grant Rd:geo:-90.3521476,38.5513274
END:VEVENT
END:VCALENDAR