BEGIN:VCALENDAR
VERSION:2.0
PRODID:-//Missouri Humanities - ECPv6.15.20//NONSGML v1.0//EN
CALSCALE:GREGORIAN
METHOD:PUBLISH
X-WR-CALNAME:Missouri Humanities
X-ORIGINAL-URL:https://mohumanities.org
X-WR-CALDESC:Events for Missouri Humanities
REFRESH-INTERVAL;VALUE=DURATION:PT1H
X-Robots-Tag:noindex
X-PUBLISHED-TTL:PT1H
BEGIN:VTIMEZONE
TZID:America/Chicago
BEGIN:DAYLIGHT
TZOFFSETFROM:-0600
TZOFFSETTO:-0500
TZNAME:CDT
DTSTART:20250309T080000
END:DAYLIGHT
BEGIN:STANDARD
TZOFFSETFROM:-0500
TZOFFSETTO:-0600
TZNAME:CST
DTSTART:20251102T070000
END:STANDARD
BEGIN:DAYLIGHT
TZOFFSETFROM:-0600
TZOFFSETTO:-0500
TZNAME:CDT
DTSTART:20260308T080000
END:DAYLIGHT
BEGIN:STANDARD
TZOFFSETFROM:-0500
TZOFFSETTO:-0600
TZNAME:CST
DTSTART:20261101T070000
END:STANDARD
BEGIN:DAYLIGHT
TZOFFSETFROM:-0600
TZOFFSETTO:-0500
TZNAME:CDT
DTSTART:20270314T080000
END:DAYLIGHT
BEGIN:STANDARD
TZOFFSETFROM:-0500
TZOFFSETTO:-0600
TZNAME:CST
DTSTART:20271107T070000
END:STANDARD
BEGIN:DAYLIGHT
TZOFFSETFROM:-0600
TZOFFSETTO:-0500
TZNAME:CDT
DTSTART:20280312T080000
END:DAYLIGHT
BEGIN:STANDARD
TZOFFSETFROM:-0500
TZOFFSETTO:-0600
TZNAME:CST
DTSTART:20281105T070000
END:STANDARD
END:VTIMEZONE
BEGIN:VEVENT
DTSTART;TZID=America/Chicago:20261123T090000
DTEND;TZID=America/Chicago:20261220T170000
DTSTAMP:20260421T155503
CREATED:20260317T172930Z
LAST-MODIFIED:20260317T172930Z
UID:10003406-1795424400-1797786000@mohumanities.org
SUMMARY:Echoes of Blackness
DESCRIPTION:New Short Term Exhibit from April 1-28\, 2026: Echoes of Blackness by Dawn Tree\nDawn Tree is a abstract surrealist artist\, journalist\, and author. Founder of Underground Tree Studios\, she creates vibrant works on wood and textiles\, blending heritage with social justice to bridge history and activism.
URL:https://mohumanities.org/event/echoes-of-blackness/2026-11-23/
LOCATION:Black Archives of Mid-America\, 1722 E. 17th Terr.\,\, Kansas City\, MO\, 64108
CATEGORIES:Around Our Community
ORGANIZER;CN="Black Archives of Mid-America":MAILTO:info@blackarchives.org
GEO:39.0923324;-94.5611934
X-APPLE-STRUCTURED-LOCATION;VALUE=URI;X-ADDRESS=Black Archives of Mid-America 1722 E. 17th Terr. Kansas City MO 64108;X-APPLE-RADIUS=500;X-TITLE=1722 E. 17th Terr.\,:geo:-94.5611934,39.0923324
END:VEVENT
BEGIN:VEVENT
DTSTART;TZID=America/Chicago:20261124T090000
DTEND;TZID=America/Chicago:20261221T170000
DTSTAMP:20260421T155503
CREATED:20260317T172930Z
LAST-MODIFIED:20260317T172930Z
UID:10003407-1795510800-1797872400@mohumanities.org
SUMMARY:Echoes of Blackness
DESCRIPTION:New Short Term Exhibit from April 1-28\, 2026: Echoes of Blackness by Dawn Tree\nDawn Tree is a abstract surrealist artist\, journalist\, and author. Founder of Underground Tree Studios\, she creates vibrant works on wood and textiles\, blending heritage with social justice to bridge history and activism.
URL:https://mohumanities.org/event/echoes-of-blackness/2026-11-24/
LOCATION:Black Archives of Mid-America\, 1722 E. 17th Terr.\,\, Kansas City\, MO\, 64108
CATEGORIES:Around Our Community
ORGANIZER;CN="Black Archives of Mid-America":MAILTO:info@blackarchives.org
GEO:39.0923324;-94.5611934
X-APPLE-STRUCTURED-LOCATION;VALUE=URI;X-ADDRESS=Black Archives of Mid-America 1722 E. 17th Terr. Kansas City MO 64108;X-APPLE-RADIUS=500;X-TITLE=1722 E. 17th Terr.\,:geo:-94.5611934,39.0923324
END:VEVENT
BEGIN:VEVENT
DTSTART;TZID=America/Chicago:20261125T090000
DTEND;TZID=America/Chicago:20261222T170000
DTSTAMP:20260421T155503
CREATED:20260317T172930Z
LAST-MODIFIED:20260317T172930Z
UID:10003408-1795597200-1797958800@mohumanities.org
SUMMARY:Echoes of Blackness
DESCRIPTION:New Short Term Exhibit from April 1-28\, 2026: Echoes of Blackness by Dawn Tree\nDawn Tree is a abstract surrealist artist\, journalist\, and author. Founder of Underground Tree Studios\, she creates vibrant works on wood and textiles\, blending heritage with social justice to bridge history and activism.
URL:https://mohumanities.org/event/echoes-of-blackness/2026-11-25/
LOCATION:Black Archives of Mid-America\, 1722 E. 17th Terr.\,\, Kansas City\, MO\, 64108
CATEGORIES:Around Our Community
ORGANIZER;CN="Black Archives of Mid-America":MAILTO:info@blackarchives.org
GEO:39.0923324;-94.5611934
X-APPLE-STRUCTURED-LOCATION;VALUE=URI;X-ADDRESS=Black Archives of Mid-America 1722 E. 17th Terr. Kansas City MO 64108;X-APPLE-RADIUS=500;X-TITLE=1722 E. 17th Terr.\,:geo:-94.5611934,39.0923324
END:VEVENT
BEGIN:VEVENT
DTSTART;TZID=America/Chicago:20261126T090000
DTEND;TZID=America/Chicago:20261223T170000
DTSTAMP:20260421T155503
CREATED:20260317T172930Z
LAST-MODIFIED:20260317T172930Z
UID:10003409-1795683600-1798045200@mohumanities.org
SUMMARY:Echoes of Blackness
DESCRIPTION:New Short Term Exhibit from April 1-28\, 2026: Echoes of Blackness by Dawn Tree\nDawn Tree is a abstract surrealist artist\, journalist\, and author. Founder of Underground Tree Studios\, she creates vibrant works on wood and textiles\, blending heritage with social justice to bridge history and activism.
URL:https://mohumanities.org/event/echoes-of-blackness/2026-11-26/
LOCATION:Black Archives of Mid-America\, 1722 E. 17th Terr.\,\, Kansas City\, MO\, 64108
CATEGORIES:Around Our Community
ORGANIZER;CN="Black Archives of Mid-America":MAILTO:info@blackarchives.org
GEO:39.0923324;-94.5611934
X-APPLE-STRUCTURED-LOCATION;VALUE=URI;X-ADDRESS=Black Archives of Mid-America 1722 E. 17th Terr. Kansas City MO 64108;X-APPLE-RADIUS=500;X-TITLE=1722 E. 17th Terr.\,:geo:-94.5611934,39.0923324
END:VEVENT
BEGIN:VEVENT
DTSTART;TZID=America/Chicago:20261127T090000
DTEND;TZID=America/Chicago:20261224T170000
DTSTAMP:20260421T155503
CREATED:20260317T172930Z
LAST-MODIFIED:20260317T172930Z
UID:10003410-1795770000-1798131600@mohumanities.org
SUMMARY:Echoes of Blackness
DESCRIPTION:New Short Term Exhibit from April 1-28\, 2026: Echoes of Blackness by Dawn Tree\nDawn Tree is a abstract surrealist artist\, journalist\, and author. Founder of Underground Tree Studios\, she creates vibrant works on wood and textiles\, blending heritage with social justice to bridge history and activism.
URL:https://mohumanities.org/event/echoes-of-blackness/2026-11-27/
LOCATION:Black Archives of Mid-America\, 1722 E. 17th Terr.\,\, Kansas City\, MO\, 64108
CATEGORIES:Around Our Community
ORGANIZER;CN="Black Archives of Mid-America":MAILTO:info@blackarchives.org
GEO:39.0923324;-94.5611934
X-APPLE-STRUCTURED-LOCATION;VALUE=URI;X-ADDRESS=Black Archives of Mid-America 1722 E. 17th Terr. Kansas City MO 64108;X-APPLE-RADIUS=500;X-TITLE=1722 E. 17th Terr.\,:geo:-94.5611934,39.0923324
END:VEVENT
BEGIN:VEVENT
DTSTART;TZID=America/Chicago:20261130T090000
DTEND;TZID=America/Chicago:20261227T170000
DTSTAMP:20260421T155503
CREATED:20260317T172930Z
LAST-MODIFIED:20260317T172930Z
UID:10003411-1796029200-1798390800@mohumanities.org
SUMMARY:Echoes of Blackness
DESCRIPTION:New Short Term Exhibit from April 1-28\, 2026: Echoes of Blackness by Dawn Tree\nDawn Tree is a abstract surrealist artist\, journalist\, and author. Founder of Underground Tree Studios\, she creates vibrant works on wood and textiles\, blending heritage with social justice to bridge history and activism.
URL:https://mohumanities.org/event/echoes-of-blackness/2026-11-30/
LOCATION:Black Archives of Mid-America\, 1722 E. 17th Terr.\,\, Kansas City\, MO\, 64108
CATEGORIES:Around Our Community
ORGANIZER;CN="Black Archives of Mid-America":MAILTO:info@blackarchives.org
GEO:39.0923324;-94.5611934
X-APPLE-STRUCTURED-LOCATION;VALUE=URI;X-ADDRESS=Black Archives of Mid-America 1722 E. 17th Terr. Kansas City MO 64108;X-APPLE-RADIUS=500;X-TITLE=1722 E. 17th Terr.\,:geo:-94.5611934,39.0923324
END:VEVENT
BEGIN:VEVENT
DTSTART;TZID=America/Chicago:20261201T090000
DTEND;TZID=America/Chicago:20261228T170000
DTSTAMP:20260421T155504
CREATED:20260317T172930Z
LAST-MODIFIED:20260317T172930Z
UID:10003412-1796115600-1798477200@mohumanities.org
SUMMARY:Echoes of Blackness
DESCRIPTION:New Short Term Exhibit from April 1-28\, 2026: Echoes of Blackness by Dawn Tree\nDawn Tree is a abstract surrealist artist\, journalist\, and author. Founder of Underground Tree Studios\, she creates vibrant works on wood and textiles\, blending heritage with social justice to bridge history and activism.
URL:https://mohumanities.org/event/echoes-of-blackness/2026-12-01/
LOCATION:Black Archives of Mid-America\, 1722 E. 17th Terr.\,\, Kansas City\, MO\, 64108
CATEGORIES:Around Our Community
ORGANIZER;CN="Black Archives of Mid-America":MAILTO:info@blackarchives.org
GEO:39.0923324;-94.5611934
X-APPLE-STRUCTURED-LOCATION;VALUE=URI;X-ADDRESS=Black Archives of Mid-America 1722 E. 17th Terr. Kansas City MO 64108;X-APPLE-RADIUS=500;X-TITLE=1722 E. 17th Terr.\,:geo:-94.5611934,39.0923324
END:VEVENT
BEGIN:VEVENT
DTSTART;TZID=America/Chicago:20261202T090000
DTEND;TZID=America/Chicago:20261229T170000
DTSTAMP:20260421T155504
CREATED:20260317T172930Z
LAST-MODIFIED:20260317T172930Z
UID:10003413-1796202000-1798563600@mohumanities.org
SUMMARY:Echoes of Blackness
DESCRIPTION:New Short Term Exhibit from April 1-28\, 2026: Echoes of Blackness by Dawn Tree\nDawn Tree is a abstract surrealist artist\, journalist\, and author. Founder of Underground Tree Studios\, she creates vibrant works on wood and textiles\, blending heritage with social justice to bridge history and activism.
URL:https://mohumanities.org/event/echoes-of-blackness/2026-12-02/
LOCATION:Black Archives of Mid-America\, 1722 E. 17th Terr.\,\, Kansas City\, MO\, 64108
CATEGORIES:Around Our Community
ORGANIZER;CN="Black Archives of Mid-America":MAILTO:info@blackarchives.org
GEO:39.0923324;-94.5611934
X-APPLE-STRUCTURED-LOCATION;VALUE=URI;X-ADDRESS=Black Archives of Mid-America 1722 E. 17th Terr. Kansas City MO 64108;X-APPLE-RADIUS=500;X-TITLE=1722 E. 17th Terr.\,:geo:-94.5611934,39.0923324
END:VEVENT
BEGIN:VEVENT
DTSTART;TZID=America/Chicago:20261203T090000
DTEND;TZID=America/Chicago:20261230T170000
DTSTAMP:20260421T155504
CREATED:20260317T172930Z
LAST-MODIFIED:20260317T172930Z
UID:10003414-1796288400-1798650000@mohumanities.org
SUMMARY:Echoes of Blackness
DESCRIPTION:New Short Term Exhibit from April 1-28\, 2026: Echoes of Blackness by Dawn Tree\nDawn Tree is a abstract surrealist artist\, journalist\, and author. Founder of Underground Tree Studios\, she creates vibrant works on wood and textiles\, blending heritage with social justice to bridge history and activism.
URL:https://mohumanities.org/event/echoes-of-blackness/2026-12-03/
LOCATION:Black Archives of Mid-America\, 1722 E. 17th Terr.\,\, Kansas City\, MO\, 64108
CATEGORIES:Around Our Community
ORGANIZER;CN="Black Archives of Mid-America":MAILTO:info@blackarchives.org
GEO:39.0923324;-94.5611934
X-APPLE-STRUCTURED-LOCATION;VALUE=URI;X-ADDRESS=Black Archives of Mid-America 1722 E. 17th Terr. Kansas City MO 64108;X-APPLE-RADIUS=500;X-TITLE=1722 E. 17th Terr.\,:geo:-94.5611934,39.0923324
END:VEVENT
BEGIN:VEVENT
DTSTART;TZID=America/Chicago:20261204T090000
DTEND;TZID=America/Chicago:20261231T170000
DTSTAMP:20260421T155504
CREATED:20260317T172930Z
LAST-MODIFIED:20260317T172930Z
UID:10003415-1796374800-1798736400@mohumanities.org
SUMMARY:Echoes of Blackness
DESCRIPTION:New Short Term Exhibit from April 1-28\, 2026: Echoes of Blackness by Dawn Tree\nDawn Tree is a abstract surrealist artist\, journalist\, and author. Founder of Underground Tree Studios\, she creates vibrant works on wood and textiles\, blending heritage with social justice to bridge history and activism.
URL:https://mohumanities.org/event/echoes-of-blackness/2026-12-04/
LOCATION:Black Archives of Mid-America\, 1722 E. 17th Terr.\,\, Kansas City\, MO\, 64108
CATEGORIES:Around Our Community
ORGANIZER;CN="Black Archives of Mid-America":MAILTO:info@blackarchives.org
GEO:39.0923324;-94.5611934
X-APPLE-STRUCTURED-LOCATION;VALUE=URI;X-ADDRESS=Black Archives of Mid-America 1722 E. 17th Terr. Kansas City MO 64108;X-APPLE-RADIUS=500;X-TITLE=1722 E. 17th Terr.\,:geo:-94.5611934,39.0923324
END:VEVENT
BEGIN:VEVENT
DTSTART;TZID=America/Chicago:20261207T090000
DTEND;TZID=America/Chicago:20270103T170000
DTSTAMP:20260421T155504
CREATED:20260317T172930Z
LAST-MODIFIED:20260317T172930Z
UID:10003416-1796634000-1798995600@mohumanities.org
SUMMARY:Echoes of Blackness
DESCRIPTION:New Short Term Exhibit from April 1-28\, 2026: Echoes of Blackness by Dawn Tree\nDawn Tree is a abstract surrealist artist\, journalist\, and author. Founder of Underground Tree Studios\, she creates vibrant works on wood and textiles\, blending heritage with social justice to bridge history and activism.
URL:https://mohumanities.org/event/echoes-of-blackness/2026-12-07/
LOCATION:Black Archives of Mid-America\, 1722 E. 17th Terr.\,\, Kansas City\, MO\, 64108
CATEGORIES:Around Our Community
ORGANIZER;CN="Black Archives of Mid-America":MAILTO:info@blackarchives.org
GEO:39.0923324;-94.5611934
X-APPLE-STRUCTURED-LOCATION;VALUE=URI;X-ADDRESS=Black Archives of Mid-America 1722 E. 17th Terr. Kansas City MO 64108;X-APPLE-RADIUS=500;X-TITLE=1722 E. 17th Terr.\,:geo:-94.5611934,39.0923324
END:VEVENT
BEGIN:VEVENT
DTSTART;TZID=America/Chicago:20261208T090000
DTEND;TZID=America/Chicago:20270104T170000
DTSTAMP:20260421T155504
CREATED:20260317T172930Z
LAST-MODIFIED:20260317T172930Z
UID:10003417-1796720400-1799082000@mohumanities.org
SUMMARY:Echoes of Blackness
DESCRIPTION:New Short Term Exhibit from April 1-28\, 2026: Echoes of Blackness by Dawn Tree\nDawn Tree is a abstract surrealist artist\, journalist\, and author. Founder of Underground Tree Studios\, she creates vibrant works on wood and textiles\, blending heritage with social justice to bridge history and activism.
URL:https://mohumanities.org/event/echoes-of-blackness/2026-12-08/
LOCATION:Black Archives of Mid-America\, 1722 E. 17th Terr.\,\, Kansas City\, MO\, 64108
CATEGORIES:Around Our Community
ORGANIZER;CN="Black Archives of Mid-America":MAILTO:info@blackarchives.org
GEO:39.0923324;-94.5611934
X-APPLE-STRUCTURED-LOCATION;VALUE=URI;X-ADDRESS=Black Archives of Mid-America 1722 E. 17th Terr. Kansas City MO 64108;X-APPLE-RADIUS=500;X-TITLE=1722 E. 17th Terr.\,:geo:-94.5611934,39.0923324
END:VEVENT
BEGIN:VEVENT
DTSTART;TZID=America/Chicago:20261209T090000
DTEND;TZID=America/Chicago:20270105T170000
DTSTAMP:20260421T155504
CREATED:20260317T172930Z
LAST-MODIFIED:20260317T172930Z
UID:10003418-1796806800-1799168400@mohumanities.org
SUMMARY:Echoes of Blackness
DESCRIPTION:New Short Term Exhibit from April 1-28\, 2026: Echoes of Blackness by Dawn Tree\nDawn Tree is a abstract surrealist artist\, journalist\, and author. Founder of Underground Tree Studios\, she creates vibrant works on wood and textiles\, blending heritage with social justice to bridge history and activism.
URL:https://mohumanities.org/event/echoes-of-blackness/2026-12-09/
LOCATION:Black Archives of Mid-America\, 1722 E. 17th Terr.\,\, Kansas City\, MO\, 64108
CATEGORIES:Around Our Community
ORGANIZER;CN="Black Archives of Mid-America":MAILTO:info@blackarchives.org
GEO:39.0923324;-94.5611934
X-APPLE-STRUCTURED-LOCATION;VALUE=URI;X-ADDRESS=Black Archives of Mid-America 1722 E. 17th Terr. Kansas City MO 64108;X-APPLE-RADIUS=500;X-TITLE=1722 E. 17th Terr.\,:geo:-94.5611934,39.0923324
END:VEVENT
BEGIN:VEVENT
DTSTART;TZID=America/Chicago:20261210T090000
DTEND;TZID=America/Chicago:20270106T170000
DTSTAMP:20260421T155504
CREATED:20260317T172930Z
LAST-MODIFIED:20260317T172930Z
UID:10003419-1796893200-1799254800@mohumanities.org
SUMMARY:Echoes of Blackness
DESCRIPTION:New Short Term Exhibit from April 1-28\, 2026: Echoes of Blackness by Dawn Tree\nDawn Tree is a abstract surrealist artist\, journalist\, and author. Founder of Underground Tree Studios\, she creates vibrant works on wood and textiles\, blending heritage with social justice to bridge history and activism.
URL:https://mohumanities.org/event/echoes-of-blackness/2026-12-10/
LOCATION:Black Archives of Mid-America\, 1722 E. 17th Terr.\,\, Kansas City\, MO\, 64108
CATEGORIES:Around Our Community
ORGANIZER;CN="Black Archives of Mid-America":MAILTO:info@blackarchives.org
GEO:39.0923324;-94.5611934
X-APPLE-STRUCTURED-LOCATION;VALUE=URI;X-ADDRESS=Black Archives of Mid-America 1722 E. 17th Terr. Kansas City MO 64108;X-APPLE-RADIUS=500;X-TITLE=1722 E. 17th Terr.\,:geo:-94.5611934,39.0923324
END:VEVENT
BEGIN:VEVENT
DTSTART;TZID=America/Chicago:20261211T090000
DTEND;TZID=America/Chicago:20270107T170000
DTSTAMP:20260421T155504
CREATED:20260317T172930Z
LAST-MODIFIED:20260317T172930Z
UID:10003420-1796979600-1799341200@mohumanities.org
SUMMARY:Echoes of Blackness
DESCRIPTION:New Short Term Exhibit from April 1-28\, 2026: Echoes of Blackness by Dawn Tree\nDawn Tree is a abstract surrealist artist\, journalist\, and author. Founder of Underground Tree Studios\, she creates vibrant works on wood and textiles\, blending heritage with social justice to bridge history and activism.
URL:https://mohumanities.org/event/echoes-of-blackness/2026-12-11/
LOCATION:Black Archives of Mid-America\, 1722 E. 17th Terr.\,\, Kansas City\, MO\, 64108
CATEGORIES:Around Our Community
ORGANIZER;CN="Black Archives of Mid-America":MAILTO:info@blackarchives.org
GEO:39.0923324;-94.5611934
X-APPLE-STRUCTURED-LOCATION;VALUE=URI;X-ADDRESS=Black Archives of Mid-America 1722 E. 17th Terr. Kansas City MO 64108;X-APPLE-RADIUS=500;X-TITLE=1722 E. 17th Terr.\,:geo:-94.5611934,39.0923324
END:VEVENT
BEGIN:VEVENT
DTSTART;TZID=America/Chicago:20261214T090000
DTEND;TZID=America/Chicago:20270110T170000
DTSTAMP:20260421T155504
CREATED:20260317T172930Z
LAST-MODIFIED:20260317T172930Z
UID:10003421-1797238800-1799600400@mohumanities.org
SUMMARY:Echoes of Blackness
DESCRIPTION:New Short Term Exhibit from April 1-28\, 2026: Echoes of Blackness by Dawn Tree\nDawn Tree is a abstract surrealist artist\, journalist\, and author. Founder of Underground Tree Studios\, she creates vibrant works on wood and textiles\, blending heritage with social justice to bridge history and activism.
URL:https://mohumanities.org/event/echoes-of-blackness/2026-12-14/
LOCATION:Black Archives of Mid-America\, 1722 E. 17th Terr.\,\, Kansas City\, MO\, 64108
CATEGORIES:Around Our Community
ORGANIZER;CN="Black Archives of Mid-America":MAILTO:info@blackarchives.org
GEO:39.0923324;-94.5611934
X-APPLE-STRUCTURED-LOCATION;VALUE=URI;X-ADDRESS=Black Archives of Mid-America 1722 E. 17th Terr. Kansas City MO 64108;X-APPLE-RADIUS=500;X-TITLE=1722 E. 17th Terr.\,:geo:-94.5611934,39.0923324
END:VEVENT
BEGIN:VEVENT
DTSTART;TZID=America/Chicago:20261215T090000
DTEND;TZID=America/Chicago:20270111T170000
DTSTAMP:20260421T155504
CREATED:20260317T172930Z
LAST-MODIFIED:20260317T172930Z
UID:10003422-1797325200-1799686800@mohumanities.org
SUMMARY:Echoes of Blackness
DESCRIPTION:New Short Term Exhibit from April 1-28\, 2026: Echoes of Blackness by Dawn Tree\nDawn Tree is a abstract surrealist artist\, journalist\, and author. Founder of Underground Tree Studios\, she creates vibrant works on wood and textiles\, blending heritage with social justice to bridge history and activism.
URL:https://mohumanities.org/event/echoes-of-blackness/2026-12-15/
LOCATION:Black Archives of Mid-America\, 1722 E. 17th Terr.\,\, Kansas City\, MO\, 64108
CATEGORIES:Around Our Community
ORGANIZER;CN="Black Archives of Mid-America":MAILTO:info@blackarchives.org
GEO:39.0923324;-94.5611934
X-APPLE-STRUCTURED-LOCATION;VALUE=URI;X-ADDRESS=Black Archives of Mid-America 1722 E. 17th Terr. Kansas City MO 64108;X-APPLE-RADIUS=500;X-TITLE=1722 E. 17th Terr.\,:geo:-94.5611934,39.0923324
END:VEVENT
BEGIN:VEVENT
DTSTART;TZID=America/Chicago:20261216T090000
DTEND;TZID=America/Chicago:20270112T170000
DTSTAMP:20260421T155504
CREATED:20260317T172930Z
LAST-MODIFIED:20260317T172930Z
UID:10003423-1797411600-1799773200@mohumanities.org
SUMMARY:Echoes of Blackness
DESCRIPTION:New Short Term Exhibit from April 1-28\, 2026: Echoes of Blackness by Dawn Tree\nDawn Tree is a abstract surrealist artist\, journalist\, and author. Founder of Underground Tree Studios\, she creates vibrant works on wood and textiles\, blending heritage with social justice to bridge history and activism.
URL:https://mohumanities.org/event/echoes-of-blackness/2026-12-16/
LOCATION:Black Archives of Mid-America\, 1722 E. 17th Terr.\,\, Kansas City\, MO\, 64108
CATEGORIES:Around Our Community
ORGANIZER;CN="Black Archives of Mid-America":MAILTO:info@blackarchives.org
GEO:39.0923324;-94.5611934
X-APPLE-STRUCTURED-LOCATION;VALUE=URI;X-ADDRESS=Black Archives of Mid-America 1722 E. 17th Terr. Kansas City MO 64108;X-APPLE-RADIUS=500;X-TITLE=1722 E. 17th Terr.\,:geo:-94.5611934,39.0923324
END:VEVENT
BEGIN:VEVENT
DTSTART;TZID=America/Chicago:20261217T090000
DTEND;TZID=America/Chicago:20270113T170000
DTSTAMP:20260421T155504
CREATED:20260317T172930Z
LAST-MODIFIED:20260317T172930Z
UID:10003424-1797498000-1799859600@mohumanities.org
SUMMARY:Echoes of Blackness
DESCRIPTION:New Short Term Exhibit from April 1-28\, 2026: Echoes of Blackness by Dawn Tree\nDawn Tree is a abstract surrealist artist\, journalist\, and author. Founder of Underground Tree Studios\, she creates vibrant works on wood and textiles\, blending heritage with social justice to bridge history and activism.
URL:https://mohumanities.org/event/echoes-of-blackness/2026-12-17/
LOCATION:Black Archives of Mid-America\, 1722 E. 17th Terr.\,\, Kansas City\, MO\, 64108
CATEGORIES:Around Our Community
ORGANIZER;CN="Black Archives of Mid-America":MAILTO:info@blackarchives.org
GEO:39.0923324;-94.5611934
X-APPLE-STRUCTURED-LOCATION;VALUE=URI;X-ADDRESS=Black Archives of Mid-America 1722 E. 17th Terr. Kansas City MO 64108;X-APPLE-RADIUS=500;X-TITLE=1722 E. 17th Terr.\,:geo:-94.5611934,39.0923324
END:VEVENT
BEGIN:VEVENT
DTSTART;TZID=America/Chicago:20261218T090000
DTEND;TZID=America/Chicago:20270114T170000
DTSTAMP:20260421T155504
CREATED:20260317T172930Z
LAST-MODIFIED:20260317T172930Z
UID:10003425-1797584400-1799946000@mohumanities.org
SUMMARY:Echoes of Blackness
DESCRIPTION:New Short Term Exhibit from April 1-28\, 2026: Echoes of Blackness by Dawn Tree\nDawn Tree is a abstract surrealist artist\, journalist\, and author. Founder of Underground Tree Studios\, she creates vibrant works on wood and textiles\, blending heritage with social justice to bridge history and activism.
URL:https://mohumanities.org/event/echoes-of-blackness/2026-12-18/
LOCATION:Black Archives of Mid-America\, 1722 E. 17th Terr.\,\, Kansas City\, MO\, 64108
CATEGORIES:Around Our Community
ORGANIZER;CN="Black Archives of Mid-America":MAILTO:info@blackarchives.org
GEO:39.0923324;-94.5611934
X-APPLE-STRUCTURED-LOCATION;VALUE=URI;X-ADDRESS=Black Archives of Mid-America 1722 E. 17th Terr. Kansas City MO 64108;X-APPLE-RADIUS=500;X-TITLE=1722 E. 17th Terr.\,:geo:-94.5611934,39.0923324
END:VEVENT
END:VCALENDAR