BEGIN:VCALENDAR
VERSION:2.0
PRODID:-//Missouri Humanities - ECPv6.15.20//NONSGML v1.0//EN
CALSCALE:GREGORIAN
METHOD:PUBLISH
X-ORIGINAL-URL:https://mohumanities.org
X-WR-CALDESC:Events for Missouri Humanities
REFRESH-INTERVAL;VALUE=DURATION:PT1H
X-Robots-Tag:noindex
X-PUBLISHED-TTL:PT1H
BEGIN:VTIMEZONE
TZID:America/Chicago
BEGIN:DAYLIGHT
TZOFFSETFROM:-0600
TZOFFSETTO:-0500
TZNAME:CDT
DTSTART:20250309T080000
END:DAYLIGHT
BEGIN:STANDARD
TZOFFSETFROM:-0500
TZOFFSETTO:-0600
TZNAME:CST
DTSTART:20251102T070000
END:STANDARD
BEGIN:DAYLIGHT
TZOFFSETFROM:-0600
TZOFFSETTO:-0500
TZNAME:CDT
DTSTART:20260308T080000
END:DAYLIGHT
BEGIN:STANDARD
TZOFFSETFROM:-0500
TZOFFSETTO:-0600
TZNAME:CST
DTSTART:20261101T070000
END:STANDARD
BEGIN:DAYLIGHT
TZOFFSETFROM:-0600
TZOFFSETTO:-0500
TZNAME:CDT
DTSTART:20270314T080000
END:DAYLIGHT
BEGIN:STANDARD
TZOFFSETFROM:-0500
TZOFFSETTO:-0600
TZNAME:CST
DTSTART:20271107T070000
END:STANDARD
END:VTIMEZONE
BEGIN:VEVENT
DTSTART;TZID=America/Chicago:20260908T090000
DTEND;TZID=America/Chicago:20261005T170000
DTSTAMP:20260420T095306
CREATED:20260317T172930Z
LAST-MODIFIED:20260317T172930Z
UID:10003352-1788858000-1791219600@mohumanities.org
SUMMARY:Echoes of Blackness
DESCRIPTION:New Short Term Exhibit from April 1-28\, 2026: Echoes of Blackness by Dawn Tree\nDawn Tree is a abstract surrealist artist\, journalist\, and author. Founder of Underground Tree Studios\, she creates vibrant works on wood and textiles\, blending heritage with social justice to bridge history and activism.
URL:https://mohumanities.org/event/echoes-of-blackness/2026-09-08/
LOCATION:Black Archives of Mid-America\, 1722 E. 17th Terr.\,\, Kansas City\, MO\, 64108
CATEGORIES:Around Our Community
ORGANIZER;CN="Black Archives of Mid-America":MAILTO:info@blackarchives.org
GEO:39.0923324;-94.5611934
X-APPLE-STRUCTURED-LOCATION;VALUE=URI;X-ADDRESS=Black Archives of Mid-America 1722 E. 17th Terr. Kansas City MO 64108;X-APPLE-RADIUS=500;X-TITLE=1722 E. 17th Terr.\,:geo:-94.5611934,39.0923324
END:VEVENT
BEGIN:VEVENT
DTSTART;TZID=America/Chicago:20260909T090000
DTEND;TZID=America/Chicago:20261006T170000
DTSTAMP:20260420T095306
CREATED:20260317T172930Z
LAST-MODIFIED:20260317T172930Z
UID:10003353-1788944400-1791306000@mohumanities.org
SUMMARY:Echoes of Blackness
DESCRIPTION:New Short Term Exhibit from April 1-28\, 2026: Echoes of Blackness by Dawn Tree\nDawn Tree is a abstract surrealist artist\, journalist\, and author. Founder of Underground Tree Studios\, she creates vibrant works on wood and textiles\, blending heritage with social justice to bridge history and activism.
URL:https://mohumanities.org/event/echoes-of-blackness/2026-09-09/
LOCATION:Black Archives of Mid-America\, 1722 E. 17th Terr.\,\, Kansas City\, MO\, 64108
CATEGORIES:Around Our Community
ORGANIZER;CN="Black Archives of Mid-America":MAILTO:info@blackarchives.org
GEO:39.0923324;-94.5611934
X-APPLE-STRUCTURED-LOCATION;VALUE=URI;X-ADDRESS=Black Archives of Mid-America 1722 E. 17th Terr. Kansas City MO 64108;X-APPLE-RADIUS=500;X-TITLE=1722 E. 17th Terr.\,:geo:-94.5611934,39.0923324
END:VEVENT
BEGIN:VEVENT
DTSTART;TZID=America/Chicago:20260910T090000
DTEND;TZID=America/Chicago:20261007T170000
DTSTAMP:20260420T095306
CREATED:20260317T172930Z
LAST-MODIFIED:20260317T172930Z
UID:10003354-1789030800-1791392400@mohumanities.org
SUMMARY:Echoes of Blackness
DESCRIPTION:New Short Term Exhibit from April 1-28\, 2026: Echoes of Blackness by Dawn Tree\nDawn Tree is a abstract surrealist artist\, journalist\, and author. Founder of Underground Tree Studios\, she creates vibrant works on wood and textiles\, blending heritage with social justice to bridge history and activism.
URL:https://mohumanities.org/event/echoes-of-blackness/2026-09-10/
LOCATION:Black Archives of Mid-America\, 1722 E. 17th Terr.\,\, Kansas City\, MO\, 64108
CATEGORIES:Around Our Community
ORGANIZER;CN="Black Archives of Mid-America":MAILTO:info@blackarchives.org
GEO:39.0923324;-94.5611934
X-APPLE-STRUCTURED-LOCATION;VALUE=URI;X-ADDRESS=Black Archives of Mid-America 1722 E. 17th Terr. Kansas City MO 64108;X-APPLE-RADIUS=500;X-TITLE=1722 E. 17th Terr.\,:geo:-94.5611934,39.0923324
END:VEVENT
BEGIN:VEVENT
DTSTART;TZID=America/Chicago:20260911T090000
DTEND;TZID=America/Chicago:20261008T170000
DTSTAMP:20260420T095306
CREATED:20260317T172930Z
LAST-MODIFIED:20260317T172930Z
UID:10003355-1789117200-1791478800@mohumanities.org
SUMMARY:Echoes of Blackness
DESCRIPTION:New Short Term Exhibit from April 1-28\, 2026: Echoes of Blackness by Dawn Tree\nDawn Tree is a abstract surrealist artist\, journalist\, and author. Founder of Underground Tree Studios\, she creates vibrant works on wood and textiles\, blending heritage with social justice to bridge history and activism.
URL:https://mohumanities.org/event/echoes-of-blackness/2026-09-11/
LOCATION:Black Archives of Mid-America\, 1722 E. 17th Terr.\,\, Kansas City\, MO\, 64108
CATEGORIES:Around Our Community
ORGANIZER;CN="Black Archives of Mid-America":MAILTO:info@blackarchives.org
GEO:39.0923324;-94.5611934
X-APPLE-STRUCTURED-LOCATION;VALUE=URI;X-ADDRESS=Black Archives of Mid-America 1722 E. 17th Terr. Kansas City MO 64108;X-APPLE-RADIUS=500;X-TITLE=1722 E. 17th Terr.\,:geo:-94.5611934,39.0923324
END:VEVENT
BEGIN:VEVENT
DTSTART;TZID=America/Chicago:20260914T090000
DTEND;TZID=America/Chicago:20261011T170000
DTSTAMP:20260420T095306
CREATED:20260317T172930Z
LAST-MODIFIED:20260317T172930Z
UID:10003356-1789376400-1791738000@mohumanities.org
SUMMARY:Echoes of Blackness
DESCRIPTION:New Short Term Exhibit from April 1-28\, 2026: Echoes of Blackness by Dawn Tree\nDawn Tree is a abstract surrealist artist\, journalist\, and author. Founder of Underground Tree Studios\, she creates vibrant works on wood and textiles\, blending heritage with social justice to bridge history and activism.
URL:https://mohumanities.org/event/echoes-of-blackness/2026-09-14/
LOCATION:Black Archives of Mid-America\, 1722 E. 17th Terr.\,\, Kansas City\, MO\, 64108
CATEGORIES:Around Our Community
ORGANIZER;CN="Black Archives of Mid-America":MAILTO:info@blackarchives.org
GEO:39.0923324;-94.5611934
X-APPLE-STRUCTURED-LOCATION;VALUE=URI;X-ADDRESS=Black Archives of Mid-America 1722 E. 17th Terr. Kansas City MO 64108;X-APPLE-RADIUS=500;X-TITLE=1722 E. 17th Terr.\,:geo:-94.5611934,39.0923324
END:VEVENT
BEGIN:VEVENT
DTSTART;TZID=America/Chicago:20260915T090000
DTEND;TZID=America/Chicago:20261012T170000
DTSTAMP:20260420T095306
CREATED:20260317T172930Z
LAST-MODIFIED:20260317T172930Z
UID:10003357-1789462800-1791824400@mohumanities.org
SUMMARY:Echoes of Blackness
DESCRIPTION:New Short Term Exhibit from April 1-28\, 2026: Echoes of Blackness by Dawn Tree\nDawn Tree is a abstract surrealist artist\, journalist\, and author. Founder of Underground Tree Studios\, she creates vibrant works on wood and textiles\, blending heritage with social justice to bridge history and activism.
URL:https://mohumanities.org/event/echoes-of-blackness/2026-09-15/
LOCATION:Black Archives of Mid-America\, 1722 E. 17th Terr.\,\, Kansas City\, MO\, 64108
CATEGORIES:Around Our Community
ORGANIZER;CN="Black Archives of Mid-America":MAILTO:info@blackarchives.org
GEO:39.0923324;-94.5611934
X-APPLE-STRUCTURED-LOCATION;VALUE=URI;X-ADDRESS=Black Archives of Mid-America 1722 E. 17th Terr. Kansas City MO 64108;X-APPLE-RADIUS=500;X-TITLE=1722 E. 17th Terr.\,:geo:-94.5611934,39.0923324
END:VEVENT
BEGIN:VEVENT
DTSTART;TZID=America/Chicago:20260916T090000
DTEND;TZID=America/Chicago:20261013T170000
DTSTAMP:20260420T095306
CREATED:20260317T172930Z
LAST-MODIFIED:20260317T172930Z
UID:10003358-1789549200-1791910800@mohumanities.org
SUMMARY:Echoes of Blackness
DESCRIPTION:New Short Term Exhibit from April 1-28\, 2026: Echoes of Blackness by Dawn Tree\nDawn Tree is a abstract surrealist artist\, journalist\, and author. Founder of Underground Tree Studios\, she creates vibrant works on wood and textiles\, blending heritage with social justice to bridge history and activism.
URL:https://mohumanities.org/event/echoes-of-blackness/2026-09-16/
LOCATION:Black Archives of Mid-America\, 1722 E. 17th Terr.\,\, Kansas City\, MO\, 64108
CATEGORIES:Around Our Community
ORGANIZER;CN="Black Archives of Mid-America":MAILTO:info@blackarchives.org
GEO:39.0923324;-94.5611934
X-APPLE-STRUCTURED-LOCATION;VALUE=URI;X-ADDRESS=Black Archives of Mid-America 1722 E. 17th Terr. Kansas City MO 64108;X-APPLE-RADIUS=500;X-TITLE=1722 E. 17th Terr.\,:geo:-94.5611934,39.0923324
END:VEVENT
BEGIN:VEVENT
DTSTART;TZID=America/Chicago:20260917T090000
DTEND;TZID=America/Chicago:20261014T170000
DTSTAMP:20260420T095306
CREATED:20260317T172930Z
LAST-MODIFIED:20260317T172930Z
UID:10003359-1789635600-1791997200@mohumanities.org
SUMMARY:Echoes of Blackness
DESCRIPTION:New Short Term Exhibit from April 1-28\, 2026: Echoes of Blackness by Dawn Tree\nDawn Tree is a abstract surrealist artist\, journalist\, and author. Founder of Underground Tree Studios\, she creates vibrant works on wood and textiles\, blending heritage with social justice to bridge history and activism.
URL:https://mohumanities.org/event/echoes-of-blackness/2026-09-17/
LOCATION:Black Archives of Mid-America\, 1722 E. 17th Terr.\,\, Kansas City\, MO\, 64108
CATEGORIES:Around Our Community
ORGANIZER;CN="Black Archives of Mid-America":MAILTO:info@blackarchives.org
GEO:39.0923324;-94.5611934
X-APPLE-STRUCTURED-LOCATION;VALUE=URI;X-ADDRESS=Black Archives of Mid-America 1722 E. 17th Terr. Kansas City MO 64108;X-APPLE-RADIUS=500;X-TITLE=1722 E. 17th Terr.\,:geo:-94.5611934,39.0923324
END:VEVENT
BEGIN:VEVENT
DTSTART;TZID=America/Chicago:20260918T090000
DTEND;TZID=America/Chicago:20261015T170000
DTSTAMP:20260420T095306
CREATED:20260317T172930Z
LAST-MODIFIED:20260317T172930Z
UID:10003360-1789722000-1792083600@mohumanities.org
SUMMARY:Echoes of Blackness
DESCRIPTION:New Short Term Exhibit from April 1-28\, 2026: Echoes of Blackness by Dawn Tree\nDawn Tree is a abstract surrealist artist\, journalist\, and author. Founder of Underground Tree Studios\, she creates vibrant works on wood and textiles\, blending heritage with social justice to bridge history and activism.
URL:https://mohumanities.org/event/echoes-of-blackness/2026-09-18/
LOCATION:Black Archives of Mid-America\, 1722 E. 17th Terr.\,\, Kansas City\, MO\, 64108
CATEGORIES:Around Our Community
ORGANIZER;CN="Black Archives of Mid-America":MAILTO:info@blackarchives.org
GEO:39.0923324;-94.5611934
X-APPLE-STRUCTURED-LOCATION;VALUE=URI;X-ADDRESS=Black Archives of Mid-America 1722 E. 17th Terr. Kansas City MO 64108;X-APPLE-RADIUS=500;X-TITLE=1722 E. 17th Terr.\,:geo:-94.5611934,39.0923324
END:VEVENT
BEGIN:VEVENT
DTSTART;TZID=America/Chicago:20260921T090000
DTEND;TZID=America/Chicago:20261018T170000
DTSTAMP:20260420T095306
CREATED:20260317T172930Z
LAST-MODIFIED:20260317T172930Z
UID:10003361-1789981200-1792342800@mohumanities.org
SUMMARY:Echoes of Blackness
DESCRIPTION:New Short Term Exhibit from April 1-28\, 2026: Echoes of Blackness by Dawn Tree\nDawn Tree is a abstract surrealist artist\, journalist\, and author. Founder of Underground Tree Studios\, she creates vibrant works on wood and textiles\, blending heritage with social justice to bridge history and activism.
URL:https://mohumanities.org/event/echoes-of-blackness/2026-09-21/
LOCATION:Black Archives of Mid-America\, 1722 E. 17th Terr.\,\, Kansas City\, MO\, 64108
CATEGORIES:Around Our Community
ORGANIZER;CN="Black Archives of Mid-America":MAILTO:info@blackarchives.org
GEO:39.0923324;-94.5611934
X-APPLE-STRUCTURED-LOCATION;VALUE=URI;X-ADDRESS=Black Archives of Mid-America 1722 E. 17th Terr. Kansas City MO 64108;X-APPLE-RADIUS=500;X-TITLE=1722 E. 17th Terr.\,:geo:-94.5611934,39.0923324
END:VEVENT
BEGIN:VEVENT
DTSTART;TZID=America/Chicago:20260922T090000
DTEND;TZID=America/Chicago:20261019T170000
DTSTAMP:20260420T095306
CREATED:20260317T172930Z
LAST-MODIFIED:20260317T172930Z
UID:10003362-1790067600-1792429200@mohumanities.org
SUMMARY:Echoes of Blackness
DESCRIPTION:New Short Term Exhibit from April 1-28\, 2026: Echoes of Blackness by Dawn Tree\nDawn Tree is a abstract surrealist artist\, journalist\, and author. Founder of Underground Tree Studios\, she creates vibrant works on wood and textiles\, blending heritage with social justice to bridge history and activism.
URL:https://mohumanities.org/event/echoes-of-blackness/2026-09-22/
LOCATION:Black Archives of Mid-America\, 1722 E. 17th Terr.\,\, Kansas City\, MO\, 64108
CATEGORIES:Around Our Community
ORGANIZER;CN="Black Archives of Mid-America":MAILTO:info@blackarchives.org
GEO:39.0923324;-94.5611934
X-APPLE-STRUCTURED-LOCATION;VALUE=URI;X-ADDRESS=Black Archives of Mid-America 1722 E. 17th Terr. Kansas City MO 64108;X-APPLE-RADIUS=500;X-TITLE=1722 E. 17th Terr.\,:geo:-94.5611934,39.0923324
END:VEVENT
BEGIN:VEVENT
DTSTART;TZID=America/Chicago:20260923T090000
DTEND;TZID=America/Chicago:20261020T170000
DTSTAMP:20260420T095306
CREATED:20260317T172930Z
LAST-MODIFIED:20260317T172930Z
UID:10003363-1790154000-1792515600@mohumanities.org
SUMMARY:Echoes of Blackness
DESCRIPTION:New Short Term Exhibit from April 1-28\, 2026: Echoes of Blackness by Dawn Tree\nDawn Tree is a abstract surrealist artist\, journalist\, and author. Founder of Underground Tree Studios\, she creates vibrant works on wood and textiles\, blending heritage with social justice to bridge history and activism.
URL:https://mohumanities.org/event/echoes-of-blackness/2026-09-23/
LOCATION:Black Archives of Mid-America\, 1722 E. 17th Terr.\,\, Kansas City\, MO\, 64108
CATEGORIES:Around Our Community
ORGANIZER;CN="Black Archives of Mid-America":MAILTO:info@blackarchives.org
GEO:39.0923324;-94.5611934
X-APPLE-STRUCTURED-LOCATION;VALUE=URI;X-ADDRESS=Black Archives of Mid-America 1722 E. 17th Terr. Kansas City MO 64108;X-APPLE-RADIUS=500;X-TITLE=1722 E. 17th Terr.\,:geo:-94.5611934,39.0923324
END:VEVENT
BEGIN:VEVENT
DTSTART;TZID=America/Chicago:20260924T090000
DTEND;TZID=America/Chicago:20261021T170000
DTSTAMP:20260420T095306
CREATED:20260317T172930Z
LAST-MODIFIED:20260317T172930Z
UID:10003364-1790240400-1792602000@mohumanities.org
SUMMARY:Echoes of Blackness
DESCRIPTION:New Short Term Exhibit from April 1-28\, 2026: Echoes of Blackness by Dawn Tree\nDawn Tree is a abstract surrealist artist\, journalist\, and author. Founder of Underground Tree Studios\, she creates vibrant works on wood and textiles\, blending heritage with social justice to bridge history and activism.
URL:https://mohumanities.org/event/echoes-of-blackness/2026-09-24/
LOCATION:Black Archives of Mid-America\, 1722 E. 17th Terr.\,\, Kansas City\, MO\, 64108
CATEGORIES:Around Our Community
ORGANIZER;CN="Black Archives of Mid-America":MAILTO:info@blackarchives.org
GEO:39.0923324;-94.5611934
X-APPLE-STRUCTURED-LOCATION;VALUE=URI;X-ADDRESS=Black Archives of Mid-America 1722 E. 17th Terr. Kansas City MO 64108;X-APPLE-RADIUS=500;X-TITLE=1722 E. 17th Terr.\,:geo:-94.5611934,39.0923324
END:VEVENT
BEGIN:VEVENT
DTSTART;TZID=America/Chicago:20260925T090000
DTEND;TZID=America/Chicago:20261022T170000
DTSTAMP:20260420T095306
CREATED:20260317T172930Z
LAST-MODIFIED:20260317T172930Z
UID:10003365-1790326800-1792688400@mohumanities.org
SUMMARY:Echoes of Blackness
DESCRIPTION:New Short Term Exhibit from April 1-28\, 2026: Echoes of Blackness by Dawn Tree\nDawn Tree is a abstract surrealist artist\, journalist\, and author. Founder of Underground Tree Studios\, she creates vibrant works on wood and textiles\, blending heritage with social justice to bridge history and activism.
URL:https://mohumanities.org/event/echoes-of-blackness/2026-09-25/
LOCATION:Black Archives of Mid-America\, 1722 E. 17th Terr.\,\, Kansas City\, MO\, 64108
CATEGORIES:Around Our Community
ORGANIZER;CN="Black Archives of Mid-America":MAILTO:info@blackarchives.org
GEO:39.0923324;-94.5611934
X-APPLE-STRUCTURED-LOCATION;VALUE=URI;X-ADDRESS=Black Archives of Mid-America 1722 E. 17th Terr. Kansas City MO 64108;X-APPLE-RADIUS=500;X-TITLE=1722 E. 17th Terr.\,:geo:-94.5611934,39.0923324
END:VEVENT
BEGIN:VEVENT
DTSTART;TZID=America/Chicago:20260928T090000
DTEND;TZID=America/Chicago:20261025T170000
DTSTAMP:20260420T095306
CREATED:20260317T172930Z
LAST-MODIFIED:20260317T172930Z
UID:10003366-1790586000-1792947600@mohumanities.org
SUMMARY:Echoes of Blackness
DESCRIPTION:New Short Term Exhibit from April 1-28\, 2026: Echoes of Blackness by Dawn Tree\nDawn Tree is a abstract surrealist artist\, journalist\, and author. Founder of Underground Tree Studios\, she creates vibrant works on wood and textiles\, blending heritage with social justice to bridge history and activism.
URL:https://mohumanities.org/event/echoes-of-blackness/2026-09-28/
LOCATION:Black Archives of Mid-America\, 1722 E. 17th Terr.\,\, Kansas City\, MO\, 64108
CATEGORIES:Around Our Community
ORGANIZER;CN="Black Archives of Mid-America":MAILTO:info@blackarchives.org
GEO:39.0923324;-94.5611934
X-APPLE-STRUCTURED-LOCATION;VALUE=URI;X-ADDRESS=Black Archives of Mid-America 1722 E. 17th Terr. Kansas City MO 64108;X-APPLE-RADIUS=500;X-TITLE=1722 E. 17th Terr.\,:geo:-94.5611934,39.0923324
END:VEVENT
BEGIN:VEVENT
DTSTART;TZID=America/Chicago:20260929T090000
DTEND;TZID=America/Chicago:20261026T170000
DTSTAMP:20260420T095306
CREATED:20260317T172930Z
LAST-MODIFIED:20260317T172930Z
UID:10003367-1790672400-1793034000@mohumanities.org
SUMMARY:Echoes of Blackness
DESCRIPTION:New Short Term Exhibit from April 1-28\, 2026: Echoes of Blackness by Dawn Tree\nDawn Tree is a abstract surrealist artist\, journalist\, and author. Founder of Underground Tree Studios\, she creates vibrant works on wood and textiles\, blending heritage with social justice to bridge history and activism.
URL:https://mohumanities.org/event/echoes-of-blackness/2026-09-29/
LOCATION:Black Archives of Mid-America\, 1722 E. 17th Terr.\,\, Kansas City\, MO\, 64108
CATEGORIES:Around Our Community
ORGANIZER;CN="Black Archives of Mid-America":MAILTO:info@blackarchives.org
GEO:39.0923324;-94.5611934
X-APPLE-STRUCTURED-LOCATION;VALUE=URI;X-ADDRESS=Black Archives of Mid-America 1722 E. 17th Terr. Kansas City MO 64108;X-APPLE-RADIUS=500;X-TITLE=1722 E. 17th Terr.\,:geo:-94.5611934,39.0923324
END:VEVENT
BEGIN:VEVENT
DTSTART;TZID=America/Chicago:20260930T090000
DTEND;TZID=America/Chicago:20261027T170000
DTSTAMP:20260420T095306
CREATED:20260317T172930Z
LAST-MODIFIED:20260317T172930Z
UID:10003368-1790758800-1793120400@mohumanities.org
SUMMARY:Echoes of Blackness
DESCRIPTION:New Short Term Exhibit from April 1-28\, 2026: Echoes of Blackness by Dawn Tree\nDawn Tree is a abstract surrealist artist\, journalist\, and author. Founder of Underground Tree Studios\, she creates vibrant works on wood and textiles\, blending heritage with social justice to bridge history and activism.
URL:https://mohumanities.org/event/echoes-of-blackness/2026-09-30/
LOCATION:Black Archives of Mid-America\, 1722 E. 17th Terr.\,\, Kansas City\, MO\, 64108
CATEGORIES:Around Our Community
ORGANIZER;CN="Black Archives of Mid-America":MAILTO:info@blackarchives.org
GEO:39.0923324;-94.5611934
X-APPLE-STRUCTURED-LOCATION;VALUE=URI;X-ADDRESS=Black Archives of Mid-America 1722 E. 17th Terr. Kansas City MO 64108;X-APPLE-RADIUS=500;X-TITLE=1722 E. 17th Terr.\,:geo:-94.5611934,39.0923324
END:VEVENT
BEGIN:VEVENT
DTSTART;TZID=America/Chicago:20261001T090000
DTEND;TZID=America/Chicago:20261028T170000
DTSTAMP:20260420T095306
CREATED:20260317T172930Z
LAST-MODIFIED:20260317T172930Z
UID:10003369-1790845200-1793206800@mohumanities.org
SUMMARY:Echoes of Blackness
DESCRIPTION:New Short Term Exhibit from April 1-28\, 2026: Echoes of Blackness by Dawn Tree\nDawn Tree is a abstract surrealist artist\, journalist\, and author. Founder of Underground Tree Studios\, she creates vibrant works on wood and textiles\, blending heritage with social justice to bridge history and activism.
URL:https://mohumanities.org/event/echoes-of-blackness/2026-10-01/
LOCATION:Black Archives of Mid-America\, 1722 E. 17th Terr.\,\, Kansas City\, MO\, 64108
CATEGORIES:Around Our Community
ORGANIZER;CN="Black Archives of Mid-America":MAILTO:info@blackarchives.org
GEO:39.0923324;-94.5611934
X-APPLE-STRUCTURED-LOCATION;VALUE=URI;X-ADDRESS=Black Archives of Mid-America 1722 E. 17th Terr. Kansas City MO 64108;X-APPLE-RADIUS=500;X-TITLE=1722 E. 17th Terr.\,:geo:-94.5611934,39.0923324
END:VEVENT
BEGIN:VEVENT
DTSTART;TZID=America/Chicago:20261002T090000
DTEND;TZID=America/Chicago:20261029T170000
DTSTAMP:20260420T095306
CREATED:20260317T172930Z
LAST-MODIFIED:20260317T172930Z
UID:10003370-1790931600-1793293200@mohumanities.org
SUMMARY:Echoes of Blackness
DESCRIPTION:New Short Term Exhibit from April 1-28\, 2026: Echoes of Blackness by Dawn Tree\nDawn Tree is a abstract surrealist artist\, journalist\, and author. Founder of Underground Tree Studios\, she creates vibrant works on wood and textiles\, blending heritage with social justice to bridge history and activism.
URL:https://mohumanities.org/event/echoes-of-blackness/2026-10-02/
LOCATION:Black Archives of Mid-America\, 1722 E. 17th Terr.\,\, Kansas City\, MO\, 64108
CATEGORIES:Around Our Community
ORGANIZER;CN="Black Archives of Mid-America":MAILTO:info@blackarchives.org
GEO:39.0923324;-94.5611934
X-APPLE-STRUCTURED-LOCATION;VALUE=URI;X-ADDRESS=Black Archives of Mid-America 1722 E. 17th Terr. Kansas City MO 64108;X-APPLE-RADIUS=500;X-TITLE=1722 E. 17th Terr.\,:geo:-94.5611934,39.0923324
END:VEVENT
BEGIN:VEVENT
DTSTART;TZID=America/Chicago:20261005T090000
DTEND;TZID=America/Chicago:20261101T160000
DTSTAMP:20260420T095306
CREATED:20260317T172930Z
LAST-MODIFIED:20260317T172930Z
UID:10003371-1791190800-1793548800@mohumanities.org
SUMMARY:Echoes of Blackness
DESCRIPTION:New Short Term Exhibit from April 1-28\, 2026: Echoes of Blackness by Dawn Tree\nDawn Tree is a abstract surrealist artist\, journalist\, and author. Founder of Underground Tree Studios\, she creates vibrant works on wood and textiles\, blending heritage with social justice to bridge history and activism.
URL:https://mohumanities.org/event/echoes-of-blackness/2026-10-05/
LOCATION:Black Archives of Mid-America\, 1722 E. 17th Terr.\,\, Kansas City\, MO\, 64108
CATEGORIES:Around Our Community
ORGANIZER;CN="Black Archives of Mid-America":MAILTO:info@blackarchives.org
GEO:39.0923324;-94.5611934
X-APPLE-STRUCTURED-LOCATION;VALUE=URI;X-ADDRESS=Black Archives of Mid-America 1722 E. 17th Terr. Kansas City MO 64108;X-APPLE-RADIUS=500;X-TITLE=1722 E. 17th Terr.\,:geo:-94.5611934,39.0923324
END:VEVENT
END:VCALENDAR