BEGIN:VCALENDAR
VERSION:2.0
PRODID:-//Missouri Humanities - ECPv6.15.20//NONSGML v1.0//EN
CALSCALE:GREGORIAN
METHOD:PUBLISH
X-WR-CALNAME:Missouri Humanities
X-ORIGINAL-URL:https://mohumanities.org
X-WR-CALDESC:Events for Missouri Humanities
REFRESH-INTERVAL;VALUE=DURATION:PT1H
X-Robots-Tag:noindex
X-PUBLISHED-TTL:PT1H
BEGIN:VTIMEZONE
TZID:America/Chicago
BEGIN:DAYLIGHT
TZOFFSETFROM:-0600
TZOFFSETTO:-0500
TZNAME:CDT
DTSTART:20250309T080000
END:DAYLIGHT
BEGIN:STANDARD
TZOFFSETFROM:-0500
TZOFFSETTO:-0600
TZNAME:CST
DTSTART:20251102T070000
END:STANDARD
BEGIN:DAYLIGHT
TZOFFSETFROM:-0600
TZOFFSETTO:-0500
TZNAME:CDT
DTSTART:20260308T080000
END:DAYLIGHT
BEGIN:STANDARD
TZOFFSETFROM:-0500
TZOFFSETTO:-0600
TZNAME:CST
DTSTART:20261101T070000
END:STANDARD
BEGIN:DAYLIGHT
TZOFFSETFROM:-0600
TZOFFSETTO:-0500
TZNAME:CDT
DTSTART:20270314T080000
END:DAYLIGHT
BEGIN:STANDARD
TZOFFSETFROM:-0500
TZOFFSETTO:-0600
TZNAME:CST
DTSTART:20271107T070000
END:STANDARD
END:VTIMEZONE
BEGIN:VEVENT
DTSTART;VALUE=DATE:20260401
DTEND;VALUE=DATE:20260501
DTSTAMP:20260424T043851
CREATED:20260406T154453Z
LAST-MODIFIED:20260406T154453Z
UID:10003529-1775001600-1777593599@mohumanities.org
SUMMARY:12 Months of Giving
DESCRIPTION:At Foster Wallace Personal Injury Lawyers\, giving back matters. Through our 12 Months of Giving initiative\, we’re donating $3\,000 each month in 2026 to local nonprofits making a difference. We invite you to nominate a local nonprofit meaningful to you using the form on our event page. Monthly recipients will be announced on our website and social media channels.
URL:https://mohumanities.org/event/12-months-of-giving-3/
LOCATION:Foster Wallace Personal Injury Lawyers\, 4700 Belleview Ave Suite 304\, Kansas City\, 64112
CATEGORIES:Around Our Community
ATTACH;FMTTYPE=image/jpeg:https://mohumanities.org/wp-content/uploads/2026/04/unnamed-6.jpg
ORGANIZER;CN="Foster Wallace Personal Injury Lawyers":MAILTO:legaldirectorylinks+fosterwallaceeventsKansasCity@gmail.com
END:VEVENT
BEGIN:VEVENT
DTSTART;TZID=America/Chicago:20260401T090000
DTEND;TZID=America/Chicago:20260428T170000
DTSTAMP:20260424T043851
CREATED:20260423T172647Z
LAST-MODIFIED:20260423T172723Z
UID:10003255-1775034000-1777395600@mohumanities.org
SUMMARY:Echoes of Blackness
DESCRIPTION:New Short Term Exhibit from April 1-28\, 2026: Echoes of Blackness by Dawn Tree\nDawn Tree is a abstract surrealist artist\, journalist\, and author. Founder of Underground Tree Studios\, she creates vibrant works on wood and textiles\, blending heritage with social justice to bridge history and activism.
URL:https://mohumanities.org/event/echoes-of-blackness-2/
LOCATION:Black Archives of Mid-America\, 1722 E. 17th Terr.\,\, Kansas City\, MO\, 64108
CATEGORIES:Around Our Community
ORGANIZER;CN="Black Archives of Mid-America":MAILTO:info@blackarchives.org
GEO:39.0923324;-94.5611934
X-APPLE-STRUCTURED-LOCATION;VALUE=URI;X-ADDRESS=Black Archives of Mid-America 1722 E. 17th Terr. Kansas City MO 64108;X-APPLE-RADIUS=500;X-TITLE=1722 E. 17th Terr.\,:geo:-94.5611934,39.0923324
END:VEVENT
END:VCALENDAR