BEGIN:VCALENDAR
VERSION:2.0
PRODID:-//Missouri Humanities - ECPv6.15.20//NONSGML v1.0//EN
CALSCALE:GREGORIAN
METHOD:PUBLISH
X-ORIGINAL-URL:https://mohumanities.org
X-WR-CALDESC:Events for Missouri Humanities
REFRESH-INTERVAL;VALUE=DURATION:PT1H
X-Robots-Tag:noindex
X-PUBLISHED-TTL:PT1H
BEGIN:VTIMEZONE
TZID:America/Chicago
BEGIN:DAYLIGHT
TZOFFSETFROM:-0600
TZOFFSETTO:-0500
TZNAME:CDT
DTSTART:20240310T080000
END:DAYLIGHT
BEGIN:STANDARD
TZOFFSETFROM:-0500
TZOFFSETTO:-0600
TZNAME:CST
DTSTART:20241103T070000
END:STANDARD
BEGIN:DAYLIGHT
TZOFFSETFROM:-0600
TZOFFSETTO:-0500
TZNAME:CDT
DTSTART:20250309T080000
END:DAYLIGHT
BEGIN:STANDARD
TZOFFSETFROM:-0500
TZOFFSETTO:-0600
TZNAME:CST
DTSTART:20251102T070000
END:STANDARD
BEGIN:DAYLIGHT
TZOFFSETFROM:-0600
TZOFFSETTO:-0500
TZNAME:CDT
DTSTART:20260308T080000
END:DAYLIGHT
BEGIN:STANDARD
TZOFFSETFROM:-0500
TZOFFSETTO:-0600
TZNAME:CST
DTSTART:20261101T070000
END:STANDARD
BEGIN:DAYLIGHT
TZOFFSETFROM:-0600
TZOFFSETTO:-0500
TZNAME:CDT
DTSTART:20270314T080000
END:DAYLIGHT
BEGIN:STANDARD
TZOFFSETFROM:-0500
TZOFFSETTO:-0600
TZNAME:CST
DTSTART:20271107T070000
END:STANDARD
END:VTIMEZONE
BEGIN:VEVENT
DTSTART;TZID=America/Chicago:20251108T100000
DTEND;TZID=America/Chicago:20260419T180000
DTSTAMP:20260419T151316
CREATED:20251021T210312Z
LAST-MODIFIED:20251021T210312Z
UID:10002752-1762596000-1776621600@mohumanities.org
SUMMARY:Titanic: An Immersive Voyage
DESCRIPTION:Step aboard the world’s most captivating maritime legend — Titanic: An Immersive Voyage — opening NOV 8 at Union Station Kansas City. \nThis breathtaking new exhibition brings the Titanic’s untold stories\, unforgettable moments\, and tragic final voyage vividly to life like never before. Produced by Exhibition Hub and presented locally by Hawthorn Bank\, this all-new experience is making its U.S. debut right here in Kansas City. \nWalk the ship’s opulent corridors\, explore dramatic room recreations\, and relive the fateful night through powerful storytelling and immersive environments. \nYour journey includes: \nOver 200 authentic artifacts from Titanic and her sister ships\nThe chance to sit in a lifeboat as the final moments unfold\nAn optional Virtual Reality dive to explore Titanic’s resting place 2.5 miles below the surface\nMultilingual audio guides for a personalized experience\nA thoughtfully curated gift shop with exclusive Titanic merchandise\nWhether you’re a history enthusiast or simply curious about this monumental event\, this exhibition invites you to feel the story—its grandeur\, its heartbreak\, and the human stories within it.
URL:https://mohumanities.org/event/titanic-an-immersive-voyage/
LOCATION:Union Station Kansas City\, 30 West Pershing Road\, Kansas City\, MO\, 64108\, United States
CATEGORIES:Around Our Community
END:VEVENT
BEGIN:VEVENT
DTSTART;TZID=America/Chicago:20260210T180000
DTEND;TZID=America/Chicago:20260210T200000
DTSTAMP:20260419T151316
CREATED:20260121T154259Z
LAST-MODIFIED:20260121T154259Z
UID:10002809-1770746400-1770753600@mohumanities.org
SUMMARY:Stories of Resilience – An Asian American Legacy
DESCRIPTION:Stories of Resilience – An Asian American Legacy is a companion to the national traveling exhibit\, Resilience—A Sansei Sense of Legacy\, sponsored by the St. Louis Japanese American Citizens League at the STL Kaplan Feldman Holocaust Museum. As part of their year-long storytelling festival funded by the Missouri Humanities\, Cambio Center is supporting this event on February 10th\, 2026\, 6 pm. Through Stories of Resilience and its accompanying workshops\, the organizers aim to develop greater access and interactions between storytelling experts and Asian American residents\, as well as between Asian American stories and others. Come hear stories of resilience at Webster University\, Browning Hall auditorium\, 8274 Big Bend Blvd.\, St. Louis\, MO 63119.
URL:https://mohumanities.org/event/stories-of-resilience-an-asian-american-legacy/
LOCATION:Browning Hall Auditorium\, 8274 Big Bend Blvd.\, St. Louis
CATEGORIES:Around Our Community
ATTACH;FMTTYPE=image/png:https://mohumanities.org/wp-content/uploads/2026/01/Screenshot-2026-01-19-at-4.50.01-PM.png
END:VEVENT
BEGIN:VEVENT
DTSTART;TZID=America/Chicago:20260210T183000
DTEND;TZID=America/Chicago:20260210T193000
DTSTAMP:20260419T151316
CREATED:20260109T162703Z
LAST-MODIFIED:20260109T162703Z
UID:10002797-1770748200-1770751800@mohumanities.org
SUMMARY:Lecture\,"Missouri in 1861: The Rise and Fall of John and Jessie Fremont
DESCRIPTION:Gregory Wolk\, author of a new work of nonfiction published by the Missouri Historical Society Press\, describes the eventful 100 days in 1861 that western explorer John C. Fremont commanded the Western Department of the US Army from headquarters in St. Louis. An in-depth discussion of important military campaigns of the period is coupled with political intrigue when Fremont’s wife – the daughter of Missouri Senator Thomas Hart Benton – joins her husband’s fight against the powerful Francis Blair family of Washington and St. Louis in order to advance the cause of emancipation. In 1861\, President Abraham Lincoln resists the call for emancipation\, fearing that Missouri and Kentucky may join the Confederacy.
URL:https://mohumanities.org/event/lecturemissouri-in-1861-the-rise-and-fall-of-john-and-jessie-fremont/
LOCATION:The Orris theater\, 265 Merchant Street\, Ste. Genevieve\, 63670
CATEGORIES:Around Our Community
ATTACH;FMTTYPE=image/jpeg:https://mohumanities.org/wp-content/uploads/2026/01/image-for-calendar-rise-and-fall.jpg
ORGANIZER;CN="Sons of Union veterans":MAILTO:muellerrj13@yahoo.com
END:VEVENT
END:VCALENDAR